BEGIN:VCALENDAR
VERSION:2.0
PRODID:-//spbstu.ru//ical//RU
NAME:Расписание группы 4931102/40001
X-WR-CALNAME:Расписание группы 4931102/40001
TIMEZONE-ID:Europe/Moscow
X-WR-TIMEZONE:Europe/Moscow
BEGIN:VEVENT
UID:5qcq@192.168.245.71:3006
SEQUENCE:0
DTSTAMP:20260422T194747Z
DTSTART:20251222T110000Z
DTEND:20251222T140000Z
SUMMARY:Иностранный язык: Базовый курс
LOCATION:2 к. 353
END:VEVENT
BEGIN:VEVENT
UID:cd6u@192.168.245.71:3006
SEQUENCE:0
DTSTAMP:20260422T194747Z
DTSTART:20251223T100000Z
DTEND:20251223T130000Z
SUMMARY:Физика
LOCATION:ГЗ 227
END:VEVENT
BEGIN:VEVENT
UID:xdc5@192.168.245.71:3006
SEQUENCE:0
DTSTAMP:20260422T194747Z
DTSTART:20251223T100000Z
DTEND:20251223T130000Z
SUMMARY:Физика
LOCATION:ГЗ 229
END:VEVENT
BEGIN:VEVENT
UID:d6be@192.168.245.71:3006
SEQUENCE:0
DTSTAMP:20260422T194747Z
DTSTART:20251223T100000Z
DTEND:20251223T130000Z
SUMMARY:Физика
LOCATION:ГЗ 219
END:VEVENT
BEGIN:VEVENT
UID:ujqd@192.168.245.71:3006
SEQUENCE:0
DTSTAMP:20260422T194747Z
DTSTART:20251224T100000Z
DTEND:20251224T130000Z
SUMMARY:Электроника
LOCATION:2 к. 445
END:VEVENT
BEGIN:VEVENT
UID:rwsu@192.168.245.71:3006
SEQUENCE:0
DTSTAMP:20260422T194747Z
DTSTART:20251224T100000Z
DTEND:20251224T130000Z
SUMMARY:Электроника
LOCATION:2 к. 446
END:VEVENT
BEGIN:VEVENT
UID:9yee@192.168.245.71:3006
SEQUENCE:0
DTSTAMP:20260422T194747Z
DTSTART:20251224T100000Z
DTEND:20251224T130000Z
SUMMARY:Электроника
LOCATION:2 к. 446
END:VEVENT
BEGIN:VEVENT
UID:c9r6@192.168.245.71:3006
SEQUENCE:0
DTSTAMP:20260422T194747Z
DTSTART:20251225T070000Z
DTEND:20251225T083000Z
SUMMARY:Электроника
LOCATION:2 к. 431
END:VEVENT
BEGIN:VEVENT
UID:fzum@192.168.245.71:3006
SEQUENCE:0
DTSTAMP:20260422T194747Z
DTSTART:20251226T060000Z
DTEND:20251226T100000Z
SUMMARY:Электроника
LOCATION:2 к. 247
END:VEVENT
END:VCALENDAR