BEGIN:VCALENDAR
VERSION:2.0
PRODID:-//spbstu.ru//ical//RU
NAME:Расписание группы 4931102/40001
X-WR-CALNAME:Расписание группы 4931102/40001
TIMEZONE-ID:Europe/Moscow
X-WR-TIMEZONE:Europe/Moscow
BEGIN:VEVENT
UID:ld1y@192.168.245.71:3006
SEQUENCE:0
DTSTAMP:20260425T192106Z
DTSTART:20250929T070000Z
DTEND:20250929T084000Z
SUMMARY:Электроника
LOCATION:ГЗ 305
END:VEVENT
BEGIN:VEVENT
UID:9xie@192.168.245.71:3006
SEQUENCE:0
DTSTAMP:20260425T192106Z
DTSTART:20250929T090000Z
DTEND:20250929T104000Z
SUMMARY:Теория электрических цепей
LOCATION:ГЗ 305
END:VEVENT
BEGIN:VEVENT
UID:qr0a@192.168.245.71:3006
SEQUENCE:0
DTSTAMP:20260425T192106Z
DTSTART:20250929T110000Z
DTEND:20250929T124000Z
SUMMARY:История России
LOCATION:2 к. 224
END:VEVENT
BEGIN:VEVENT
UID:ymtu@192.168.245.71:3006
SEQUENCE:0
DTSTAMP:20260425T192106Z
DTSTART:20250929T130000Z
DTEND:20250929T144000Z
SUMMARY:Электроника
LOCATION:2 к. 445
END:VEVENT
BEGIN:VEVENT
UID:rsu2@192.168.245.71:3006
SEQUENCE:0
DTSTAMP:20260425T192106Z
DTSTART:20250929T130000Z
DTEND:20250929T144000Z
SUMMARY:Электроника
LOCATION:2 к. 446
END:VEVENT
BEGIN:VEVENT
UID:jka2@192.168.245.71:3006
SEQUENCE:0
DTSTAMP:20260425T192106Z
DTSTART:20250930T070000Z
DTEND:20250930T084000Z
SUMMARY:Математический анализ
LOCATION:ГЗ 257
END:VEVENT
BEGIN:VEVENT
UID:yw2d@192.168.245.71:3006
SEQUENCE:0
DTSTAMP:20260425T192106Z
DTSTART:20250930T090000Z
DTEND:20250930T104000Z
SUMMARY:Безопасность жизнедеятельности
LOCATION:ГК 104
END:VEVENT
BEGIN:VEVENT
UID:xdtm@192.168.245.71:3006
SEQUENCE:0
DTSTAMP:20260425T192106Z
DTSTART:20250930T110000Z
DTEND:20250930T124000Z
SUMMARY:Математический анализ
LOCATION:НИК В2.04
END:VEVENT
BEGIN:VEVENT
UID:8cyj@192.168.245.71:3006
SEQUENCE:0
DTSTAMP:20260425T192106Z
DTSTART:20250930T130000Z
DTEND:20250930T144000Z
SUMMARY:Физика
LOCATION:ГЗ 285
END:VEVENT
BEGIN:VEVENT
UID:eebz@192.168.245.71:3006
SEQUENCE:0
DTSTAMP:20260425T192106Z
DTSTART:20250930T130000Z
DTEND:20250930T144000Z
SUMMARY:Физика
LOCATION:ГЗ 285
END:VEVENT
BEGIN:VEVENT
UID:beie@192.168.245.71:3006
SEQUENCE:0
DTSTAMP:20260425T192106Z
DTSTART:20250930T130000Z
DTEND:20250930T144000Z
SUMMARY:Физика
LOCATION:ГЗ 285
END:VEVENT
BEGIN:VEVENT
UID:xqfc@192.168.245.71:3006
SEQUENCE:0
DTSTAMP:20260425T192106Z
DTSTART:20251001T070000Z
DTEND:20251001T084000Z
SUMMARY:Введение в моделирование технических задач
LOCATION:2 к. 247
END:VEVENT
BEGIN:VEVENT
UID:nsry@192.168.245.71:3006
SEQUENCE:0
DTSTAMP:20260425T192106Z
DTSTART:20251001T090000Z
DTEND:20251001T104000Z
SUMMARY:Элективная физическая культура и спорт
LOCATION:СК Спортивный зал
END:VEVENT
BEGIN:VEVENT
UID:ayva@192.168.245.71:3006
SEQUENCE:0
DTSTAMP:20260425T192106Z
DTSTART:20251001T110000Z
DTEND:20251001T124000Z
SUMMARY:Физика
LOCATION:ГЗ 324
END:VEVENT
BEGIN:VEVENT
UID:gkf7@192.168.245.71:3006
SEQUENCE:0
DTSTAMP:20260425T192106Z
DTSTART:20251001T130000Z
DTEND:20251001T144000Z
SUMMARY:Модуль саморазвития (SoftSkills)
LOCATION:Не опр. Нет
END:VEVENT
BEGIN:VEVENT
UID:4t1y@192.168.245.71:3006
SEQUENCE:0
DTSTAMP:20260425T192106Z
DTSTART:20251002T070000Z
DTEND:20251002T084000Z
SUMMARY:Теория электрических цепей
LOCATION:ГЗ 305
END:VEVENT
BEGIN:VEVENT
UID:u4so@192.168.245.71:3006
SEQUENCE:0
DTSTAMP:20260425T192106Z
DTSTART:20251002T090000Z
DTEND:20251002T104000Z
SUMMARY:Иностранный язык: Базовый курс
LOCATION:НИК В2.18
END:VEVENT
BEGIN:VEVENT
UID:x3v3@192.168.245.71:3006
SEQUENCE:0
DTSTAMP:20260425T192106Z
DTSTART:20251002T110000Z
DTEND:20251002T143000Z
SUMMARY:Теория электрических цепей
LOCATION:2 к. 240
END:VEVENT
BEGIN:VEVENT
UID:y39s@192.168.245.71:3006
SEQUENCE:0
DTSTAMP:20260425T192106Z
DTSTART:20251002T110000Z
DTEND:20251002T143000Z
SUMMARY:Теория электрических цепей
LOCATION:2 к. 240
END:VEVENT
BEGIN:VEVENT
UID:2buz@192.168.245.71:3006
SEQUENCE:0
DTSTAMP:20260425T192106Z
DTSTART:20251002T150000Z
DTEND:20251002T164000Z
SUMMARY:Факультатив по математике
LOCATION:НИК В2.02
END:VEVENT
BEGIN:VEVENT
UID:h6fd@192.168.245.71:3006
SEQUENCE:0
DTSTAMP:20260425T192106Z
DTSTART:20251003T070000Z
DTEND:20251003T084000Z
SUMMARY:Математический анализ
LOCATION:НИК В2.04
END:VEVENT
BEGIN:VEVENT
UID:eb8p@192.168.245.71:3006
SEQUENCE:0
DTSTAMP:20260425T192106Z
DTSTART:20251003T090000Z
DTEND:20251003T104000Z
SUMMARY:Физика
LOCATION:ГЗ 244
END:VEVENT
BEGIN:VEVENT
UID:ly5y@192.168.245.71:3006
SEQUENCE:0
DTSTAMP:20260425T192106Z
DTSTART:20251003T110000Z
DTEND:20251003T124000Z
SUMMARY:Физика
LOCATION:ГЗ 305
END:VEVENT
BEGIN:VEVENT
UID:2pvr@192.168.245.71:3006
SEQUENCE:0
DTSTAMP:20260425T192106Z
DTSTART:20251004T090000Z
DTEND:20251004T104000Z
SUMMARY:История России
LOCATION:ГЗ 305
END:VEVENT
BEGIN:VEVENT
UID:2hr2@192.168.245.71:3006
SEQUENCE:0
DTSTAMP:20260425T192106Z
DTSTART:20251004T110000Z
DTEND:20251004T124000Z
SUMMARY:Элективная физическая культура и спорт
LOCATION:СК Спортивный зал
END:VEVENT
END:VCALENDAR