BEGIN:VCALENDAR
VERSION:2.0
PRODID:-//spbstu.ru//ical//RU
NAME:Расписание группы 4931102/40002
X-WR-CALNAME:Расписание группы 4931102/40002
TIMEZONE-ID:Europe/Moscow
X-WR-TIMEZONE:Europe/Moscow
BEGIN:VEVENT
UID:17rb@192.168.245.71:3006
SEQUENCE:0
DTSTAMP:20260423T193048Z
DTSTART:20251013T070000Z
DTEND:20251013T084000Z
SUMMARY:Электроника
LOCATION:ГЗ 305
END:VEVENT
BEGIN:VEVENT
UID:uefs@192.168.245.71:3006
SEQUENCE:0
DTSTAMP:20260423T193048Z
DTSTART:20251013T090000Z
DTEND:20251013T104000Z
SUMMARY:Теория электрических цепей
LOCATION:ГЗ 305
END:VEVENT
BEGIN:VEVENT
UID:yhej@192.168.245.71:3006
SEQUENCE:0
DTSTAMP:20260423T193048Z
DTSTART:20251013T110000Z
DTEND:20251013T124000Z
SUMMARY:Иностранный язык: Базовый курс
LOCATION:НИК В2.04
END:VEVENT
BEGIN:VEVENT
UID:ei11@192.168.245.71:3006
SEQUENCE:0
DTSTAMP:20260423T193048Z
DTSTART:20251013T130000Z
DTEND:20251013T144000Z
SUMMARY:Физика
LOCATION:ГЗ 285
END:VEVENT
BEGIN:VEVENT
UID:dovu@192.168.245.71:3006
SEQUENCE:0
DTSTAMP:20260423T193048Z
DTSTART:20251013T130000Z
DTEND:20251013T144000Z
SUMMARY:Физика
LOCATION:ГЗ 285
END:VEVENT
BEGIN:VEVENT
UID:inc6@192.168.245.71:3006
SEQUENCE:0
DTSTAMP:20260423T193048Z
DTSTART:20251013T130000Z
DTEND:20251013T144000Z
SUMMARY:Физика
LOCATION:ГЗ 285
END:VEVENT
BEGIN:VEVENT
UID:m96b@192.168.245.71:3006
SEQUENCE:0
DTSTAMP:20260423T193048Z
DTSTART:20251014T070000Z
DTEND:20251014T084000Z
SUMMARY:Математический анализ
LOCATION:ГЗ 257
END:VEVENT
BEGIN:VEVENT
UID:4v68@192.168.245.71:3006
SEQUENCE:0
DTSTAMP:20260423T193048Z
DTSTART:20251014T090000Z
DTEND:20251014T104000Z
SUMMARY:Математический анализ
LOCATION:НИК В2.04
END:VEVENT
BEGIN:VEVENT
UID:zsb2@192.168.245.71:3006
SEQUENCE:0
DTSTAMP:20260423T193048Z
DTSTART:20251014T110000Z
DTEND:20251014T143000Z
SUMMARY:Теория электрических цепей
LOCATION:2 к. 240
END:VEVENT
BEGIN:VEVENT
UID:ao45@192.168.245.71:3006
SEQUENCE:0
DTSTAMP:20260423T193048Z
DTSTART:20251014T110000Z
DTEND:20251014T143000Z
SUMMARY:Теория электрических цепей
LOCATION:2 к. 240
END:VEVENT
BEGIN:VEVENT
UID:vf83@192.168.245.71:3006
SEQUENCE:0
DTSTAMP:20260423T193048Z
DTSTART:20251015T050000Z
DTEND:20251015T064000Z
SUMMARY:Введение в моделирование технических задач
LOCATION:2 к. 247
END:VEVENT
BEGIN:VEVENT
UID:n5xn@192.168.245.71:3006
SEQUENCE:0
DTSTAMP:20260423T193048Z
DTSTART:20251015T070000Z
DTEND:20251015T084000Z
SUMMARY:Физика
LOCATION:ГЗ 184
END:VEVENT
BEGIN:VEVENT
UID:8ttp@192.168.245.71:3006
SEQUENCE:0
DTSTAMP:20260423T193048Z
DTSTART:20251015T090000Z
DTEND:20251015T104000Z
SUMMARY:Элективная физическая культура и спорт
LOCATION:СК Спортивный зал
END:VEVENT
BEGIN:VEVENT
UID:5o6y@192.168.245.71:3006
SEQUENCE:0
DTSTAMP:20260423T193048Z
DTSTART:20251015T110000Z
DTEND:20251015T124000Z
SUMMARY:Физика
LOCATION:ГЗ 324
END:VEVENT
BEGIN:VEVENT
UID:xacv@192.168.245.71:3006
SEQUENCE:0
DTSTAMP:20260423T193048Z
DTSTART:20251015T130000Z
DTEND:20251015T144000Z
SUMMARY:Модуль саморазвития (SoftSkills)
LOCATION:Не опр. Нет
END:VEVENT
BEGIN:VEVENT
UID:7mf5@192.168.245.71:3006
SEQUENCE:0
DTSTAMP:20260423T193048Z
DTSTART:20251016T070000Z
DTEND:20251016T084000Z
SUMMARY:Теория электрических цепей
LOCATION:ГЗ 305
END:VEVENT
BEGIN:VEVENT
UID:7u0i@192.168.245.71:3006
SEQUENCE:0
DTSTAMP:20260423T193048Z
DTSTART:20251016T090000Z
DTEND:20251016T104000Z
SUMMARY:История России
LOCATION:2 к. 359
END:VEVENT
BEGIN:VEVENT
UID:34zf@192.168.245.71:3006
SEQUENCE:0
DTSTAMP:20260423T193048Z
DTSTART:20251016T110000Z
DTEND:20251016T124000Z
SUMMARY:Электроника
LOCATION:2 к. 445
END:VEVENT
BEGIN:VEVENT
UID:zbtt@192.168.245.71:3006
SEQUENCE:0
DTSTAMP:20260423T193048Z
DTSTART:20251016T110000Z
DTEND:20251016T124000Z
SUMMARY:Электроника
LOCATION:2 к. 446
END:VEVENT
BEGIN:VEVENT
UID:0tg2@192.168.245.71:3006
SEQUENCE:0
DTSTAMP:20260423T193048Z
DTSTART:20251016T150000Z
DTEND:20251016T164000Z
SUMMARY:Факультатив по математике
LOCATION:НИК В2.02
END:VEVENT
BEGIN:VEVENT
UID:fx9r@192.168.245.71:3006
SEQUENCE:0
DTSTAMP:20260423T193048Z
DTSTART:20251017T050000Z
DTEND:20251017T064000Z
SUMMARY:Иностранный язык: Русский язык как иностранный
LOCATION:16 к. 214
END:VEVENT
BEGIN:VEVENT
UID:twz2@192.168.245.71:3006
SEQUENCE:0
DTSTAMP:20260423T193048Z
DTSTART:20251017T090000Z
DTEND:20251017T104000Z
SUMMARY:Математический анализ
LOCATION:НИК В2.04
END:VEVENT
BEGIN:VEVENT
UID:vbyp@192.168.245.71:3006
SEQUENCE:0
DTSTAMP:20260423T193048Z
DTSTART:20251017T110000Z
DTEND:20251017T124000Z
SUMMARY:Физика
LOCATION:ГЗ 305
END:VEVENT
BEGIN:VEVENT
UID:sbfe@192.168.245.71:3006
SEQUENCE:0
DTSTAMP:20260423T193048Z
DTSTART:20251017T130000Z
DTEND:20251017T144000Z
SUMMARY:Безопасность жизнедеятельности
LOCATION:ГК 104
END:VEVENT
BEGIN:VEVENT
UID:m1i6@192.168.245.71:3006
SEQUENCE:0
DTSTAMP:20260423T193048Z
DTSTART:20251018T090000Z
DTEND:20251018T104000Z
SUMMARY:История России
LOCATION:ГЗ 305
END:VEVENT
BEGIN:VEVENT
UID:0y7q@192.168.245.71:3006
SEQUENCE:0
DTSTAMP:20260423T193048Z
DTSTART:20251018T110000Z
DTEND:20251018T124000Z
SUMMARY:Элективная физическая культура и спорт
LOCATION:СК Спортивный зал
END:VEVENT
END:VCALENDAR