BEGIN:VCALENDAR
VERSION:2.0
PRODID:-//spbstu.ru//ical//RU
NAME:Расписание группы 4931102/40002
X-WR-CALNAME:Расписание группы 4931102/40002
TIMEZONE-ID:Europe/Moscow
X-WR-TIMEZONE:Europe/Moscow
BEGIN:VEVENT
UID:kd9k@192.168.245.71:3006
SEQUENCE:0
DTSTAMP:20260423T173639Z
DTSTART:20251020T070000Z
DTEND:20251020T084000Z
SUMMARY:Электроника
LOCATION:ГЗ 305
END:VEVENT
BEGIN:VEVENT
UID:oma3@192.168.245.71:3006
SEQUENCE:0
DTSTAMP:20260423T173639Z
DTSTART:20251020T090000Z
DTEND:20251020T104000Z
SUMMARY:Теория электрических цепей
LOCATION:ГЗ 305
END:VEVENT
BEGIN:VEVENT
UID:7fff@192.168.245.71:3006
SEQUENCE:0
DTSTAMP:20260423T173639Z
DTSTART:20251020T110000Z
DTEND:20251020T124000Z
SUMMARY:Иностранный язык: Базовый курс
LOCATION:НИК В2.04
END:VEVENT
BEGIN:VEVENT
UID:q4fm@192.168.245.71:3006
SEQUENCE:0
DTSTAMP:20260423T173639Z
DTSTART:20251020T130000Z
DTEND:20251020T144000Z
SUMMARY:Физика
LOCATION:ГЗ 285
END:VEVENT
BEGIN:VEVENT
UID:ixhs@192.168.245.71:3006
SEQUENCE:0
DTSTAMP:20260423T173639Z
DTSTART:20251020T130000Z
DTEND:20251020T144000Z
SUMMARY:Физика
LOCATION:ГЗ 285
END:VEVENT
BEGIN:VEVENT
UID:r1fa@192.168.245.71:3006
SEQUENCE:0
DTSTAMP:20260423T173639Z
DTSTART:20251020T130000Z
DTEND:20251020T144000Z
SUMMARY:Физика
LOCATION:ГЗ 285
END:VEVENT
BEGIN:VEVENT
UID:yzm8@192.168.245.71:3006
SEQUENCE:0
DTSTAMP:20260423T173639Z
DTSTART:20251021T070000Z
DTEND:20251021T084000Z
SUMMARY:Математический анализ
LOCATION:ГЗ 305
END:VEVENT
BEGIN:VEVENT
UID:68vy@192.168.245.71:3006
SEQUENCE:0
DTSTAMP:20260423T173639Z
DTSTART:20251021T090000Z
DTEND:20251021T104000Z
SUMMARY:Теория электрических цепей
LOCATION:2 к. 411
END:VEVENT
BEGIN:VEVENT
UID:20dm@192.168.245.71:3006
SEQUENCE:0
DTSTAMP:20260423T173639Z
DTSTART:20251021T110000Z
DTEND:20251021T143000Z
SUMMARY:Теория электрических цепей
LOCATION:2 к. 240
END:VEVENT
BEGIN:VEVENT
UID:jkmq@192.168.245.71:3006
SEQUENCE:0
DTSTAMP:20260423T173639Z
DTSTART:20251022T050000Z
DTEND:20251022T064000Z
SUMMARY:Введение в моделирование технических задач
LOCATION:2 к. 247
END:VEVENT
BEGIN:VEVENT
UID:sdl7@192.168.245.71:3006
SEQUENCE:0
DTSTAMP:20260423T173639Z
DTSTART:20251022T070000Z
DTEND:20251022T084000Z
SUMMARY:Физика
LOCATION:ГЗ 184
END:VEVENT
BEGIN:VEVENT
UID:wv86@192.168.245.71:3006
SEQUENCE:0
DTSTAMP:20260423T173639Z
DTSTART:20251022T090000Z
DTEND:20251022T104000Z
SUMMARY:Элективная физическая культура и спорт
LOCATION:СК Спортивный зал
END:VEVENT
BEGIN:VEVENT
UID:3572@192.168.245.71:3006
SEQUENCE:0
DTSTAMP:20260423T173639Z
DTSTART:20251022T110000Z
DTEND:20251022T124000Z
SUMMARY:Физика
LOCATION:ГЗ 324
END:VEVENT
BEGIN:VEVENT
UID:8q14@192.168.245.71:3006
SEQUENCE:0
DTSTAMP:20260423T173639Z
DTSTART:20251022T130000Z
DTEND:20251022T144000Z
SUMMARY:Модуль саморазвития (SoftSkills)
LOCATION:Не опр. Нет
END:VEVENT
BEGIN:VEVENT
UID:guxr@192.168.245.71:3006
SEQUENCE:0
DTSTAMP:20260423T173639Z
DTSTART:20251023T050000Z
DTEND:20251023T064000Z
SUMMARY:Иностранный язык: Русский язык как иностранный
LOCATION:16 к. 214
END:VEVENT
BEGIN:VEVENT
UID:g7qp@192.168.245.71:3006
SEQUENCE:0
DTSTAMP:20260423T173639Z
DTSTART:20251023T070000Z
DTEND:20251023T084000Z
SUMMARY:Математический анализ
LOCATION:ГЗ 305
END:VEVENT
BEGIN:VEVENT
UID:gb5h@192.168.245.71:3006
SEQUENCE:0
DTSTAMP:20260423T173639Z
DTSTART:20251023T090000Z
DTEND:20251023T104000Z
SUMMARY:История России
LOCATION:2 к. 359
END:VEVENT
BEGIN:VEVENT
UID:on8o@192.168.245.71:3006
SEQUENCE:0
DTSTAMP:20260423T173639Z
DTSTART:20251023T110000Z
DTEND:20251023T124000Z
SUMMARY:Электроника
LOCATION:2 к. 445
END:VEVENT
BEGIN:VEVENT
UID:k3rg@192.168.245.71:3006
SEQUENCE:0
DTSTAMP:20260423T173639Z
DTSTART:20251023T110000Z
DTEND:20251023T124000Z
SUMMARY:Электроника
LOCATION:2 к. 446
END:VEVENT
BEGIN:VEVENT
UID:v546@192.168.245.71:3006
SEQUENCE:0
DTSTAMP:20260423T173639Z
DTSTART:20251024T050000Z
DTEND:20251024T064000Z
SUMMARY:Иностранный язык: Русский язык как иностранный
LOCATION:16 к. 214
END:VEVENT
BEGIN:VEVENT
UID:8jv3@192.168.245.71:3006
SEQUENCE:0
DTSTAMP:20260423T173639Z
DTSTART:20251024T070000Z
DTEND:20251024T084000Z
SUMMARY:Безопасность жизнедеятельности
LOCATION:ГК 119
END:VEVENT
BEGIN:VEVENT
UID:yyc2@192.168.245.71:3006
SEQUENCE:0
DTSTAMP:20260423T173639Z
DTSTART:20251024T070000Z
DTEND:20251024T084000Z
SUMMARY:Безопасность жизнедеятельности
LOCATION:ГК 119
END:VEVENT
BEGIN:VEVENT
UID:wn77@192.168.245.71:3006
SEQUENCE:0
DTSTAMP:20260423T173639Z
DTSTART:20251024T090000Z
DTEND:20251024T104000Z
SUMMARY:Математический анализ
LOCATION:НИК В2.04
END:VEVENT
BEGIN:VEVENT
UID:xosh@192.168.245.71:3006
SEQUENCE:0
DTSTAMP:20260423T173639Z
DTSTART:20251024T110000Z
DTEND:20251024T124000Z
SUMMARY:Физика
LOCATION:ГЗ 305
END:VEVENT
BEGIN:VEVENT
UID:ymtw@192.168.245.71:3006
SEQUENCE:0
DTSTAMP:20260423T173639Z
DTSTART:20251024T130000Z
DTEND:20251024T144000Z
SUMMARY:Безопасность жизнедеятельности
LOCATION:ГК 104
END:VEVENT
BEGIN:VEVENT
UID:tqhy@192.168.245.71:3006
SEQUENCE:0
DTSTAMP:20260423T173639Z
DTSTART:20251025T110000Z
DTEND:20251025T124000Z
SUMMARY:Элективная физическая культура и спорт
LOCATION:СК Спортивный зал
END:VEVENT
END:VCALENDAR