BEGIN:VCALENDAR
VERSION:2.0
PRODID:-//spbstu.ru//ical//RU
NAME:Расписание группы 4931601/40002
X-WR-CALNAME:Расписание группы 4931601/40002
TIMEZONE-ID:Europe/Moscow
X-WR-TIMEZONE:Europe/Moscow
BEGIN:VEVENT
UID:hj9y@192.168.245.71:3006
SEQUENCE:0
DTSTAMP:20260421T143945Z
DTSTART:20260209T090000Z
DTEND:20260209T104000Z
SUMMARY:Теория вычислительных систем
LOCATION:2 к. 359
END:VEVENT
BEGIN:VEVENT
UID:nnwr@192.168.245.71:3006
SEQUENCE:0
DTSTAMP:20260421T143945Z
DTSTART:20260209T110000Z
DTEND:20260209T124000Z
SUMMARY:Радиотехнические цепи и сигналы
LOCATION:2 к. 470
END:VEVENT
BEGIN:VEVENT
UID:l6rg@192.168.245.71:3006
SEQUENCE:0
DTSTAMP:20260421T143945Z
DTSTART:20260210T090000Z
DTEND:20260210T104000Z
SUMMARY:Математический анализ
LOCATION:2 к. 430а
END:VEVENT
BEGIN:VEVENT
UID:p4qj@192.168.245.71:3006
SEQUENCE:0
DTSTAMP:20260421T143945Z
DTSTART:20260210T110000Z
DTEND:20260210T124000Z
SUMMARY:Численные методы
LOCATION:2 к. 416
END:VEVENT
BEGIN:VEVENT
UID:csj7@192.168.245.71:3006
SEQUENCE:0
DTSTAMP:20260421T143945Z
DTSTART:20260210T130000Z
DTEND:20260210T144000Z
SUMMARY:Иностранный язык. Профессионально-ориентированный курс
LOCATION:2 к. 213
END:VEVENT
BEGIN:VEVENT
UID:g046@192.168.245.71:3006
SEQUENCE:0
DTSTAMP:20260421T143945Z
DTSTART:20260211T070000Z
DTEND:20260211T084000Z
SUMMARY:Атомная физика
LOCATION:НИК В2.02
END:VEVENT
BEGIN:VEVENT
UID:sn19@192.168.245.71:3006
SEQUENCE:0
DTSTAMP:20260421T143945Z
DTSTART:20260211T090000Z
DTEND:20260211T104000Z
SUMMARY:Элективная физическая культура и спорт
LOCATION:СК Спортивный зал
END:VEVENT
BEGIN:VEVENT
UID:5vfj@192.168.245.71:3006
SEQUENCE:0
DTSTAMP:20260421T143945Z
DTSTART:20260211T130000Z
DTEND:20260211T144000Z
SUMMARY:Математический анализ
LOCATION:2 к. 431
END:VEVENT
BEGIN:VEVENT
UID:4lem@192.168.245.71:3006
SEQUENCE:0
DTSTAMP:20260421T143945Z
DTSTART:20260212T070000Z
DTEND:20260212T084000Z
SUMMARY:Механика
LOCATION:2 к. 470
END:VEVENT
BEGIN:VEVENT
UID:4m4u@192.168.245.71:3006
SEQUENCE:0
DTSTAMP:20260421T143945Z
DTSTART:20260212T090000Z
DTEND:20260212T104000Z
SUMMARY:Радиотехнические цепи и сигналы
LOCATION:2 к. 470
END:VEVENT
BEGIN:VEVENT
UID:fnh8@192.168.245.71:3006
SEQUENCE:0
DTSTAMP:20260421T143945Z
DTSTART:20260212T130000Z
DTEND:20260212T144000Z
SUMMARY:Основы проектной деятельности
LOCATION:2 к. 224
END:VEVENT
BEGIN:VEVENT
UID:kan5@192.168.245.71:3006
SEQUENCE:0
DTSTAMP:20260421T143945Z
DTSTART:20260212T150000Z
DTEND:20260212T170000Z
SUMMARY:Иностранный язык: Базовый курс
LOCATION:ГЗ 280
END:VEVENT
BEGIN:VEVENT
UID:tqmb@192.168.245.71:3006
SEQUENCE:0
DTSTAMP:20260421T143945Z
DTSTART:20260213T070000Z
DTEND:20260213T084000Z
SUMMARY:Численные методы
LOCATION:2 к. 470
END:VEVENT
BEGIN:VEVENT
UID:egng@192.168.245.71:3006
SEQUENCE:0
DTSTAMP:20260421T143945Z
DTSTART:20260213T090000Z
DTEND:20260213T104000Z
SUMMARY:Радиотехнические цепи и сигналы
LOCATION:2 к. 431
END:VEVENT
BEGIN:VEVENT
UID:3rq9@192.168.245.71:3006
SEQUENCE:0
DTSTAMP:20260421T143945Z
DTSTART:20260213T150000Z
DTEND:20260213T170000Z
SUMMARY:История России
LOCATION:НИК В2.02
END:VEVENT
BEGIN:VEVENT
UID:ohfo@192.168.245.71:3006
SEQUENCE:0
DTSTAMP:20260421T143945Z
DTSTART:20260214T090000Z
DTEND:20260214T104000Z
SUMMARY:Математический анализ
LOCATION:ГЗ 122
END:VEVENT
BEGIN:VEVENT
UID:rkom@192.168.245.71:3006
SEQUENCE:0
DTSTAMP:20260421T143945Z
DTSTART:20260214T110000Z
DTEND:20260214T124000Z
SUMMARY:Элективная физическая культура и спорт
LOCATION:СК Спортивный зал
END:VEVENT
END:VCALENDAR