BEGIN:VCALENDAR
VERSION:2.0
PRODID:-//spbstu.ru//ical//RU
NAME:Расписание группы 4931601/40002
X-WR-CALNAME:Расписание группы 4931601/40002
TIMEZONE-ID:Europe/Moscow
X-WR-TIMEZONE:Europe/Moscow
BEGIN:VEVENT
UID:301r@192.168.245.71:3006
SEQUENCE:0
DTSTAMP:20260421T030037Z
DTSTART:20260316T090000Z
DTEND:20260316T104000Z
SUMMARY:Теория вычислительных систем
LOCATION:2 к. 359
END:VEVENT
BEGIN:VEVENT
UID:9wlm@192.168.245.71:3006
SEQUENCE:0
DTSTAMP:20260421T030037Z
DTSTART:20260316T110000Z
DTEND:20260316T124000Z
SUMMARY:Радиотехнические цепи и сигналы
LOCATION:2 к. 470
END:VEVENT
BEGIN:VEVENT
UID:rwce@192.168.245.71:3006
SEQUENCE:0
DTSTAMP:20260421T030037Z
DTSTART:20260317T070000Z
DTEND:20260317T103000Z
SUMMARY:Радиотехнические цепи и сигналы
LOCATION:2 к. 240
END:VEVENT
BEGIN:VEVENT
UID:pc0f@192.168.245.71:3006
SEQUENCE:0
DTSTAMP:20260421T030037Z
DTSTART:20260317T070000Z
DTEND:20260317T103000Z
SUMMARY:Радиотехнические цепи и сигналы
LOCATION:2 к. 240
END:VEVENT
BEGIN:VEVENT
UID:0isr@192.168.245.71:3006
SEQUENCE:0
DTSTAMP:20260421T030037Z
DTSTART:20260317T110000Z
DTEND:20260317T124000Z
SUMMARY:Численные методы
LOCATION:2 к. 416
END:VEVENT
BEGIN:VEVENT
UID:2u8b@192.168.245.71:3006
SEQUENCE:0
DTSTAMP:20260421T030037Z
DTSTART:20260317T150000Z
DTEND:20260317T160000Z
SUMMARY:Инженерная и компьютерная графика
LOCATION:2 к. 416
END:VEVENT
BEGIN:VEVENT
UID:8sxn@192.168.245.71:3006
SEQUENCE:0
DTSTAMP:20260421T030037Z
DTSTART:20260318T070000Z
DTEND:20260318T084000Z
SUMMARY:Атомная физика
LOCATION:НИК В2.02
END:VEVENT
BEGIN:VEVENT
UID:gb5j@192.168.245.71:3006
SEQUENCE:0
DTSTAMP:20260421T030037Z
DTSTART:20260318T090000Z
DTEND:20260318T104000Z
SUMMARY:Элективная физическая культура и спорт
LOCATION:СК Спортивный зал
END:VEVENT
BEGIN:VEVENT
UID:mku9@192.168.245.71:3006
SEQUENCE:0
DTSTAMP:20260421T030037Z
DTSTART:20260318T110000Z
DTEND:20260318T124000Z
SUMMARY:Атомная физика
LOCATION:2 к. 209
END:VEVENT
BEGIN:VEVENT
UID:mfl1@192.168.245.71:3006
SEQUENCE:0
DTSTAMP:20260421T030037Z
DTSTART:20260318T130000Z
DTEND:20260318T144000Z
SUMMARY:Математический анализ
LOCATION:2 к. 431
END:VEVENT
BEGIN:VEVENT
UID:i5w1@192.168.245.71:3006
SEQUENCE:0
DTSTAMP:20260421T030037Z
DTSTART:20260319T110000Z
DTEND:20260319T124000Z
SUMMARY:Механика
LOCATION:2 к. 454
END:VEVENT
BEGIN:VEVENT
UID:hftb@192.168.245.71:3006
SEQUENCE:0
DTSTAMP:20260421T030037Z
DTSTART:20260319T130000Z
DTEND:20260319T144000Z
SUMMARY:Математический анализ
LOCATION:ГЗ 329
END:VEVENT
BEGIN:VEVENT
UID:ym50@192.168.245.71:3006
SEQUENCE:0
DTSTAMP:20260421T030037Z
DTSTART:20260319T150000Z
DTEND:20260319T164000Z
SUMMARY:Механика
LOCATION:ГЗ 329
END:VEVENT
BEGIN:VEVENT
UID:xvxm@192.168.245.71:3006
SEQUENCE:0
DTSTAMP:20260421T030037Z
DTSTART:20260320T070000Z
DTEND:20260320T084000Z
SUMMARY:Численные методы
LOCATION:2 к. 470
END:VEVENT
BEGIN:VEVENT
UID:ms0b@192.168.245.71:3006
SEQUENCE:0
DTSTAMP:20260421T030037Z
DTSTART:20260320T090000Z
DTEND:20260320T104000Z
SUMMARY:Цифровая аналитика
LOCATION:2 к. 416
END:VEVENT
BEGIN:VEVENT
UID:z04n@192.168.245.71:3006
SEQUENCE:0
DTSTAMP:20260421T030037Z
DTSTART:20260320T110000Z
DTEND:20260320T124000Z
SUMMARY:Атомная физика
LOCATION:НИК В2.02
END:VEVENT
BEGIN:VEVENT
UID:e1d7@192.168.245.71:3006
SEQUENCE:0
DTSTAMP:20260421T030037Z
DTSTART:20260321T090000Z
DTEND:20260321T104000Z
SUMMARY:Математический анализ
LOCATION:ГЗ 122
END:VEVENT
BEGIN:VEVENT
UID:m4lk@192.168.245.71:3006
SEQUENCE:0
DTSTAMP:20260421T030037Z
DTSTART:20260321T110000Z
DTEND:20260321T124000Z
SUMMARY:Элективная физическая культура и спорт
LOCATION:СК Спортивный зал
END:VEVENT
END:VCALENDAR