BEGIN:VCALENDAR
VERSION:2.0
PRODID:-//spbstu.ru//ical//RU
NAME:Расписание группы 4931601/40002
X-WR-CALNAME:Расписание группы 4931601/40002
TIMEZONE-ID:Europe/Moscow
X-WR-TIMEZONE:Europe/Moscow
BEGIN:VEVENT
UID:bd4u@192.168.245.71:3006
SEQUENCE:0
DTSTAMP:20260421T004624Z
DTSTART:20260323T090000Z
DTEND:20260323T104000Z
SUMMARY:Теория вычислительных систем
LOCATION:2 к. 359
END:VEVENT
BEGIN:VEVENT
UID:mxit@192.168.245.71:3006
SEQUENCE:0
DTSTAMP:20260421T004624Z
DTSTART:20260323T110000Z
DTEND:20260323T124000Z
SUMMARY:Радиотехнические цепи и сигналы
LOCATION:2 к. 470
END:VEVENT
BEGIN:VEVENT
UID:b6y6@192.168.245.71:3006
SEQUENCE:0
DTSTAMP:20260421T004624Z
DTSTART:20260324T090000Z
DTEND:20260324T104000Z
SUMMARY:Математический анализ
LOCATION:2 к. 430а
END:VEVENT
BEGIN:VEVENT
UID:hq6t@192.168.245.71:3006
SEQUENCE:0
DTSTAMP:20260421T004624Z
DTSTART:20260324T110000Z
DTEND:20260324T124000Z
SUMMARY:Численные методы
LOCATION:2 к. 416
END:VEVENT
BEGIN:VEVENT
UID:0eka@192.168.245.71:3006
SEQUENCE:0
DTSTAMP:20260421T004624Z
DTSTART:20260324T130000Z
DTEND:20260324T144000Z
SUMMARY:Иностранный язык. Профессионально-ориентированный курс
LOCATION:2 к. 213
END:VEVENT
BEGIN:VEVENT
UID:cnr7@192.168.245.71:3006
SEQUENCE:0
DTSTAMP:20260421T004624Z
DTSTART:20260325T070000Z
DTEND:20260325T084000Z
SUMMARY:Атомная физика
LOCATION:НИК В2.02
END:VEVENT
BEGIN:VEVENT
UID:rztt@192.168.245.71:3006
SEQUENCE:0
DTSTAMP:20260421T004624Z
DTSTART:20260325T090000Z
DTEND:20260325T104000Z
SUMMARY:Элективная физическая культура и спорт
LOCATION:СК Спортивный зал
END:VEVENT
BEGIN:VEVENT
UID:sq9c@192.168.245.71:3006
SEQUENCE:0
DTSTAMP:20260421T004624Z
DTSTART:20260325T130000Z
DTEND:20260325T144000Z
SUMMARY:Математический анализ
LOCATION:2 к. 431
END:VEVENT
BEGIN:VEVENT
UID:pcse@192.168.245.71:3006
SEQUENCE:0
DTSTAMP:20260421T004624Z
DTSTART:20260325T150000Z
DTEND:20260325T160000Z
SUMMARY:Электронные приборы
LOCATION:2 к. 446
END:VEVENT
BEGIN:VEVENT
UID:w80p@192.168.245.71:3006
SEQUENCE:0
DTSTAMP:20260421T004624Z
DTSTART:20260326T070000Z
DTEND:20260326T084000Z
SUMMARY:Механика
LOCATION:2 к. 470
END:VEVENT
BEGIN:VEVENT
UID:q394@192.168.245.71:3006
SEQUENCE:0
DTSTAMP:20260421T004624Z
DTSTART:20260326T090000Z
DTEND:20260326T104000Z
SUMMARY:Радиотехнические цепи и сигналы
LOCATION:2 к. 470
END:VEVENT
BEGIN:VEVENT
UID:9mdo@192.168.245.71:3006
SEQUENCE:0
DTSTAMP:20260421T004624Z
DTSTART:20260327T070000Z
DTEND:20260327T084000Z
SUMMARY:Численные методы
LOCATION:2 к. 470
END:VEVENT
BEGIN:VEVENT
UID:sv73@192.168.245.71:3006
SEQUENCE:0
DTSTAMP:20260421T004624Z
DTSTART:20260327T090000Z
DTEND:20260327T104000Z
SUMMARY:Радиотехнические цепи и сигналы
LOCATION:2 к. 431
END:VEVENT
BEGIN:VEVENT
UID:9nak@192.168.245.71:3006
SEQUENCE:0
DTSTAMP:20260421T004624Z
DTSTART:20260328T090000Z
DTEND:20260328T104000Z
SUMMARY:Математический анализ
LOCATION:ГЗ 122
END:VEVENT
BEGIN:VEVENT
UID:ndfi@192.168.245.71:3006
SEQUENCE:0
DTSTAMP:20260421T004624Z
DTSTART:20260328T110000Z
DTEND:20260328T124000Z
SUMMARY:Элективная физическая культура и спорт
LOCATION:СК Спортивный зал
END:VEVENT
BEGIN:VEVENT
UID:r12c@192.168.245.71:3006
SEQUENCE:0
DTSTAMP:20260421T004624Z
DTSTART:20260328T130000Z
DTEND:20260328T150000Z
SUMMARY:Иностранный язык: Базовый курс
LOCATION:ГЗ 224
END:VEVENT
END:VCALENDAR