BEGIN:VCALENDAR
VERSION:2.0
PRODID:-//spbstu.ru//ical//RU
NAME:Расписание группы 4941102/40801
X-WR-CALNAME:Расписание группы 4941102/40801
TIMEZONE-ID:Europe/Moscow
X-WR-TIMEZONE:Europe/Moscow
BEGIN:VEVENT
UID:155a@192.168.245.71:3006
SEQUENCE:0
DTSTAMP:20260425T013349Z
DTSTART:20251110T130000Z
DTEND:20251110T144000Z
SUMMARY:Инструменты автоматизации сетей связи
LOCATION:2 к. 249
END:VEVENT
BEGIN:VEVENT
UID:5xez@192.168.245.71:3006
SEQUENCE:0
DTSTAMP:20260425T013349Z
DTSTART:20251110T150000Z
DTEND:20251110T164000Z
SUMMARY:Проектирование и строительство сетей связи
LOCATION:2 к. 452
END:VEVENT
BEGIN:VEVENT
UID:soz9@192.168.245.71:3006
SEQUENCE:0
DTSTAMP:20260425T013349Z
DTSTART:20251110T170000Z
DTEND:20251110T184000Z
SUMMARY:Проектирование и строительство сетей связи
LOCATION:2 к. 452
END:VEVENT
BEGIN:VEVENT
UID:er5t@192.168.245.71:3006
SEQUENCE:0
DTSTAMP:20260425T013349Z
DTSTART:20251112T070000Z
DTEND:20251112T084000Z
SUMMARY:Проектная деятельность на предприятиях нефтегазовой отрасли
LOCATION:2 к. каф.
END:VEVENT
BEGIN:VEVENT
UID:5h3s@192.168.245.71:3006
SEQUENCE:0
DTSTAMP:20260425T013349Z
DTSTART:20251113T050000Z
DTEND:20251113T064000Z
SUMMARY:Карьерная адаптивность: Технологии удаленного доступа к данным
LOCATION:DL Дистанционно
END:VEVENT
BEGIN:VEVENT
UID:5ghn@192.168.245.71:3006
SEQUENCE:0
DTSTAMP:20260425T013349Z
DTSTART:20251113T070000Z
DTEND:20251113T084000Z
SUMMARY:Технологическая (проектно-технологическая) практика
LOCATION:2 к. каф.
END:VEVENT
BEGIN:VEVENT
UID:fpbj@192.168.245.71:3006
SEQUENCE:0
DTSTAMP:20260425T013349Z
DTSTART:20251115T070000Z
DTEND:20251115T084000Z
SUMMARY:Управление проектами и продуктами
LOCATION:50 уч.к 1202 ГПН\, лекционная
END:VEVENT
BEGIN:VEVENT
UID:s2jq@192.168.245.71:3006
SEQUENCE:0
DTSTAMP:20260425T013349Z
DTSTART:20251115T090000Z
DTEND:20251115T104000Z
SUMMARY:Управление проектами и продуктами
LOCATION:50 уч.к 1202 ГПН\, лекционная
END:VEVENT
END:VCALENDAR