BEGIN:VCALENDAR
VERSION:2.0
PRODID:-//spbstu.ru//ical//RU
NAME:Расписание группы 4941104/40601
X-WR-CALNAME:Расписание группы 4941104/40601
TIMEZONE-ID:Europe/Moscow
X-WR-TIMEZONE:Europe/Moscow
BEGIN:VEVENT
UID:o8nx@192.168.245.71:3006
SEQUENCE:0
DTSTAMP:20260424T084746Z
DTSTART:20251216T070000Z
DTEND:20251216T084000Z
SUMMARY:Проектирование микроэлектромеханических устройств
LOCATION:Выездное на территории Заказчика
END:VEVENT
BEGIN:VEVENT
UID:04ju@192.168.245.71:3006
SEQUENCE:0
DTSTAMP:20260424T084746Z
DTSTART:20251216T090000Z
DTEND:20251216T104000Z
SUMMARY:Проектирование микроэлектромеханических устройств
LOCATION:Выездное на территории Заказчика
END:VEVENT
BEGIN:VEVENT
UID:bf4r@192.168.245.71:3006
SEQUENCE:0
DTSTAMP:20260424T084746Z
DTSTART:20251216T110000Z
DTEND:20251216T124000Z
SUMMARY:Проектирование микроэлектромеханических устройств
LOCATION:Выездное на территории Заказчика
END:VEVENT
BEGIN:VEVENT
UID:qyjy@192.168.245.71:3006
SEQUENCE:0
DTSTAMP:20260424T084746Z
DTSTART:20251216T130000Z
DTEND:20251216T144000Z
SUMMARY:Проектирование микроэлектромеханических устройств
LOCATION:Выездное на территории Заказчика
END:VEVENT
BEGIN:VEVENT
UID:7eay@192.168.245.71:3006
SEQUENCE:0
DTSTAMP:20260424T084746Z
DTSTART:20251217T070000Z
DTEND:20251217T100000Z
SUMMARY:Материалы микро- и наноэлектроники
LOCATION:2 к. 458
END:VEVENT
BEGIN:VEVENT
UID:umna@192.168.245.71:3006
SEQUENCE:0
DTSTAMP:20260424T084746Z
DTSTART:20251218T130000Z
DTEND:20251218T160000Z
SUMMARY:Элементы и устройства наноэлектроники
LOCATION:2 к. 458
END:VEVENT
END:VCALENDAR