BEGIN:VCALENDAR
VERSION:2.0
PRODID:-//spbstu.ru//ical//RU
NAME:Расписание группы 4941104/40701
X-WR-CALNAME:Расписание группы 4941104/40701
TIMEZONE-ID:Europe/Moscow
X-WR-TIMEZONE:Europe/Moscow
BEGIN:VEVENT
UID:jrik@192.168.245.71:3006
SEQUENCE:0
DTSTAMP:20260423T143401Z
DTSTART:20251222T070000Z
DTEND:20251222T100000Z
SUMMARY:Автоматизированная разработка устройств на ПЛИС
LOCATION:2 к. 466
END:VEVENT
BEGIN:VEVENT
UID:0re0@192.168.245.71:3006
SEQUENCE:0
DTSTAMP:20260423T143401Z
DTSTART:20251223T090000Z
DTEND:20251223T100000Z
SUMMARY:Карьерная адаптивность
LOCATION:2 к. 466
END:VEVENT
BEGIN:VEVENT
UID:bo2e@192.168.245.71:3006
SEQUENCE:0
DTSTAMP:20260423T143401Z
DTSTART:20251223T130000Z
DTEND:20251223T160000Z
SUMMARY:Проектирование микроэлектронных частотно-избирательных устройств
LOCATION:2 к. 458
END:VEVENT
BEGIN:VEVENT
UID:i4c0@192.168.245.71:3006
SEQUENCE:0
DTSTAMP:20260423T143401Z
DTSTART:20251225T070000Z
DTEND:20251225T100000Z
SUMMARY:Проектирование пассивных микроэлектронных устройств СВЧ
LOCATION:2 к. 466
END:VEVENT
END:VCALENDAR