BEGIN:VCALENDAR
VERSION:2.0
PRODID:-//spbstu.ru//ical//RU
NAME:Расписание группы 4941601/40201
X-WR-CALNAME:Расписание группы 4941601/40201
TIMEZONE-ID:Europe/Moscow
X-WR-TIMEZONE:Europe/Moscow
BEGIN:VEVENT
UID:33ke@192.168.245.71:3006
SEQUENCE:0
DTSTAMP:20260423T044349Z
DTSTART:20260121T070000Z
DTEND:20260121T083000Z
SUMMARY:Ядерно-физические методы в физике твердого тела
LOCATION:DL Дистанционно
END:VEVENT
BEGIN:VEVENT
UID:2dke@192.168.245.71:3006
SEQUENCE:0
DTSTAMP:20260423T044349Z
DTSTART:20260122T070000Z
DTEND:20260122T130000Z
SUMMARY:Ядерно-физические методы в физике твердого тела
LOCATION:2 к. 411
END:VEVENT
END:VCALENDAR