BEGIN:VCALENDAR
VERSION:2.0
PRODID:-//spbstu.ru//ical//RU
NAME:Расписание группы 4931101/30101
X-WR-CALNAME:Расписание группы 4931101/30101
TIMEZONE-ID:Europe/Moscow
X-WR-TIMEZONE:Europe/Moscow
BEGIN:VEVENT
UID:qgu0@192.168.245.71:3006
SEQUENCE:0
DTSTAMP:20260421T090512Z
DTSTART:20260302T053500Z
DTEND:20260302T142500Z
SUMMARY:Военная подготовка
LOCATION:Военная каф. кафедра
END:VEVENT
BEGIN:VEVENT
UID:kbz3@192.168.245.71:3006
SEQUENCE:0
DTSTAMP:20260421T090512Z
DTSTART:20260303T070000Z
DTEND:20260303T093000Z
SUMMARY:Лабораторный практикум по схемотехнике аналоговых и цифровых устро
 йств
LOCATION:2 к. каф.
END:VEVENT
BEGIN:VEVENT
UID:la0u@192.168.245.71:3006
SEQUENCE:0
DTSTAMP:20260421T090512Z
DTSTART:20260303T110000Z
DTEND:20260303T120000Z
SUMMARY:Лабораторный практикум по моделированию в области радиотехники и т
 елекоммуникаций
LOCATION:2 к. каф.
END:VEVENT
BEGIN:VEVENT
UID:oezm@192.168.245.71:3006
SEQUENCE:0
DTSTAMP:20260421T090512Z
DTSTART:20260303T130000Z
DTEND:20260303T144000Z
SUMMARY:Анализ информации в интеллектуальных системах
LOCATION:2 к. 359
END:VEVENT
BEGIN:VEVENT
UID:bsaz@192.168.245.71:3006
SEQUENCE:0
DTSTAMP:20260421T090512Z
DTSTART:20260303T150000Z
DTEND:20260303T164000Z
SUMMARY:Лабораторный практикум по моделированию в области радиотехники и т
 елекоммуникаций
LOCATION:2 к. 359
END:VEVENT
BEGIN:VEVENT
UID:mt9n@192.168.245.71:3006
SEQUENCE:0
DTSTAMP:20260421T090512Z
DTSTART:20260303T150000Z
DTEND:20260303T170000Z
SUMMARY:Цифровые устройства и микропроцессоры
LOCATION:2 к. 253
END:VEVENT
BEGIN:VEVENT
UID:d7pa@192.168.245.71:3006
SEQUENCE:0
DTSTAMP:20260421T090512Z
DTSTART:20260304T070000Z
DTEND:20260304T084000Z
SUMMARY:Общая теория связи
LOCATION:2 к. 470
END:VEVENT
BEGIN:VEVENT
UID:a8o6@192.168.245.71:3006
SEQUENCE:0
DTSTAMP:20260421T090512Z
DTSTART:20260304T090000Z
DTEND:20260304T104000Z
SUMMARY:Цифровая обработка сигналов
LOCATION:2 к. 470
END:VEVENT
BEGIN:VEVENT
UID:xpuh@192.168.245.71:3006
SEQUENCE:0
DTSTAMP:20260421T090512Z
DTSTART:20260304T110000Z
DTEND:20260304T124000Z
SUMMARY:Общая теория связи
LOCATION:2 к. 452
END:VEVENT
BEGIN:VEVENT
UID:kdss@192.168.245.71:3006
SEQUENCE:0
DTSTAMP:20260421T090512Z
DTSTART:20260304T130000Z
DTEND:20260304T144000Z
SUMMARY:Общая теория связи
LOCATION:2 к. 443
END:VEVENT
BEGIN:VEVENT
UID:arj5@192.168.245.71:3006
SEQUENCE:0
DTSTAMP:20260421T090512Z
DTSTART:20260305T070000Z
DTEND:20260305T084000Z
SUMMARY:Цифровая обработка сигналов
LOCATION:2 к. 344
END:VEVENT
BEGIN:VEVENT
UID:zn5x@192.168.245.71:3006
SEQUENCE:0
DTSTAMP:20260421T090512Z
DTSTART:20260305T070000Z
DTEND:20260305T084000Z
SUMMARY:Основы компьютерного проектирования и моделирования радиоэлектронн
 ых средств
LOCATION:2 к. 249
END:VEVENT
BEGIN:VEVENT
UID:uiu1@192.168.245.71:3006
SEQUENCE:0
DTSTAMP:20260421T090512Z
DTSTART:20260305T090000Z
DTEND:20260305T104000Z
SUMMARY:Основы компьютерного проектирования и моделирования радиоэлектронн
 ых средств
LOCATION:2 к. 249
END:VEVENT
BEGIN:VEVENT
UID:4fy4@192.168.245.71:3006
SEQUENCE:0
DTSTAMP:20260421T090512Z
DTSTART:20260305T090000Z
DTEND:20260305T104000Z
SUMMARY:Цифровая обработка сигналов
LOCATION:2 к. 344
END:VEVENT
BEGIN:VEVENT
UID:d3dx@192.168.245.71:3006
SEQUENCE:0
DTSTAMP:20260421T090512Z
DTSTART:20260305T110000Z
DTEND:20260305T124000Z
SUMMARY:Метрология и радиоизмерения
LOCATION:2 к. 470
END:VEVENT
BEGIN:VEVENT
UID:cwqc@192.168.245.71:3006
SEQUENCE:0
DTSTAMP:20260421T090512Z
DTSTART:20260305T130000Z
DTEND:20260305T144000Z
SUMMARY:Основы компьютерного проектирования и моделирования радиоэлектронн
 ых средств
LOCATION:2 к. 470
END:VEVENT
BEGIN:VEVENT
UID:gmp0@192.168.245.71:3006
SEQUENCE:0
DTSTAMP:20260421T090512Z
DTSTART:20260306T070000Z
DTEND:20260306T103000Z
SUMMARY:Метрология и радиоизмерения
LOCATION:2 к. 233
END:VEVENT
BEGIN:VEVENT
UID:7ofa@192.168.245.71:3006
SEQUENCE:0
DTSTAMP:20260421T090512Z
DTSTART:20260306T110000Z
DTEND:20260306T133000Z
SUMMARY:Цифровые устройства и микропроцессоры
LOCATION:2 к. 253
END:VEVENT
BEGIN:VEVENT
UID:j138@192.168.245.71:3006
SEQUENCE:0
DTSTAMP:20260421T090512Z
DTSTART:20260306T110000Z
DTEND:20260306T133000Z
SUMMARY:Цифровые устройства и микропроцессоры
LOCATION:2 к. 249
END:VEVENT
END:VCALENDAR