BEGIN:VCALENDAR
VERSION:2.0
PRODID:-//spbstu.ru//ical//RU
NAME:Расписание группы 4931101/30101
X-WR-CALNAME:Расписание группы 4931101/30101
TIMEZONE-ID:Europe/Moscow
X-WR-TIMEZONE:Europe/Moscow
BEGIN:VEVENT
UID:3que@192.168.245.71:3006
SEQUENCE:0
DTSTAMP:20260421T001206Z
DTSTART:20260406T053500Z
DTEND:20260406T142500Z
SUMMARY:Военная подготовка
LOCATION:Военная каф. кафедра
END:VEVENT
BEGIN:VEVENT
UID:978n@192.168.245.71:3006
SEQUENCE:0
DTSTAMP:20260421T001206Z
DTSTART:20260406T070000Z
DTEND:20260406T084000Z
SUMMARY:Карьерная адаптивность: Нейронные сети
LOCATION:DL Дистанционно
END:VEVENT
BEGIN:VEVENT
UID:btss@192.168.245.71:3006
SEQUENCE:0
DTSTAMP:20260421T001206Z
DTSTART:20260406T130000Z
DTEND:20260406T140000Z
SUMMARY:Радиоматериалы и радиокомпоненты
LOCATION:2 к. 464
END:VEVENT
BEGIN:VEVENT
UID:fe7r@192.168.245.71:3006
SEQUENCE:0
DTSTAMP:20260421T001206Z
DTSTART:20260407T070000Z
DTEND:20260407T093000Z
SUMMARY:Лабораторный практикум по схемотехнике аналоговых и цифровых устро
 йств
LOCATION:2 к. каф.
END:VEVENT
BEGIN:VEVENT
UID:4okw@192.168.245.71:3006
SEQUENCE:0
DTSTAMP:20260421T001206Z
DTSTART:20260407T110000Z
DTEND:20260407T120000Z
SUMMARY:Лабораторный практикум по моделированию в области радиотехники и т
 елекоммуникаций
LOCATION:2 к. каф.
END:VEVENT
BEGIN:VEVENT
UID:tams@192.168.245.71:3006
SEQUENCE:0
DTSTAMP:20260421T001206Z
DTSTART:20260407T130000Z
DTEND:20260407T144000Z
SUMMARY:Анализ информации в интеллектуальных системах
LOCATION:2 к. 359
END:VEVENT
BEGIN:VEVENT
UID:pn60@192.168.245.71:3006
SEQUENCE:0
DTSTAMP:20260421T001206Z
DTSTART:20260407T140000Z
DTEND:20260407T143000Z
SUMMARY:Цифровые устройства и микропроцессоры
LOCATION:2 к. 253
END:VEVENT
BEGIN:VEVENT
UID:a5fo@192.168.245.71:3006
SEQUENCE:0
DTSTAMP:20260421T001206Z
DTSTART:20260407T143000Z
DTEND:20260407T150000Z
SUMMARY:Цифровые устройства и микропроцессоры
LOCATION:2 к. 253
END:VEVENT
BEGIN:VEVENT
UID:l1ms@192.168.245.71:3006
SEQUENCE:0
DTSTAMP:20260421T001206Z
DTSTART:20260407T150000Z
DTEND:20260407T164000Z
SUMMARY:Лабораторный практикум по моделированию в области радиотехники и т
 елекоммуникаций
LOCATION:2 к. 359
END:VEVENT
BEGIN:VEVENT
UID:3klp@192.168.245.71:3006
SEQUENCE:0
DTSTAMP:20260421T001206Z
DTSTART:20260408T070000Z
DTEND:20260408T084000Z
SUMMARY:Общая теория связи
LOCATION:2 к. 470
END:VEVENT
BEGIN:VEVENT
UID:crg2@192.168.245.71:3006
SEQUENCE:0
DTSTAMP:20260421T001206Z
DTSTART:20260408T090000Z
DTEND:20260408T104000Z
SUMMARY:Цифровая обработка сигналов
LOCATION:2 к. 470
END:VEVENT
BEGIN:VEVENT
UID:xx4w@192.168.245.71:3006
SEQUENCE:0
DTSTAMP:20260421T001206Z
DTSTART:20260408T110000Z
DTEND:20260408T124000Z
SUMMARY:Общая теория связи
LOCATION:2 к. 452
END:VEVENT
BEGIN:VEVENT
UID:gzcy@192.168.245.71:3006
SEQUENCE:0
DTSTAMP:20260421T001206Z
DTSTART:20260408T130000Z
DTEND:20260408T144000Z
SUMMARY:Общая теория связи
LOCATION:2 к. 443
END:VEVENT
BEGIN:VEVENT
UID:3oc7@192.168.245.71:3006
SEQUENCE:0
DTSTAMP:20260421T001206Z
DTSTART:20260409T070000Z
DTEND:20260409T084000Z
SUMMARY:Основы компьютерного проектирования и моделирования радиоэлектронн
 ых средств
LOCATION:2 к. 249
END:VEVENT
BEGIN:VEVENT
UID:0qwc@192.168.245.71:3006
SEQUENCE:0
DTSTAMP:20260421T001206Z
DTSTART:20260409T070000Z
DTEND:20260409T084000Z
SUMMARY:Цифровая обработка сигналов
LOCATION:2 к. 344
END:VEVENT
BEGIN:VEVENT
UID:88ot@192.168.245.71:3006
SEQUENCE:0
DTSTAMP:20260421T001206Z
DTSTART:20260409T090000Z
DTEND:20260409T104000Z
SUMMARY:Основы компьютерного проектирования и моделирования радиоэлектронн
 ых средств
LOCATION:2 к. 249
END:VEVENT
BEGIN:VEVENT
UID:x5wt@192.168.245.71:3006
SEQUENCE:0
DTSTAMP:20260421T001206Z
DTSTART:20260409T090000Z
DTEND:20260409T104000Z
SUMMARY:Цифровая обработка сигналов
LOCATION:2 к. 344
END:VEVENT
BEGIN:VEVENT
UID:hv5p@192.168.245.71:3006
SEQUENCE:0
DTSTAMP:20260421T001206Z
DTSTART:20260409T110000Z
DTEND:20260409T124000Z
SUMMARY:Общая теория связи
LOCATION:2 к. 470
END:VEVENT
BEGIN:VEVENT
UID:g0qe@192.168.245.71:3006
SEQUENCE:0
DTSTAMP:20260421T001206Z
DTSTART:20260409T130000Z
DTEND:20260409T144000Z
SUMMARY:Основы компьютерного проектирования и моделирования радиоэлектронн
 ых средств
LOCATION:2 к. 470
END:VEVENT
BEGIN:VEVENT
UID:r9c8@192.168.245.71:3006
SEQUENCE:0
DTSTAMP:20260421T001206Z
DTSTART:20260410T070000Z
DTEND:20260410T103000Z
SUMMARY:Метрология и радиоизмерения
LOCATION:2 к. 233
END:VEVENT
BEGIN:VEVENT
UID:h8p9@192.168.245.71:3006
SEQUENCE:0
DTSTAMP:20260421T001206Z
DTSTART:20260410T110000Z
DTEND:20260410T133000Z
SUMMARY:Цифровые устройства и микропроцессоры
LOCATION:2 к. 253
END:VEVENT
BEGIN:VEVENT
UID:nle2@192.168.245.71:3006
SEQUENCE:0
DTSTAMP:20260421T001206Z
DTSTART:20260410T110000Z
DTEND:20260410T133000Z
SUMMARY:Цифровые устройства и микропроцессоры
LOCATION:2 к. 249
END:VEVENT
END:VCALENDAR