BEGIN:VCALENDAR
VERSION:2.0
PRODID:-//spbstu.ru//ical//RU
NAME:Расписание группы 4931101/30501
X-WR-CALNAME:Расписание группы 4931101/30501
TIMEZONE-ID:Europe/Moscow
X-WR-TIMEZONE:Europe/Moscow
BEGIN:VEVENT
UID:5ej5@192.168.245.71:3006
SEQUENCE:0
DTSTAMP:20260424T102351Z
DTSTART:20251006T053500Z
DTEND:20251006T142500Z
SUMMARY:Военная подготовка
LOCATION:Военная каф. кафедра
END:VEVENT
BEGIN:VEVENT
UID:05g1@192.168.245.71:3006
SEQUENCE:0
DTSTAMP:20260424T102351Z
DTSTART:20251007T070000Z
DTEND:20251007T084000Z
SUMMARY:Электродинамика
LOCATION:2 к. 470
END:VEVENT
BEGIN:VEVENT
UID:pv2f@192.168.245.71:3006
SEQUENCE:0
DTSTAMP:20260424T102351Z
DTSTART:20251007T090000Z
DTEND:20251007T104000Z
SUMMARY:Математическая физика
LOCATION:2 к. 470
END:VEVENT
BEGIN:VEVENT
UID:l36l@192.168.245.71:3006
SEQUENCE:0
DTSTAMP:20260424T102351Z
DTSTART:20251007T110000Z
DTEND:20251007T124000Z
SUMMARY:Радиофизика
LOCATION:2 к. 257
END:VEVENT
BEGIN:VEVENT
UID:8xer@192.168.245.71:3006
SEQUENCE:0
DTSTAMP:20260424T102351Z
DTSTART:20251007T130000Z
DTEND:20251007T144000Z
SUMMARY:Теория вероятностей и математическая статистика
LOCATION:2 к. 454
END:VEVENT
BEGIN:VEVENT
UID:vy2t@192.168.245.71:3006
SEQUENCE:0
DTSTAMP:20260424T102351Z
DTSTART:20251008T070000Z
DTEND:20251008T084000Z
SUMMARY:Лабораторный практикум по радиоэлектронике
LOCATION:2 к. каф.
END:VEVENT
BEGIN:VEVENT
UID:mlt4@192.168.245.71:3006
SEQUENCE:0
DTSTAMP:20260424T102351Z
DTSTART:20251008T090000Z
DTEND:20251008T104000Z
SUMMARY:Математическая физика
LOCATION:2 к. 459
END:VEVENT
BEGIN:VEVENT
UID:emyi@192.168.245.71:3006
SEQUENCE:0
DTSTAMP:20260424T102351Z
DTSTART:20251008T110000Z
DTEND:20251008T124000Z
SUMMARY:Радиотехнические цепи и сигналы
LOCATION:2 к. 459
END:VEVENT
BEGIN:VEVENT
UID:zsla@192.168.245.71:3006
SEQUENCE:0
DTSTAMP:20260424T102351Z
DTSTART:20251008T130000Z
DTEND:20251008T144000Z
SUMMARY:Основы функциональной электроники
LOCATION:2 к. 355
END:VEVENT
BEGIN:VEVENT
UID:jyja@192.168.245.71:3006
SEQUENCE:0
DTSTAMP:20260424T102351Z
DTSTART:20251008T150000Z
DTEND:20251008T164000Z
SUMMARY:Лабораторный практикум по моделированию в области радиотехники и т
 елекоммуникаций
LOCATION:2 к. 470
END:VEVENT
BEGIN:VEVENT
UID:29r9@192.168.245.71:3006
SEQUENCE:0
DTSTAMP:20260424T102351Z
DTSTART:20251009T070000Z
DTEND:20251009T084000Z
SUMMARY:Иностранный язык. Профессионально-ориентированный курс
LOCATION:2 к. 346
END:VEVENT
BEGIN:VEVENT
UID:t8vo@192.168.245.71:3006
SEQUENCE:0
DTSTAMP:20260424T102351Z
DTSTART:20251009T090000Z
DTEND:20251009T104000Z
SUMMARY:Электродинамика
LOCATION:2 к. 459
END:VEVENT
BEGIN:VEVENT
UID:vmas@192.168.245.71:3006
SEQUENCE:0
DTSTAMP:20260424T102351Z
DTSTART:20251009T110000Z
DTEND:20251009T124000Z
SUMMARY:Теория вероятностей и математическая статистика
LOCATION:2 к. 470
END:VEVENT
BEGIN:VEVENT
UID:ltqt@192.168.245.71:3006
SEQUENCE:0
DTSTAMP:20260424T102351Z
DTSTART:20251009T130000Z
DTEND:20251009T144000Z
SUMMARY:Основы функциональной электроники
LOCATION:2 к. 355
END:VEVENT
BEGIN:VEVENT
UID:r3x5@192.168.245.71:3006
SEQUENCE:0
DTSTAMP:20260424T102351Z
DTSTART:20251010T070000Z
DTEND:20251010T084000Z
SUMMARY:Радиоматериалы и радиокомпоненты
LOCATION:2 к. 470
END:VEVENT
BEGIN:VEVENT
UID:4ji6@192.168.245.71:3006
SEQUENCE:0
DTSTAMP:20260424T102351Z
DTSTART:20251010T090000Z
DTEND:20251010T104000Z
SUMMARY:Радиотехнические цепи и сигналы
LOCATION:2 к. 470
END:VEVENT
BEGIN:VEVENT
UID:ix5q@192.168.245.71:3006
SEQUENCE:0
DTSTAMP:20260424T102351Z
DTSTART:20251010T110000Z
DTEND:20251010T124000Z
SUMMARY:Основы функциональной электроники
LOCATION:2 к. 355
END:VEVENT
BEGIN:VEVENT
UID:udrj@192.168.245.71:3006
SEQUENCE:0
DTSTAMP:20260424T102351Z
DTSTART:20251010T130000Z
DTEND:20251010T144000Z
SUMMARY:Электродинамика
LOCATION:2 к. 470
END:VEVENT
BEGIN:VEVENT
UID:m51o@192.168.245.71:3006
SEQUENCE:0
DTSTAMP:20260424T102351Z
DTSTART:20251011T053500Z
DTEND:20251011T142500Z
SUMMARY:Военная подготовка
LOCATION:Военная каф. кафедра
END:VEVENT
END:VCALENDAR