BEGIN:VCALENDAR
VERSION:2.0
PRODID:-//spbstu.ru//ical//RU
NAME:Расписание группы 4931101/30501
X-WR-CALNAME:Расписание группы 4931101/30501
TIMEZONE-ID:Europe/Moscow
X-WR-TIMEZONE:Europe/Moscow
BEGIN:VEVENT
UID:x7dd@192.168.245.71:3006
SEQUENCE:0
DTSTAMP:20260424T011516Z
DTSTART:20251110T053500Z
DTEND:20251110T142500Z
SUMMARY:Военная подготовка
LOCATION:Военная каф. кафедра
END:VEVENT
BEGIN:VEVENT
UID:3xtr@192.168.245.71:3006
SEQUENCE:0
DTSTAMP:20260424T011516Z
DTSTART:20251111T070000Z
DTEND:20251111T084000Z
SUMMARY:Электродинамика
LOCATION:2 к. 470
END:VEVENT
BEGIN:VEVENT
UID:pb4o@192.168.245.71:3006
SEQUENCE:0
DTSTAMP:20260424T011516Z
DTSTART:20251111T090000Z
DTEND:20251111T104000Z
SUMMARY:Математическая физика
LOCATION:2 к. 470
END:VEVENT
BEGIN:VEVENT
UID:a5b2@192.168.245.71:3006
SEQUENCE:0
DTSTAMP:20260424T011516Z
DTSTART:20251111T110000Z
DTEND:20251111T124000Z
SUMMARY:Радиофизика
LOCATION:2 к. 257
END:VEVENT
BEGIN:VEVENT
UID:morh@192.168.245.71:3006
SEQUENCE:0
DTSTAMP:20260424T011516Z
DTSTART:20251111T130000Z
DTEND:20251111T144000Z
SUMMARY:Теория вероятностей и математическая статистика
LOCATION:2 к. 454
END:VEVENT
BEGIN:VEVENT
UID:27i7@192.168.245.71:3006
SEQUENCE:0
DTSTAMP:20260424T011516Z
DTSTART:20251112T070000Z
DTEND:20251112T084000Z
SUMMARY:Лабораторный практикум по радиоэлектронике
LOCATION:2 к. каф.
END:VEVENT
BEGIN:VEVENT
UID:1ppr@192.168.245.71:3006
SEQUENCE:0
DTSTAMP:20260424T011516Z
DTSTART:20251112T090000Z
DTEND:20251112T104000Z
SUMMARY:Математическая физика
LOCATION:2 к. 459
END:VEVENT
BEGIN:VEVENT
UID:y40c@192.168.245.71:3006
SEQUENCE:0
DTSTAMP:20260424T011516Z
DTSTART:20251112T110000Z
DTEND:20251112T124000Z
SUMMARY:Радиотехнические цепи и сигналы
LOCATION:2 к. 459
END:VEVENT
BEGIN:VEVENT
UID:4ywi@192.168.245.71:3006
SEQUENCE:0
DTSTAMP:20260424T011516Z
DTSTART:20251112T130000Z
DTEND:20251112T144000Z
SUMMARY:Основы функциональной электроники
LOCATION:2 к. 355
END:VEVENT
BEGIN:VEVENT
UID:i66s@192.168.245.71:3006
SEQUENCE:0
DTSTAMP:20260424T011516Z
DTSTART:20251112T150000Z
DTEND:20251112T164000Z
SUMMARY:Лабораторный практикум по моделированию в области радиотехники и т
 елекоммуникаций
LOCATION:2 к. 470
END:VEVENT
BEGIN:VEVENT
UID:j4uz@192.168.245.71:3006
SEQUENCE:0
DTSTAMP:20260424T011516Z
DTSTART:20251113T070000Z
DTEND:20251113T084000Z
SUMMARY:Радиофизика
LOCATION:2 к. 346
END:VEVENT
BEGIN:VEVENT
UID:ovax@192.168.245.71:3006
SEQUENCE:0
DTSTAMP:20260424T011516Z
DTSTART:20251113T090000Z
DTEND:20251113T104000Z
SUMMARY:Электродинамика
LOCATION:2 к. 459
END:VEVENT
BEGIN:VEVENT
UID:c99e@192.168.245.71:3006
SEQUENCE:0
DTSTAMP:20260424T011516Z
DTSTART:20251113T110000Z
DTEND:20251113T124000Z
SUMMARY:Теория вероятностей и математическая статистика
LOCATION:2 к. 470
END:VEVENT
BEGIN:VEVENT
UID:l7nc@192.168.245.71:3006
SEQUENCE:0
DTSTAMP:20260424T011516Z
DTSTART:20251113T130000Z
DTEND:20251113T144000Z
SUMMARY:Основы функциональной электроники
LOCATION:2 к. 355
END:VEVENT
BEGIN:VEVENT
UID:5n8p@192.168.245.71:3006
SEQUENCE:0
DTSTAMP:20260424T011516Z
DTSTART:20251114T070000Z
DTEND:20251114T084000Z
SUMMARY:Радиоматериалы и радиокомпоненты
LOCATION:2 к. 470
END:VEVENT
BEGIN:VEVENT
UID:mxl0@192.168.245.71:3006
SEQUENCE:0
DTSTAMP:20260424T011516Z
DTSTART:20251114T090000Z
DTEND:20251114T104000Z
SUMMARY:Радиотехнические цепи и сигналы
LOCATION:2 к. 470
END:VEVENT
BEGIN:VEVENT
UID:dqyj@192.168.245.71:3006
SEQUENCE:0
DTSTAMP:20260424T011516Z
DTSTART:20251114T110000Z
DTEND:20251114T124000Z
SUMMARY:Основы функциональной электроники
LOCATION:2 к. 257
END:VEVENT
BEGIN:VEVENT
UID:uyc0@192.168.245.71:3006
SEQUENCE:0
DTSTAMP:20260424T011516Z
DTSTART:20251114T130000Z
DTEND:20251114T144000Z
SUMMARY:Математическая физика
LOCATION:2 к. 470
END:VEVENT
BEGIN:VEVENT
UID:jv29@192.168.245.71:3006
SEQUENCE:0
DTSTAMP:20260424T011516Z
DTSTART:20251115T053500Z
DTEND:20251115T142500Z
SUMMARY:Военная подготовка
LOCATION:Военная каф. кафедра
END:VEVENT
END:VCALENDAR