BEGIN:VCALENDAR
VERSION:2.0
PRODID:-//spbstu.ru//ical//RU
NAME:Расписание группы 4931101/30501
X-WR-CALNAME:Расписание группы 4931101/30501
TIMEZONE-ID:Europe/Moscow
X-WR-TIMEZONE:Europe/Moscow
BEGIN:VEVENT
UID:1q6i@192.168.245.71:3006
SEQUENCE:0
DTSTAMP:20260422T203200Z
DTSTART:20251208T053500Z
DTEND:20251208T142500Z
SUMMARY:Военная подготовка
LOCATION:Военная каф. кафедра
END:VEVENT
BEGIN:VEVENT
UID:mzfs@192.168.245.71:3006
SEQUENCE:0
DTSTAMP:20260422T203200Z
DTSTART:20251208T150000Z
DTEND:20251208T164000Z
SUMMARY:Лабораторный практикум по моделированию в области радиотехники и т
 елекоммуникаций
LOCATION:2 к. 466
END:VEVENT
BEGIN:VEVENT
UID:a5ph@192.168.245.71:3006
SEQUENCE:0
DTSTAMP:20260422T203200Z
DTSTART:20251209T070000Z
DTEND:20251209T084000Z
SUMMARY:Электродинамика
LOCATION:2 к. 470
END:VEVENT
BEGIN:VEVENT
UID:gtx0@192.168.245.71:3006
SEQUENCE:0
DTSTAMP:20260422T203200Z
DTSTART:20251209T090000Z
DTEND:20251209T104000Z
SUMMARY:Математическая физика
LOCATION:2 к. 470
END:VEVENT
BEGIN:VEVENT
UID:ynny@192.168.245.71:3006
SEQUENCE:0
DTSTAMP:20260422T203200Z
DTSTART:20251209T110000Z
DTEND:20251209T124000Z
SUMMARY:Радиофизика
LOCATION:2 к. 257
END:VEVENT
BEGIN:VEVENT
UID:em7x@192.168.245.71:3006
SEQUENCE:0
DTSTAMP:20260422T203200Z
DTSTART:20251209T130000Z
DTEND:20251209T144000Z
SUMMARY:Теория вероятностей и математическая статистика
LOCATION:2 к. 454
END:VEVENT
BEGIN:VEVENT
UID:hq17@192.168.245.71:3006
SEQUENCE:0
DTSTAMP:20260422T203200Z
DTSTART:20251210T070000Z
DTEND:20251210T084000Z
SUMMARY:Лабораторный практикум по радиоэлектронике
LOCATION:2 к. каф.
END:VEVENT
BEGIN:VEVENT
UID:33ga@192.168.245.71:3006
SEQUENCE:0
DTSTAMP:20260422T203200Z
DTSTART:20251210T090000Z
DTEND:20251210T104000Z
SUMMARY:Математическая физика
LOCATION:2 к. 459
END:VEVENT
BEGIN:VEVENT
UID:b5ce@192.168.245.71:3006
SEQUENCE:0
DTSTAMP:20260422T203200Z
DTSTART:20251210T110000Z
DTEND:20251210T124000Z
SUMMARY:Радиотехнические цепи и сигналы
LOCATION:2 к. 459
END:VEVENT
BEGIN:VEVENT
UID:r59f@192.168.245.71:3006
SEQUENCE:0
DTSTAMP:20260422T203200Z
DTSTART:20251210T130000Z
DTEND:20251210T144000Z
SUMMARY:Основы функциональной электроники
LOCATION:2 к. 355
END:VEVENT
BEGIN:VEVENT
UID:04in@192.168.245.71:3006
SEQUENCE:0
DTSTAMP:20260422T203200Z
DTSTART:20251211T070000Z
DTEND:20251211T084000Z
SUMMARY:Радиофизика
LOCATION:2 к. 346
END:VEVENT
BEGIN:VEVENT
UID:s5ln@192.168.245.71:3006
SEQUENCE:0
DTSTAMP:20260422T203200Z
DTSTART:20251211T090000Z
DTEND:20251211T104000Z
SUMMARY:Электродинамика
LOCATION:2 к. 459
END:VEVENT
BEGIN:VEVENT
UID:48b6@192.168.245.71:3006
SEQUENCE:0
DTSTAMP:20260422T203200Z
DTSTART:20251211T110000Z
DTEND:20251211T124000Z
SUMMARY:Теория вероятностей и математическая статистика
LOCATION:2 к. 470
END:VEVENT
BEGIN:VEVENT
UID:pwbu@192.168.245.71:3006
SEQUENCE:0
DTSTAMP:20260422T203200Z
DTSTART:20251211T130000Z
DTEND:20251211T144000Z
SUMMARY:Основы функциональной электроники
LOCATION:2 к. 355
END:VEVENT
BEGIN:VEVENT
UID:6ljm@192.168.245.71:3006
SEQUENCE:0
DTSTAMP:20260422T203200Z
DTSTART:20251212T070000Z
DTEND:20251212T084000Z
SUMMARY:Радиоматериалы и радиокомпоненты
LOCATION:2 к. 470
END:VEVENT
BEGIN:VEVENT
UID:fkrz@192.168.245.71:3006
SEQUENCE:0
DTSTAMP:20260422T203200Z
DTSTART:20251212T090000Z
DTEND:20251212T104000Z
SUMMARY:Радиотехнические цепи и сигналы
LOCATION:2 к. 470
END:VEVENT
BEGIN:VEVENT
UID:nq6t@192.168.245.71:3006
SEQUENCE:0
DTSTAMP:20260422T203200Z
DTSTART:20251212T110000Z
DTEND:20251212T124000Z
SUMMARY:Основы функциональной электроники
LOCATION:2 к. 257
END:VEVENT
BEGIN:VEVENT
UID:mz0s@192.168.245.71:3006
SEQUENCE:0
DTSTAMP:20260422T203200Z
DTSTART:20251212T130000Z
DTEND:20251212T144000Z
SUMMARY:Математическая физика
LOCATION:2 к. 470
END:VEVENT
BEGIN:VEVENT
UID:li2g@192.168.245.71:3006
SEQUENCE:0
DTSTAMP:20260422T203200Z
DTSTART:20251213T053500Z
DTEND:20251213T142500Z
SUMMARY:Военная подготовка
LOCATION:Военная каф. кафедра
END:VEVENT
END:VCALENDAR