BEGIN:VCALENDAR
VERSION:2.0
PRODID:-//spbstu.ru//ical//RU
NAME:Расписание группы 4931101/30501
X-WR-CALNAME:Расписание группы 4931101/30501
TIMEZONE-ID:Europe/Moscow
X-WR-TIMEZONE:Europe/Moscow
BEGIN:VEVENT
UID:30v8@192.168.245.71:3006
SEQUENCE:0
DTSTAMP:20260421T033408Z
DTSTART:20260323T053500Z
DTEND:20260323T142500Z
SUMMARY:Военная подготовка
LOCATION:Военная каф. кафедра
END:VEVENT
BEGIN:VEVENT
UID:1qbv@192.168.245.71:3006
SEQUENCE:0
DTSTAMP:20260421T033408Z
DTSTART:20260323T070000Z
DTEND:20260323T084000Z
SUMMARY:Карьерная адаптивность: Нейронные сети
LOCATION:DL Дистанционно
END:VEVENT
BEGIN:VEVENT
UID:li7p@192.168.245.71:3006
SEQUENCE:0
DTSTAMP:20260421T033408Z
DTSTART:20260323T150000Z
DTEND:20260323T160000Z
SUMMARY:Теория вероятностей и математическая статистика
LOCATION:2 к. 253
END:VEVENT
BEGIN:VEVENT
UID:ytj3@192.168.245.71:3006
SEQUENCE:0
DTSTAMP:20260421T033408Z
DTSTART:20260324T070000Z
DTEND:20260324T084000Z
SUMMARY:Атомная физика
LOCATION:2 к. 352
END:VEVENT
BEGIN:VEVENT
UID:93sc@192.168.245.71:3006
SEQUENCE:0
DTSTAMP:20260421T033408Z
DTSTART:20260324T090000Z
DTEND:20260324T104000Z
SUMMARY:Математическая физика
LOCATION:2 к. 470
END:VEVENT
BEGIN:VEVENT
UID:rwgx@192.168.245.71:3006
SEQUENCE:0
DTSTAMP:20260421T033408Z
DTSTART:20260324T110000Z
DTEND:20260324T124000Z
SUMMARY:Радиофизика
LOCATION:2 к. 257
END:VEVENT
BEGIN:VEVENT
UID:dc47@192.168.245.71:3006
SEQUENCE:0
DTSTAMP:20260421T033408Z
DTSTART:20260324T130000Z
DTEND:20260324T144000Z
SUMMARY:Анализ информации в интеллектуальных системах
LOCATION:2 к. 359
END:VEVENT
BEGIN:VEVENT
UID:i22k@192.168.245.71:3006
SEQUENCE:0
DTSTAMP:20260421T033408Z
DTSTART:20260324T150000Z
DTEND:20260324T164000Z
SUMMARY:Лабораторный практикум по моделированию в области радиотехники и т
 елекоммуникаций
LOCATION:2 к. 359
END:VEVENT
BEGIN:VEVENT
UID:lmv2@192.168.245.71:3006
SEQUENCE:0
DTSTAMP:20260421T033408Z
DTSTART:20260324T150000Z
DTEND:20260324T160000Z
SUMMARY:Основы функциональной электроники
LOCATION:2 к. 355
END:VEVENT
BEGIN:VEVENT
UID:m80d@192.168.245.71:3006
SEQUENCE:0
DTSTAMP:20260421T033408Z
DTSTART:20260325T070000Z
DTEND:20260325T084000Z
SUMMARY:Математическая физика
LOCATION:2 к. 459
END:VEVENT
BEGIN:VEVENT
UID:ph66@192.168.245.71:3006
SEQUENCE:0
DTSTAMP:20260421T033408Z
DTSTART:20260325T090000Z
DTEND:20260325T104000Z
SUMMARY:Квантовая механика
LOCATION:Мех. к. БМ
END:VEVENT
BEGIN:VEVENT
UID:qrnv@192.168.245.71:3006
SEQUENCE:0
DTSTAMP:20260421T033408Z
DTSTART:20260325T110000Z
DTEND:20260325T143000Z
SUMMARY:Метрология и радиоизмерения
LOCATION:2 к. 233
END:VEVENT
BEGIN:VEVENT
UID:a7m5@192.168.245.71:3006
SEQUENCE:0
DTSTAMP:20260421T033408Z
DTSTART:20260326T070000Z
DTEND:20260326T084000Z
SUMMARY:Экспериментальные методы исследования
LOCATION:2 к. 355
END:VEVENT
BEGIN:VEVENT
UID:9i1o@192.168.245.71:3006
SEQUENCE:0
DTSTAMP:20260421T033408Z
DTSTART:20260326T090000Z
DTEND:20260326T104000Z
SUMMARY:Экспериментальные методы исследования
LOCATION:2 к. 352
END:VEVENT
BEGIN:VEVENT
UID:m6wm@192.168.245.71:3006
SEQUENCE:0
DTSTAMP:20260421T033408Z
DTSTART:20260326T110000Z
DTEND:20260326T124000Z
SUMMARY:Атомная физика
LOCATION:2 к. 346
END:VEVENT
BEGIN:VEVENT
UID:a0sx@192.168.245.71:3006
SEQUENCE:0
DTSTAMP:20260421T033408Z
DTSTART:20260326T130000Z
DTEND:20260326T144000Z
SUMMARY:Экспериментальные методы исследования
LOCATION:2 к. 355
END:VEVENT
BEGIN:VEVENT
UID:b9qn@192.168.245.71:3006
SEQUENCE:0
DTSTAMP:20260421T033408Z
DTSTART:20260327T070000Z
DTEND:20260327T084000Z
SUMMARY:Радиофизика
LOCATION:2 к. 353
END:VEVENT
BEGIN:VEVENT
UID:pfri@192.168.245.71:3006
SEQUENCE:0
DTSTAMP:20260421T033408Z
DTSTART:20260327T090000Z
DTEND:20260327T104000Z
SUMMARY:Математическая физика
LOCATION:2 к. 470
END:VEVENT
BEGIN:VEVENT
UID:v1hj@192.168.245.71:3006
SEQUENCE:0
DTSTAMP:20260421T033408Z
DTSTART:20260327T110000Z
DTEND:20260327T124000Z
SUMMARY:Квантовая механика
LOCATION:2 к. 353
END:VEVENT
BEGIN:VEVENT
UID:z3y6@192.168.245.71:3006
SEQUENCE:0
DTSTAMP:20260421T033408Z
DTSTART:20260327T130000Z
DTEND:20260327T144000Z
SUMMARY:Лабораторный практикум по радиоэлектронике
LOCATION:2 к. 335
END:VEVENT
END:VCALENDAR