BEGIN:VCALENDAR
VERSION:2.0
PRODID:-//spbstu.ru//ical//RU
NAME:Расписание группы 4931101/30501
X-WR-CALNAME:Расписание группы 4931101/30501
TIMEZONE-ID:Europe/Moscow
X-WR-TIMEZONE:Europe/Moscow
BEGIN:VEVENT
UID:n0q1@192.168.245.71:3006
SEQUENCE:0
DTSTAMP:20260420T235658Z
DTSTART:20260406T053500Z
DTEND:20260406T142500Z
SUMMARY:Военная подготовка
LOCATION:Военная каф. кафедра
END:VEVENT
BEGIN:VEVENT
UID:gpmf@192.168.245.71:3006
SEQUENCE:0
DTSTAMP:20260420T235658Z
DTSTART:20260406T070000Z
DTEND:20260406T084000Z
SUMMARY:Карьерная адаптивность: Нейронные сети
LOCATION:DL Дистанционно
END:VEVENT
BEGIN:VEVENT
UID:k2kf@192.168.245.71:3006
SEQUENCE:0
DTSTAMP:20260420T235658Z
DTSTART:20260406T130000Z
DTEND:20260406T140000Z
SUMMARY:Радиоматериалы и радиокомпоненты
LOCATION:2 к. 464
END:VEVENT
BEGIN:VEVENT
UID:sms3@192.168.245.71:3006
SEQUENCE:0
DTSTAMP:20260420T235658Z
DTSTART:20260407T070000Z
DTEND:20260407T084000Z
SUMMARY:Атомная физика
LOCATION:2 к. 352
END:VEVENT
BEGIN:VEVENT
UID:kimx@192.168.245.71:3006
SEQUENCE:0
DTSTAMP:20260420T235658Z
DTSTART:20260407T090000Z
DTEND:20260407T104000Z
SUMMARY:Математическая физика
LOCATION:2 к. 470
END:VEVENT
BEGIN:VEVENT
UID:kknb@192.168.245.71:3006
SEQUENCE:0
DTSTAMP:20260420T235658Z
DTSTART:20260407T110000Z
DTEND:20260407T124000Z
SUMMARY:Радиофизика
LOCATION:2 к. 257
END:VEVENT
BEGIN:VEVENT
UID:o43u@192.168.245.71:3006
SEQUENCE:0
DTSTAMP:20260420T235658Z
DTSTART:20260407T130000Z
DTEND:20260407T144000Z
SUMMARY:Анализ информации в интеллектуальных системах
LOCATION:2 к. 359
END:VEVENT
BEGIN:VEVENT
UID:yvkv@192.168.245.71:3006
SEQUENCE:0
DTSTAMP:20260420T235658Z
DTSTART:20260407T150000Z
DTEND:20260407T164000Z
SUMMARY:Лабораторный практикум по моделированию в области радиотехники и т
 елекоммуникаций
LOCATION:2 к. 359
END:VEVENT
BEGIN:VEVENT
UID:9qyv@192.168.245.71:3006
SEQUENCE:0
DTSTAMP:20260420T235658Z
DTSTART:20260408T070000Z
DTEND:20260408T084000Z
SUMMARY:Математическая физика
LOCATION:2 к. 459
END:VEVENT
BEGIN:VEVENT
UID:k1xa@192.168.245.71:3006
SEQUENCE:0
DTSTAMP:20260420T235658Z
DTSTART:20260408T090000Z
DTEND:20260408T104000Z
SUMMARY:Квантовая механика
LOCATION:Мех. к. БМ
END:VEVENT
BEGIN:VEVENT
UID:thiq@192.168.245.71:3006
SEQUENCE:0
DTSTAMP:20260420T235658Z
DTSTART:20260408T110000Z
DTEND:20260408T143000Z
SUMMARY:Метрология и радиоизмерения
LOCATION:2 к. 233
END:VEVENT
BEGIN:VEVENT
UID:v18f@192.168.245.71:3006
SEQUENCE:0
DTSTAMP:20260420T235658Z
DTSTART:20260409T070000Z
DTEND:20260409T084000Z
SUMMARY:Экспериментальные методы исследования
LOCATION:2 к. 355
END:VEVENT
BEGIN:VEVENT
UID:nsbd@192.168.245.71:3006
SEQUENCE:0
DTSTAMP:20260420T235658Z
DTSTART:20260409T090000Z
DTEND:20260409T104000Z
SUMMARY:Экспериментальные методы исследования
LOCATION:2 к. 352
END:VEVENT
BEGIN:VEVENT
UID:vclm@192.168.245.71:3006
SEQUENCE:0
DTSTAMP:20260420T235658Z
DTSTART:20260409T110000Z
DTEND:20260409T124000Z
SUMMARY:Атомная физика
LOCATION:2 к. 346
END:VEVENT
BEGIN:VEVENT
UID:nta9@192.168.245.71:3006
SEQUENCE:0
DTSTAMP:20260420T235658Z
DTSTART:20260409T130000Z
DTEND:20260409T144000Z
SUMMARY:Экспериментальные методы исследования
LOCATION:2 к. 355
END:VEVENT
BEGIN:VEVENT
UID:ja6e@192.168.245.71:3006
SEQUENCE:0
DTSTAMP:20260420T235658Z
DTSTART:20260410T070000Z
DTEND:20260410T084000Z
SUMMARY:Радиофизика
LOCATION:2 к. 353
END:VEVENT
BEGIN:VEVENT
UID:qkmi@192.168.245.71:3006
SEQUENCE:0
DTSTAMP:20260420T235658Z
DTSTART:20260410T090000Z
DTEND:20260410T104000Z
SUMMARY:Математическая физика
LOCATION:2 к. 470
END:VEVENT
BEGIN:VEVENT
UID:z2te@192.168.245.71:3006
SEQUENCE:0
DTSTAMP:20260420T235658Z
DTSTART:20260410T110000Z
DTEND:20260410T124000Z
SUMMARY:Квантовая механика
LOCATION:2 к. 353
END:VEVENT
BEGIN:VEVENT
UID:26ha@192.168.245.71:3006
SEQUENCE:0
DTSTAMP:20260420T235658Z
DTSTART:20260410T130000Z
DTEND:20260410T144000Z
SUMMARY:Лабораторный практикум по радиоэлектронике
LOCATION:2 к. 335
END:VEVENT
END:VCALENDAR