BEGIN:VCALENDAR
VERSION:2.0
PRODID:-//spbstu.ru//ical//RU
NAME:Расписание группы 4931102/30101
X-WR-CALNAME:Расписание группы 4931102/30101
TIMEZONE-ID:Europe/Moscow
X-WR-TIMEZONE:Europe/Moscow
BEGIN:VEVENT
UID:05yv@192.168.245.71:3006
SEQUENCE:0
DTSTAMP:20260422T203201Z
DTSTART:20251208T053500Z
DTEND:20251208T142500Z
SUMMARY:Военная подготовка
LOCATION:Военная каф. кафедра
END:VEVENT
BEGIN:VEVENT
UID:17xd@192.168.245.71:3006
SEQUENCE:0
DTSTAMP:20260422T203201Z
DTSTART:20251208T150000Z
DTEND:20251208T164000Z
SUMMARY:Лабораторный практикум по моделированию в области радиотехники и т
 елекоммуникаций
LOCATION:2 к. 466
END:VEVENT
BEGIN:VEVENT
UID:9ope@192.168.245.71:3006
SEQUENCE:0
DTSTAMP:20260422T203201Z
DTSTART:20251209T070000Z
DTEND:20251209T093000Z
SUMMARY:Лабораторный практикум по системам мобильной связи
LOCATION:2 к. каф.
END:VEVENT
BEGIN:VEVENT
UID:idjj@192.168.245.71:3006
SEQUENCE:0
DTSTAMP:20260422T203201Z
DTSTART:20251209T110000Z
DTEND:20251209T124000Z
SUMMARY:Цифровые устройства и микропроцессоры
LOCATION:2 к. 470
END:VEVENT
BEGIN:VEVENT
UID:agjf@192.168.245.71:3006
SEQUENCE:0
DTSTAMP:20260422T203201Z
DTSTART:20251209T130000Z
DTEND:20251209T144000Z
SUMMARY:Основы информационной безопасности
LOCATION:2 к. 359
END:VEVENT
BEGIN:VEVENT
UID:y584@192.168.245.71:3006
SEQUENCE:0
DTSTAMP:20260422T203201Z
DTSTART:20251210T090000Z
DTEND:20251210T104000Z
SUMMARY:Схемотехника аналоговых электронных устройств
LOCATION:2 к. 232
END:VEVENT
BEGIN:VEVENT
UID:hqql@192.168.245.71:3006
SEQUENCE:0
DTSTAMP:20260422T203201Z
DTSTART:20251210T110000Z
DTEND:20251210T124000Z
SUMMARY:Схемотехника аналоговых электронных устройств
LOCATION:2 к. 232
END:VEVENT
BEGIN:VEVENT
UID:zux0@192.168.245.71:3006
SEQUENCE:0
DTSTAMP:20260422T203201Z
DTSTART:20251210T130000Z
DTEND:20251210T144000Z
SUMMARY:Основы информационной безопасности
LOCATION:2 к. 346
END:VEVENT
BEGIN:VEVENT
UID:78ay@192.168.245.71:3006
SEQUENCE:0
DTSTAMP:20260422T203201Z
DTSTART:20251211T070000Z
DTEND:20251211T084000Z
SUMMARY:Радиотехнические цепи и сигналы
LOCATION:2 к. 353
END:VEVENT
BEGIN:VEVENT
UID:fp6r@192.168.245.71:3006
SEQUENCE:0
DTSTAMP:20260422T203201Z
DTSTART:20251211T090000Z
DTEND:20251211T104000Z
SUMMARY:Теория вероятностей и математическая статистика
LOCATION:2 к. 452
END:VEVENT
BEGIN:VEVENT
UID:uauy@192.168.245.71:3006
SEQUENCE:0
DTSTAMP:20260422T203201Z
DTSTART:20251211T110000Z
DTEND:20251211T124000Z
SUMMARY:Теория вероятностей и математическая статистика
LOCATION:2 к. 470
END:VEVENT
BEGIN:VEVENT
UID:lpep@192.168.245.71:3006
SEQUENCE:0
DTSTAMP:20260422T203201Z
DTSTART:20251211T130000Z
DTEND:20251211T144000Z
SUMMARY:Схемотехника аналоговых электронных устройств
LOCATION:2 к. 470
END:VEVENT
BEGIN:VEVENT
UID:ohsl@192.168.245.71:3006
SEQUENCE:0
DTSTAMP:20260422T203201Z
DTSTART:20251212T070000Z
DTEND:20251212T084000Z
SUMMARY:Радиоматериалы и радиокомпоненты
LOCATION:2 к. 470
END:VEVENT
BEGIN:VEVENT
UID:x93w@192.168.245.71:3006
SEQUENCE:0
DTSTAMP:20260422T203201Z
DTSTART:20251212T090000Z
DTEND:20251212T104000Z
SUMMARY:Радиотехнические цепи и сигналы
LOCATION:2 к. 470
END:VEVENT
BEGIN:VEVENT
UID:shxh@192.168.245.71:3006
SEQUENCE:0
DTSTAMP:20260422T203201Z
DTSTART:20251212T110000Z
DTEND:20251212T133000Z
SUMMARY:Цифровые устройства и микропроцессоры
LOCATION:2 к. 253
END:VEVENT
BEGIN:VEVENT
UID:cysr@192.168.245.71:3006
SEQUENCE:0
DTSTAMP:20260422T203201Z
DTSTART:20251213T053500Z
DTEND:20251213T142500Z
SUMMARY:Военная подготовка
LOCATION:Военная каф. кафедра
END:VEVENT
END:VCALENDAR