BEGIN:VCALENDAR
VERSION:2.0
PRODID:-//spbstu.ru//ical//RU
NAME:Расписание группы 4931102/30101
X-WR-CALNAME:Расписание группы 4931102/30101
TIMEZONE-ID:Europe/Moscow
X-WR-TIMEZONE:Europe/Moscow
BEGIN:VEVENT
UID:fsm7@192.168.245.71:3006
SEQUENCE:0
DTSTAMP:20260424T084438Z
DTSTART:20250922T053500Z
DTEND:20250922T142500Z
SUMMARY:Военная подготовка
LOCATION:Военная каф. кафедра
END:VEVENT
BEGIN:VEVENT
UID:2wnk@192.168.245.71:3006
SEQUENCE:0
DTSTAMP:20260424T084438Z
DTSTART:20250923T070000Z
DTEND:20250923T093000Z
SUMMARY:Лабораторный практикум по системам мобильной связи
LOCATION:2 к. каф.
END:VEVENT
BEGIN:VEVENT
UID:nozo@192.168.245.71:3006
SEQUENCE:0
DTSTAMP:20260424T084438Z
DTSTART:20250923T110000Z
DTEND:20250923T124000Z
SUMMARY:Цифровые устройства и микропроцессоры
LOCATION:2 к. 470
END:VEVENT
BEGIN:VEVENT
UID:j55e@192.168.245.71:3006
SEQUENCE:0
DTSTAMP:20260424T084438Z
DTSTART:20250923T130000Z
DTEND:20250923T144000Z
SUMMARY:Иностранный язык. Профессионально-ориентированный курс
LOCATION:2 к. 352
END:VEVENT
BEGIN:VEVENT
UID:mxpc@192.168.245.71:3006
SEQUENCE:0
DTSTAMP:20260424T084438Z
DTSTART:20250924T090000Z
DTEND:20250924T123000Z
SUMMARY:Схемотехника аналоговых электронных устройств
LOCATION:2 к. 232
END:VEVENT
BEGIN:VEVENT
UID:5qky@192.168.245.71:3006
SEQUENCE:0
DTSTAMP:20260424T084438Z
DTSTART:20250924T130000Z
DTEND:20250924T144000Z
SUMMARY:Основы информационной безопасности
LOCATION:2 к. 346
END:VEVENT
BEGIN:VEVENT
UID:rs0e@192.168.245.71:3006
SEQUENCE:0
DTSTAMP:20260424T084438Z
DTSTART:20250924T150000Z
DTEND:20250924T164000Z
SUMMARY:Лабораторный практикум по моделированию в области радиотехники и т
 елекоммуникаций
LOCATION:2 к. 470
END:VEVENT
BEGIN:VEVENT
UID:lxa0@192.168.245.71:3006
SEQUENCE:0
DTSTAMP:20260424T084438Z
DTSTART:20250925T070000Z
DTEND:20250925T084000Z
SUMMARY:Радиотехнические цепи и сигналы
LOCATION:2 к. 353
END:VEVENT
BEGIN:VEVENT
UID:ms13@192.168.245.71:3006
SEQUENCE:0
DTSTAMP:20260424T084438Z
DTSTART:20250925T090000Z
DTEND:20250925T104000Z
SUMMARY:Теория вероятностей и математическая статистика
LOCATION:2 к. 452
END:VEVENT
BEGIN:VEVENT
UID:5pf2@192.168.245.71:3006
SEQUENCE:0
DTSTAMP:20260424T084438Z
DTSTART:20250925T110000Z
DTEND:20250925T124000Z
SUMMARY:Теория вероятностей и математическая статистика
LOCATION:2 к. 470
END:VEVENT
BEGIN:VEVENT
UID:bifs@192.168.245.71:3006
SEQUENCE:0
DTSTAMP:20260424T084438Z
DTSTART:20250925T130000Z
DTEND:20250925T144000Z
SUMMARY:Схемотехника аналоговых электронных устройств
LOCATION:2 к. 470
END:VEVENT
BEGIN:VEVENT
UID:csy4@192.168.245.71:3006
SEQUENCE:0
DTSTAMP:20260424T084438Z
DTSTART:20250926T070000Z
DTEND:20250926T084000Z
SUMMARY:Радиоматериалы и радиокомпоненты
LOCATION:2 к. 470
END:VEVENT
BEGIN:VEVENT
UID:6zv4@192.168.245.71:3006
SEQUENCE:0
DTSTAMP:20260424T084438Z
DTSTART:20250926T090000Z
DTEND:20250926T104000Z
SUMMARY:Радиотехнические цепи и сигналы
LOCATION:2 к. 470
END:VEVENT
BEGIN:VEVENT
UID:76vs@192.168.245.71:3006
SEQUENCE:0
DTSTAMP:20260424T084438Z
DTSTART:20250926T110000Z
DTEND:20250926T133000Z
SUMMARY:Цифровые устройства и микропроцессоры
LOCATION:2 к. 253
END:VEVENT
BEGIN:VEVENT
UID:4xv7@192.168.245.71:3006
SEQUENCE:0
DTSTAMP:20260424T084438Z
DTSTART:20250927T053500Z
DTEND:20250927T142500Z
SUMMARY:Военная подготовка
LOCATION:Военная каф. кафедра
END:VEVENT
END:VCALENDAR