BEGIN:VCALENDAR
VERSION:2.0
PRODID:-//spbstu.ru//ical//RU
NAME:Расписание группы 4931102/30102
X-WR-CALNAME:Расписание группы 4931102/30102
TIMEZONE-ID:Europe/Moscow
X-WR-TIMEZONE:Europe/Moscow
BEGIN:VEVENT
UID:zkh3@192.168.245.71:3006
SEQUENCE:0
DTSTAMP:20260425T225820Z
DTSTART:20251124T053500Z
DTEND:20251124T142500Z
SUMMARY:Военная подготовка
LOCATION:Военная каф. кафедра
END:VEVENT
BEGIN:VEVENT
UID:0wys@192.168.245.71:3006
SEQUENCE:0
DTSTAMP:20260425T225820Z
DTSTART:20251125T090000Z
DTEND:20251125T104000Z
SUMMARY:Теория вероятностей и математическая статистика
LOCATION:2 к. 459
END:VEVENT
BEGIN:VEVENT
UID:2p0f@192.168.245.71:3006
SEQUENCE:0
DTSTAMP:20260425T225820Z
DTSTART:20251125T110000Z
DTEND:20251125T124000Z
SUMMARY:Цифровые устройства и микропроцессоры
LOCATION:2 к. 470
END:VEVENT
BEGIN:VEVENT
UID:myyw@192.168.245.71:3006
SEQUENCE:0
DTSTAMP:20260425T225820Z
DTSTART:20251125T130000Z
DTEND:20251125T144000Z
SUMMARY:Основы информационной безопасности
LOCATION:2 к. 359
END:VEVENT
BEGIN:VEVENT
UID:vk8q@192.168.245.71:3006
SEQUENCE:0
DTSTAMP:20260425T225820Z
DTSTART:20251126T070000Z
DTEND:20251126T093000Z
SUMMARY:Лабораторный практикум по системам мобильной связи
LOCATION:2 к. каф.
END:VEVENT
BEGIN:VEVENT
UID:k5rc@192.168.245.71:3006
SEQUENCE:0
DTSTAMP:20260425T225820Z
DTSTART:20251126T110000Z
DTEND:20251126T124000Z
SUMMARY:Основы информационной безопасности
LOCATION:2 к. 346
END:VEVENT
BEGIN:VEVENT
UID:2vhc@192.168.245.71:3006
SEQUENCE:0
DTSTAMP:20260425T225820Z
DTSTART:20251126T130000Z
DTEND:20251126T144000Z
SUMMARY:Радиотехнические цепи и сигналы
LOCATION:2 к. 352
END:VEVENT
BEGIN:VEVENT
UID:yngq@192.168.245.71:3006
SEQUENCE:0
DTSTAMP:20260425T225820Z
DTSTART:20251127T080000Z
DTEND:20251127T103000Z
SUMMARY:Цифровые устройства и микропроцессоры
LOCATION:2 к. 253
END:VEVENT
BEGIN:VEVENT
UID:ickc@192.168.245.71:3006
SEQUENCE:0
DTSTAMP:20260425T225820Z
DTSTART:20251127T110000Z
DTEND:20251127T124000Z
SUMMARY:Теория вероятностей и математическая статистика
LOCATION:2 к. 470
END:VEVENT
BEGIN:VEVENT
UID:tkot@192.168.245.71:3006
SEQUENCE:0
DTSTAMP:20260425T225820Z
DTSTART:20251127T130000Z
DTEND:20251127T144000Z
SUMMARY:Схемотехника аналоговых электронных устройств
LOCATION:2 к. 470
END:VEVENT
BEGIN:VEVENT
UID:qmeu@192.168.245.71:3006
SEQUENCE:0
DTSTAMP:20260425T225820Z
DTSTART:20251127T150000Z
DTEND:20251127T164000Z
SUMMARY:Лабораторный практикум по моделированию в области радиотехники и т
 елекоммуникаций
LOCATION:2 к. 466
END:VEVENT
BEGIN:VEVENT
UID:5c4a@192.168.245.71:3006
SEQUENCE:0
DTSTAMP:20260425T225820Z
DTSTART:20251128T070000Z
DTEND:20251128T084000Z
SUMMARY:Радиоматериалы и радиокомпоненты
LOCATION:2 к. 470
END:VEVENT
BEGIN:VEVENT
UID:z9zd@192.168.245.71:3006
SEQUENCE:0
DTSTAMP:20260425T225820Z
DTSTART:20251128T090000Z
DTEND:20251128T104000Z
SUMMARY:Радиотехнические цепи и сигналы
LOCATION:2 к. 470
END:VEVENT
BEGIN:VEVENT
UID:3xfs@192.168.245.71:3006
SEQUENCE:0
DTSTAMP:20260425T225820Z
DTSTART:20251128T110000Z
DTEND:20251128T143000Z
SUMMARY:Схемотехника аналоговых электронных устройств
LOCATION:2 к. 232
END:VEVENT
BEGIN:VEVENT
UID:f65w@192.168.245.71:3006
SEQUENCE:0
DTSTAMP:20260425T225820Z
DTSTART:20251129T053500Z
DTEND:20251129T142500Z
SUMMARY:Военная подготовка
LOCATION:Военная каф. кафедра
END:VEVENT
END:VCALENDAR