BEGIN:VCALENDAR
VERSION:2.0
PRODID:-//spbstu.ru//ical//RU
NAME:Расписание группы 4931104/30301
X-WR-CALNAME:Расписание группы 4931104/30301
TIMEZONE-ID:Europe/Moscow
X-WR-TIMEZONE:Europe/Moscow
BEGIN:VEVENT
UID:ucwz@192.168.245.71:3006
SEQUENCE:0
DTSTAMP:20260424T184125Z
DTSTART:20250922T053500Z
DTEND:20250922T142500Z
SUMMARY:Военная подготовка
LOCATION:Военная каф. кафедра
END:VEVENT
BEGIN:VEVENT
UID:j5zk@192.168.245.71:3006
SEQUENCE:0
DTSTAMP:20260424T184125Z
DTSTART:20250923T070000Z
DTEND:20250923T084000Z
SUMMARY:Электродинамика
LOCATION:2 к. 470
END:VEVENT
BEGIN:VEVENT
UID:oewn@192.168.245.71:3006
SEQUENCE:0
DTSTAMP:20260424T184125Z
DTSTART:20250923T090000Z
DTEND:20250923T104000Z
SUMMARY:Математическая физика
LOCATION:2 к. 470
END:VEVENT
BEGIN:VEVENT
UID:71p3@192.168.245.71:3006
SEQUENCE:0
DTSTAMP:20260424T184125Z
DTSTART:20250923T110000Z
DTEND:20250923T124000Z
SUMMARY:Математическая физика
LOCATION:2 к. 459
END:VEVENT
BEGIN:VEVENT
UID:xw5h@192.168.245.71:3006
SEQUENCE:0
DTSTAMP:20260424T184125Z
DTSTART:20250924T070000Z
DTEND:20250924T084000Z
SUMMARY:Электродинамика
LOCATION:2 к. 458
END:VEVENT
BEGIN:VEVENT
UID:hi7j@192.168.245.71:3006
SEQUENCE:0
DTSTAMP:20260424T184125Z
DTSTART:20250924T110000Z
DTEND:20250924T143000Z
SUMMARY:Метрология и радиоизмерения
LOCATION:2 к. 233
END:VEVENT
BEGIN:VEVENT
UID:tk29@192.168.245.71:3006
SEQUENCE:0
DTSTAMP:20260424T184125Z
DTSTART:20250925T070000Z
DTEND:20250925T084000Z
SUMMARY:Схемотехника цифровых устройств
LOCATION:2 к. 458
END:VEVENT
BEGIN:VEVENT
UID:t6jt@192.168.245.71:3006
SEQUENCE:0
DTSTAMP:20260424T184125Z
DTSTART:20250925T090000Z
DTEND:20250925T104000Z
SUMMARY:Теория вероятностей и математическая статистика
LOCATION:2 к. 470
END:VEVENT
BEGIN:VEVENT
UID:gtks@192.168.245.71:3006
SEQUENCE:0
DTSTAMP:20260424T184125Z
DTSTART:20250925T110000Z
DTEND:20250925T124000Z
SUMMARY:Физика конденсированного состояния
LOCATION:2 к. 458
END:VEVENT
BEGIN:VEVENT
UID:dbjx@192.168.245.71:3006
SEQUENCE:0
DTSTAMP:20260424T184125Z
DTSTART:20250926T070000Z
DTEND:20250926T084000Z
SUMMARY:Автоматизация физического эксперимента
LOCATION:2 к. 466
END:VEVENT
BEGIN:VEVENT
UID:lwvu@192.168.245.71:3006
SEQUENCE:0
DTSTAMP:20260424T184125Z
DTSTART:20250926T090000Z
DTEND:20250926T104000Z
SUMMARY:Автоматизация физического эксперимента
LOCATION:2 к. 466
END:VEVENT
BEGIN:VEVENT
UID:xzsv@192.168.245.71:3006
SEQUENCE:0
DTSTAMP:20260424T184125Z
DTSTART:20250926T110000Z
DTEND:20250926T124000Z
SUMMARY:Схемотехника цифровых устройств
LOCATION:2 к. 359
END:VEVENT
BEGIN:VEVENT
UID:6m8k@192.168.245.71:3006
SEQUENCE:0
DTSTAMP:20260424T184125Z
DTSTART:20250926T130000Z
DTEND:20250926T144000Z
SUMMARY:Электродинамика
LOCATION:2 к. 470
END:VEVENT
BEGIN:VEVENT
UID:95ik@192.168.245.71:3006
SEQUENCE:0
DTSTAMP:20260424T184125Z
DTSTART:20250927T053500Z
DTEND:20250927T142500Z
SUMMARY:Военная подготовка
LOCATION:Военная каф. кафедра
END:VEVENT
END:VCALENDAR