BEGIN:VCALENDAR
VERSION:2.0
PRODID:-//spbstu.ru//ical//RU
NAME:Расписание группы 4931104/30301
X-WR-CALNAME:Расписание группы 4931104/30301
TIMEZONE-ID:Europe/Moscow
X-WR-TIMEZONE:Europe/Moscow
BEGIN:VEVENT
UID:ews9@192.168.245.71:3006
SEQUENCE:0
DTSTAMP:20260421T084720Z
DTSTART:20260302T053500Z
DTEND:20260302T142500Z
SUMMARY:Военная подготовка
LOCATION:Военная каф. кафедра
END:VEVENT
BEGIN:VEVENT
UID:gsj5@192.168.245.71:3006
SEQUENCE:0
DTSTAMP:20260421T084720Z
DTSTART:20260303T070000Z
DTEND:20260303T084000Z
SUMMARY:Программирование встроенных систем
LOCATION:2 к. 466
END:VEVENT
BEGIN:VEVENT
UID:hcgm@192.168.245.71:3006
SEQUENCE:0
DTSTAMP:20260421T084720Z
DTSTART:20260303T090000Z
DTEND:20260303T104000Z
SUMMARY:Математическая физика
LOCATION:2 к. 470
END:VEVENT
BEGIN:VEVENT
UID:jtwg@192.168.245.71:3006
SEQUENCE:0
DTSTAMP:20260421T084720Z
DTSTART:20260303T110000Z
DTEND:20260303T124000Z
SUMMARY:Квантовая механика
LOCATION:2 к. 470
END:VEVENT
BEGIN:VEVENT
UID:obcf@192.168.245.71:3006
SEQUENCE:0
DTSTAMP:20260421T084720Z
DTSTART:20260303T130000Z
DTEND:20260303T144000Z
SUMMARY:Основы компьютерного моделирования микроэлектронных устройств
LOCATION:2 к. 470
END:VEVENT
BEGIN:VEVENT
UID:0gbj@192.168.245.71:3006
SEQUENCE:0
DTSTAMP:20260421T084720Z
DTSTART:20260303T150000Z
DTEND:20260303T170000Z
SUMMARY:Метрология и радиоизмерения
LOCATION:2 к. 233
END:VEVENT
BEGIN:VEVENT
UID:7ujl@192.168.245.71:3006
SEQUENCE:0
DTSTAMP:20260421T084720Z
DTSTART:20260304T070000Z
DTEND:20260304T084000Z
SUMMARY:Схемотехника аналоговых устройств
LOCATION:2 к. 359
END:VEVENT
BEGIN:VEVENT
UID:k5mt@192.168.245.71:3006
SEQUENCE:0
DTSTAMP:20260421T084720Z
DTSTART:20260304T090000Z
DTEND:20260304T104000Z
SUMMARY:Математическая физика
LOCATION:2 к. 459
END:VEVENT
BEGIN:VEVENT
UID:xzxx@192.168.245.71:3006
SEQUENCE:0
DTSTAMP:20260421T084720Z
DTSTART:20260304T110000Z
DTEND:20260304T124000Z
SUMMARY:Квантовая механика
LOCATION:2 к. 352
END:VEVENT
BEGIN:VEVENT
UID:4e3n@192.168.245.71:3006
SEQUENCE:0
DTSTAMP:20260421T084720Z
DTSTART:20260304T130000Z
DTEND:20260304T144000Z
SUMMARY:Основы компьютерного моделирования микроэлектронных устройств
LOCATION:2 к. 466
END:VEVENT
BEGIN:VEVENT
UID:6iu8@192.168.245.71:3006
SEQUENCE:0
DTSTAMP:20260421T084720Z
DTSTART:20260305T070000Z
DTEND:20260305T084000Z
SUMMARY:Схемотехника аналоговых устройств
LOCATION:2 к. 462
END:VEVENT
BEGIN:VEVENT
UID:2f6a@192.168.245.71:3006
SEQUENCE:0
DTSTAMP:20260421T084720Z
DTSTART:20260305T090000Z
DTEND:20260305T104000Z
SUMMARY:Физика конденсированного состояния
LOCATION:2 к. 359
END:VEVENT
BEGIN:VEVENT
UID:3tgn@192.168.245.71:3006
SEQUENCE:0
DTSTAMP:20260421T084720Z
DTSTART:20260305T110000Z
DTEND:20260305T143000Z
SUMMARY:Экспериментальные методы исследования
LOCATION:2 к. 460
END:VEVENT
BEGIN:VEVENT
UID:4fvl@192.168.245.71:3006
SEQUENCE:0
DTSTAMP:20260421T084720Z
DTSTART:20260305T110000Z
DTEND:20260305T143000Z
SUMMARY:Экспериментальные методы исследования
LOCATION:2 к. 450
END:VEVENT
BEGIN:VEVENT
UID:1hws@192.168.245.71:3006
SEQUENCE:0
DTSTAMP:20260421T084720Z
DTSTART:20260305T160000Z
DTEND:20260305T174000Z
SUMMARY:Карьерная адаптивность. Компьютерное моделирование физических проц
 ессов с использованием Wolfram Mathematica
LOCATION:DL Дистанционно
END:VEVENT
BEGIN:VEVENT
UID:3w96@192.168.245.71:3006
SEQUENCE:0
DTSTAMP:20260421T084720Z
DTSTART:20260306T090000Z
DTEND:20260306T104000Z
SUMMARY:Экспериментальные методы исследования
LOCATION:НИК В2.02
END:VEVENT
BEGIN:VEVENT
UID:fhqy@192.168.245.71:3006
SEQUENCE:0
DTSTAMP:20260421T084720Z
DTSTART:20260306T110000Z
DTEND:20260306T124000Z
SUMMARY:Физика конденсированного состояния
LOCATION:2 к. 452
END:VEVENT
END:VCALENDAR