BEGIN:VCALENDAR
VERSION:2.0
PRODID:-//spbstu.ru//ical//RU
NAME:Расписание группы 4931104/30301
X-WR-CALNAME:Расписание группы 4931104/30301
TIMEZONE-ID:Europe/Moscow
X-WR-TIMEZONE:Europe/Moscow
BEGIN:VEVENT
UID:ij8h@192.168.245.71:3006
SEQUENCE:0
DTSTAMP:20260420T235741Z
DTSTART:20260504T053500Z
DTEND:20260504T142500Z
SUMMARY:Военная подготовка
LOCATION:Военная каф. кафедра
END:VEVENT
BEGIN:VEVENT
UID:sefl@192.168.245.71:3006
SEQUENCE:0
DTSTAMP:20260420T235741Z
DTSTART:20260505T070000Z
DTEND:20260505T084000Z
SUMMARY:Программирование встроенных систем
LOCATION:2 к. 466
END:VEVENT
BEGIN:VEVENT
UID:w73q@192.168.245.71:3006
SEQUENCE:0
DTSTAMP:20260420T235741Z
DTSTART:20260505T090000Z
DTEND:20260505T104000Z
SUMMARY:Математическая физика
LOCATION:2 к. 470
END:VEVENT
BEGIN:VEVENT
UID:x7ha@192.168.245.71:3006
SEQUENCE:0
DTSTAMP:20260420T235741Z
DTSTART:20260505T110000Z
DTEND:20260505T124000Z
SUMMARY:Квантовая механика
LOCATION:2 к. 470
END:VEVENT
BEGIN:VEVENT
UID:piqq@192.168.245.71:3006
SEQUENCE:0
DTSTAMP:20260420T235741Z
DTSTART:20260505T130000Z
DTEND:20260505T144000Z
SUMMARY:Основы компьютерного моделирования микроэлектронных устройств
LOCATION:2 к. 470
END:VEVENT
BEGIN:VEVENT
UID:ut1c@192.168.245.71:3006
SEQUENCE:0
DTSTAMP:20260420T235741Z
DTSTART:20260506T070000Z
DTEND:20260506T084000Z
SUMMARY:Схемотехника аналоговых устройств
LOCATION:2 к. 359
END:VEVENT
BEGIN:VEVENT
UID:x1w4@192.168.245.71:3006
SEQUENCE:0
DTSTAMP:20260420T235741Z
DTSTART:20260506T090000Z
DTEND:20260506T104000Z
SUMMARY:Математическая физика
LOCATION:2 к. 459
END:VEVENT
BEGIN:VEVENT
UID:2igx@192.168.245.71:3006
SEQUENCE:0
DTSTAMP:20260420T235741Z
DTSTART:20260506T110000Z
DTEND:20260506T124000Z
SUMMARY:Квантовая механика
LOCATION:2 к. 352
END:VEVENT
BEGIN:VEVENT
UID:lgt3@192.168.245.71:3006
SEQUENCE:0
DTSTAMP:20260420T235741Z
DTSTART:20260506T130000Z
DTEND:20260506T144000Z
SUMMARY:Основы компьютерного моделирования микроэлектронных устройств
LOCATION:2 к. 466
END:VEVENT
BEGIN:VEVENT
UID:6d4u@192.168.245.71:3006
SEQUENCE:0
DTSTAMP:20260420T235741Z
DTSTART:20260507T070000Z
DTEND:20260507T084000Z
SUMMARY:Схемотехника аналоговых устройств
LOCATION:2 к. 462
END:VEVENT
BEGIN:VEVENT
UID:marq@192.168.245.71:3006
SEQUENCE:0
DTSTAMP:20260420T235741Z
DTSTART:20260507T090000Z
DTEND:20260507T104000Z
SUMMARY:Физика конденсированного состояния
LOCATION:2 к. 359
END:VEVENT
BEGIN:VEVENT
UID:mhoq@192.168.245.71:3006
SEQUENCE:0
DTSTAMP:20260420T235741Z
DTSTART:20260507T110000Z
DTEND:20260507T143000Z
SUMMARY:Научно-исследовательский практикум в области интегральной электрон
 ики
LOCATION:2 к. 466
END:VEVENT
BEGIN:VEVENT
UID:c457@192.168.245.71:3006
SEQUENCE:0
DTSTAMP:20260420T235741Z
DTSTART:20260508T090000Z
DTEND:20260508T104000Z
SUMMARY:Математическая физика
LOCATION:2 к. 470
END:VEVENT
END:VCALENDAR