BEGIN:VCALENDAR
VERSION:2.0
PRODID:-//spbstu.ru//ical//RU
NAME:Расписание группы 4931104/30302
X-WR-CALNAME:Расписание группы 4931104/30302
TIMEZONE-ID:Europe/Moscow
X-WR-TIMEZONE:Europe/Moscow
BEGIN:VEVENT
UID:jzl5@192.168.245.71:3006
SEQUENCE:0
DTSTAMP:20260421T035542Z
DTSTART:20260518T053500Z
DTEND:20260518T142500Z
SUMMARY:Военная подготовка
LOCATION:Военная каф. кафедра
END:VEVENT
BEGIN:VEVENT
UID:0ujr@192.168.245.71:3006
SEQUENCE:0
DTSTAMP:20260421T035542Z
DTSTART:20260519T070000Z
DTEND:20260519T084000Z
SUMMARY:Квантовая механика
LOCATION:2 к. 353
END:VEVENT
BEGIN:VEVENT
UID:npv9@192.168.245.71:3006
SEQUENCE:0
DTSTAMP:20260421T035542Z
DTSTART:20260519T090000Z
DTEND:20260519T104000Z
SUMMARY:Математическая физика
LOCATION:2 к. 470
END:VEVENT
BEGIN:VEVENT
UID:29hj@192.168.245.71:3006
SEQUENCE:0
DTSTAMP:20260421T035542Z
DTSTART:20260519T110000Z
DTEND:20260519T124000Z
SUMMARY:Квантовая механика
LOCATION:2 к. 470
END:VEVENT
BEGIN:VEVENT
UID:xrmo@192.168.245.71:3006
SEQUENCE:0
DTSTAMP:20260421T035542Z
DTSTART:20260519T130000Z
DTEND:20260519T144000Z
SUMMARY:Основы компьютерного моделирования микроэлектронных устройств
LOCATION:2 к. 470
END:VEVENT
BEGIN:VEVENT
UID:ljqu@192.168.245.71:3006
SEQUENCE:0
DTSTAMP:20260421T035542Z
DTSTART:20260520T070000Z
DTEND:20260520T084000Z
SUMMARY:Схемотехника аналоговых устройств
LOCATION:2 к. 359
END:VEVENT
BEGIN:VEVENT
UID:onhi@192.168.245.71:3006
SEQUENCE:0
DTSTAMP:20260421T035542Z
DTSTART:20260520T090000Z
DTEND:20260520T104000Z
SUMMARY:Схемотехника аналоговых устройств
LOCATION:2 к. 462
END:VEVENT
BEGIN:VEVENT
UID:81zg@192.168.245.71:3006
SEQUENCE:0
DTSTAMP:20260421T035542Z
DTSTART:20260520T110000Z
DTEND:20260520T124000Z
SUMMARY:Математическая физика
LOCATION:2 к. 459
END:VEVENT
BEGIN:VEVENT
UID:l2a0@192.168.245.71:3006
SEQUENCE:0
DTSTAMP:20260421T035542Z
DTSTART:20260521T070000Z
DTEND:20260521T084000Z
SUMMARY:Основы компьютерного моделирования микроэлектронных устройств
LOCATION:2 к. 466
END:VEVENT
BEGIN:VEVENT
UID:a8ba@192.168.245.71:3006
SEQUENCE:0
DTSTAMP:20260421T035542Z
DTSTART:20260521T090000Z
DTEND:20260521T104000Z
SUMMARY:Физика конденсированного состояния
LOCATION:2 к. 359
END:VEVENT
BEGIN:VEVENT
UID:z889@192.168.245.71:3006
SEQUENCE:0
DTSTAMP:20260421T035542Z
DTSTART:20260521T110000Z
DTEND:20260521T143000Z
SUMMARY:Экспериментальные методы исследования
LOCATION:2 к. 460
END:VEVENT
BEGIN:VEVENT
UID:bxwe@192.168.245.71:3006
SEQUENCE:0
DTSTAMP:20260421T035542Z
DTSTART:20260521T110000Z
DTEND:20260521T143000Z
SUMMARY:Экспериментальные методы исследования
LOCATION:2 к. 460
END:VEVENT
BEGIN:VEVENT
UID:mhge@192.168.245.71:3006
SEQUENCE:0
DTSTAMP:20260421T035542Z
DTSTART:20260522T070000Z
DTEND:20260522T084000Z
SUMMARY:Программирование встроенных систем
LOCATION:2 к. 466
END:VEVENT
BEGIN:VEVENT
UID:wrwj@192.168.245.71:3006
SEQUENCE:0
DTSTAMP:20260421T035542Z
DTSTART:20260522T090000Z
DTEND:20260522T104000Z
SUMMARY:Математическая физика
LOCATION:2 к. 470
END:VEVENT
BEGIN:VEVENT
UID:76ab@192.168.245.71:3006
SEQUENCE:0
DTSTAMP:20260421T035542Z
DTSTART:20260522T110000Z
DTEND:20260522T124000Z
SUMMARY:Физика конденсированного состояния
LOCATION:2 к. 452
END:VEVENT
END:VCALENDAR