BEGIN:VCALENDAR
VERSION:2.0
PRODID:-//spbstu.ru//ical//RU
NAME:Расписание группы 4931104/30303
X-WR-CALNAME:Расписание группы 4931104/30303
TIMEZONE-ID:Europe/Moscow
X-WR-TIMEZONE:Europe/Moscow
BEGIN:VEVENT
UID:ge8v@192.168.245.71:3006
SEQUENCE:0
DTSTAMP:20260425T020353Z
DTSTART:20251201T070000Z
DTEND:20251201T084000Z
SUMMARY:Схемотехника цифровых устройств
LOCATION:2 к. 458
END:VEVENT
BEGIN:VEVENT
UID:8dl2@192.168.245.71:3006
SEQUENCE:0
DTSTAMP:20260425T020353Z
DTSTART:20251201T090000Z
DTEND:20251201T104000Z
SUMMARY:Электродинамика
LOCATION:2 к. 459
END:VEVENT
BEGIN:VEVENT
UID:6v7e@192.168.245.71:3006
SEQUENCE:0
DTSTAMP:20260425T020353Z
DTSTART:20251202T070000Z
DTEND:20251202T084000Z
SUMMARY:Электродинамика
LOCATION:2 к. 470
END:VEVENT
BEGIN:VEVENT
UID:d2ia@192.168.245.71:3006
SEQUENCE:0
DTSTAMP:20260425T020353Z
DTSTART:20251202T090000Z
DTEND:20251202T104000Z
SUMMARY:Математическая физика
LOCATION:2 к. 470
END:VEVENT
BEGIN:VEVENT
UID:tw1n@192.168.245.71:3006
SEQUENCE:0
DTSTAMP:20260425T020353Z
DTSTART:20251203T090000Z
DTEND:20251203T104000Z
SUMMARY:Физика конденсированного состояния
LOCATION:2 к. 470
END:VEVENT
BEGIN:VEVENT
UID:qrle@192.168.245.71:3006
SEQUENCE:0
DTSTAMP:20260425T020353Z
DTSTART:20251203T110000Z
DTEND:20251203T124000Z
SUMMARY:Теория вероятностей и математическая статистика
LOCATION:2 к. 430а
END:VEVENT
BEGIN:VEVENT
UID:7ahs@192.168.245.71:3006
SEQUENCE:0
DTSTAMP:20260425T020353Z
DTSTART:20251203T130000Z
DTEND:20251203T151500Z
SUMMARY:Карьерная адаптивность: Русский язык как иностранный
LOCATION:15 к. 505
END:VEVENT
BEGIN:VEVENT
UID:1b1u@192.168.245.71:3006
SEQUENCE:0
DTSTAMP:20260425T020353Z
DTSTART:20251204T060000Z
DTEND:20251204T081500Z
SUMMARY:Карьерная адаптивность: Русский язык как иностранный
LOCATION:15 к. 505
END:VEVENT
BEGIN:VEVENT
UID:dmg2@192.168.245.71:3006
SEQUENCE:0
DTSTAMP:20260425T020353Z
DTSTART:20251204T090000Z
DTEND:20251204T104000Z
SUMMARY:Теория вероятностей и математическая статистика
LOCATION:2 к. 470
END:VEVENT
BEGIN:VEVENT
UID:uast@192.168.245.71:3006
SEQUENCE:0
DTSTAMP:20260425T020353Z
DTSTART:20251204T110000Z
DTEND:20251204T143000Z
SUMMARY:Метрология и радиоизмерения
LOCATION:2 к. 233
END:VEVENT
BEGIN:VEVENT
UID:r0hx@192.168.245.71:3006
SEQUENCE:0
DTSTAMP:20260425T020353Z
DTSTART:20251205T090000Z
DTEND:20251205T104000Z
SUMMARY:Математическая физика
LOCATION:2 к. 452
END:VEVENT
BEGIN:VEVENT
UID:ye13@192.168.245.71:3006
SEQUENCE:0
DTSTAMP:20260425T020353Z
DTSTART:20251205T110000Z
DTEND:20251205T124000Z
SUMMARY:Схемотехника цифровых устройств
LOCATION:2 к. 359
END:VEVENT
BEGIN:VEVENT
UID:p46z@192.168.245.71:3006
SEQUENCE:0
DTSTAMP:20260425T020353Z
DTSTART:20251205T130000Z
DTEND:20251205T144000Z
SUMMARY:Электродинамика
LOCATION:2 к. 470
END:VEVENT
BEGIN:VEVENT
UID:xgg2@192.168.245.71:3006
SEQUENCE:0
DTSTAMP:20260425T020353Z
DTSTART:20251206T070000Z
DTEND:20251206T084000Z
SUMMARY:Автоматизация физического эксперимента
LOCATION:2 к. 466
END:VEVENT
BEGIN:VEVENT
UID:8n5p@192.168.245.71:3006
SEQUENCE:0
DTSTAMP:20260425T020353Z
DTSTART:20251206T090000Z
DTEND:20251206T104000Z
SUMMARY:Автоматизация физического эксперимента
LOCATION:2 к. 466
END:VEVENT
END:VCALENDAR