BEGIN:VCALENDAR
VERSION:2.0
PRODID:-//spbstu.ru//ical//RU
NAME:Расписание группы 4931601/31001
X-WR-CALNAME:Расписание группы 4931601/31001
TIMEZONE-ID:Europe/Moscow
X-WR-TIMEZONE:Europe/Moscow
BEGIN:VEVENT
UID:k94e@192.168.245.71:3006
SEQUENCE:0
DTSTAMP:20260420T203916Z
DTSTART:20260420T053500Z
DTEND:20260420T142500Z
SUMMARY:Военная подготовка
LOCATION:Военная каф. кафедра
END:VEVENT
BEGIN:VEVENT
UID:bhv4@192.168.245.71:3006
SEQUENCE:0
DTSTAMP:20260420T203916Z
DTSTART:20260421T070000Z
DTEND:20260421T084000Z
SUMMARY:Математическая физика
LOCATION:2 к. 430а
END:VEVENT
BEGIN:VEVENT
UID:drnk@192.168.245.71:3006
SEQUENCE:0
DTSTAMP:20260420T203916Z
DTSTART:20260421T090000Z
DTEND:20260421T104000Z
SUMMARY:Математическая физика
LOCATION:2 к. 470
END:VEVENT
BEGIN:VEVENT
UID:j2zb@192.168.245.71:3006
SEQUENCE:0
DTSTAMP:20260420T203916Z
DTSTART:20260421T110000Z
DTEND:20260421T143000Z
SUMMARY:Экспериментальные методы исследований
LOCATION:2 к. каф. ВИФШ
END:VEVENT
BEGIN:VEVENT
UID:62bi@192.168.245.71:3006
SEQUENCE:0
DTSTAMP:20260420T203916Z
DTSTART:20260421T110000Z
DTEND:20260421T143000Z
SUMMARY:Экспериментальные методы исследований
LOCATION:2 к. каф. ВИФШ
END:VEVENT
BEGIN:VEVENT
UID:319s@192.168.245.71:3006
SEQUENCE:0
DTSTAMP:20260420T203916Z
DTSTART:20260422T090000Z
DTEND:20260422T104000Z
SUMMARY:Квантовая механика
LOCATION:ГЗ 153
END:VEVENT
BEGIN:VEVENT
UID:jr6z@192.168.245.71:3006
SEQUENCE:0
DTSTAMP:20260420T203916Z
DTSTART:20260422T110000Z
DTEND:20260422T124000Z
SUMMARY:Физика твердого тела и полупроводников
LOCATION:2 к. 359
END:VEVENT
BEGIN:VEVENT
UID:d5yz@192.168.245.71:3006
SEQUENCE:0
DTSTAMP:20260420T203916Z
DTSTART:20260423T070000Z
DTEND:20260423T084000Z
SUMMARY:Практикум по биофизике
LOCATION:2 к. 411
END:VEVENT
BEGIN:VEVENT
UID:q2o0@192.168.245.71:3006
SEQUENCE:0
DTSTAMP:20260420T203916Z
DTSTART:20260423T090000Z
DTEND:20260423T104000Z
SUMMARY:Экспериментальные методы исследований
LOCATION:2 к. 411
END:VEVENT
BEGIN:VEVENT
UID:r6er@192.168.245.71:3006
SEQUENCE:0
DTSTAMP:20260420T203916Z
DTSTART:20260423T110000Z
DTEND:20260423T124000Z
SUMMARY:Физика твердого тела и полупроводников
LOCATION:2 к. 411
END:VEVENT
BEGIN:VEVENT
UID:agyl@192.168.245.71:3006
SEQUENCE:0
DTSTAMP:20260420T203916Z
DTSTART:20260424T070000Z
DTEND:20260424T084000Z
SUMMARY:Квантовая механика
LOCATION:2 к. 214
END:VEVENT
BEGIN:VEVENT
UID:5ff3@192.168.245.71:3006
SEQUENCE:0
DTSTAMP:20260420T203916Z
DTSTART:20260424T090000Z
DTEND:20260424T104000Z
SUMMARY:Математическая физика
LOCATION:2 к. 470
END:VEVENT
BEGIN:VEVENT
UID:50wu@192.168.245.71:3006
SEQUENCE:0
DTSTAMP:20260420T203916Z
DTSTART:20260424T110000Z
DTEND:20260424T133000Z
SUMMARY:Научно-исследовательские проекты (лаб.)
LOCATION:2 к. каф.
END:VEVENT
BEGIN:VEVENT
UID:q0jl@192.168.245.71:3006
SEQUENCE:0
DTSTAMP:20260420T203916Z
DTSTART:20260424T110000Z
DTEND:20260424T133000Z
SUMMARY:Научно-исследовательские проекты (лаб.)
LOCATION:2 к. каф.
END:VEVENT
END:VCALENDAR