BEGIN:VCALENDAR
VERSION:2.0
PRODID:-//spbstu.ru//ical//RU
NAME:Расписание группы 4931601/31101
X-WR-CALNAME:Расписание группы 4931601/31101
TIMEZONE-ID:Europe/Moscow
X-WR-TIMEZONE:Europe/Moscow
BEGIN:VEVENT
UID:sp6i@192.168.245.71:3006
SEQUENCE:0
DTSTAMP:20260426T040516Z
DTSTART:20251020T053500Z
DTEND:20251020T142500Z
SUMMARY:Военная подготовка
LOCATION:Военная каф. кафедра
END:VEVENT
BEGIN:VEVENT
UID:642o@192.168.245.71:3006
SEQUENCE:0
DTSTAMP:20260426T040516Z
DTSTART:20251021T070000Z
DTEND:20251021T084000Z
SUMMARY:Электродинамика
LOCATION:2 к. 470
END:VEVENT
BEGIN:VEVENT
UID:z2g1@192.168.245.71:3006
SEQUENCE:0
DTSTAMP:20260426T040516Z
DTSTART:20251021T090000Z
DTEND:20251021T104000Z
SUMMARY:Математическая физика
LOCATION:2 к. 470
END:VEVENT
BEGIN:VEVENT
UID:vspp@192.168.245.71:3006
SEQUENCE:0
DTSTAMP:20260426T040516Z
DTSTART:20251021T110000Z
DTEND:20251021T124000Z
SUMMARY:Метрология
LOCATION:2 к. 359
END:VEVENT
BEGIN:VEVENT
UID:znfi@192.168.245.71:3006
SEQUENCE:0
DTSTAMP:20260426T040516Z
DTSTART:20251022T070000Z
DTEND:20251022T084000Z
SUMMARY:Электродинамика
LOCATION:2 к. 431
END:VEVENT
BEGIN:VEVENT
UID:wwxh@192.168.245.71:3006
SEQUENCE:0
DTSTAMP:20260426T040516Z
DTSTART:20251022T090000Z
DTEND:20251022T104000Z
SUMMARY:Физика конденсированного состояния
LOCATION:2 к. 359
END:VEVENT
BEGIN:VEVENT
UID:4esv@192.168.245.71:3006
SEQUENCE:0
DTSTAMP:20260426T040516Z
DTSTART:20251022T110000Z
DTEND:20251022T124000Z
SUMMARY:Материалы электронной техники
LOCATION:2 к. 359
END:VEVENT
BEGIN:VEVENT
UID:7kry@192.168.245.71:3006
SEQUENCE:0
DTSTAMP:20260426T040516Z
DTSTART:20251022T130000Z
DTEND:20251022T144000Z
SUMMARY:Теория вероятностей и математическая статистика
LOCATION:2 к. 431
END:VEVENT
BEGIN:VEVENT
UID:unmu@192.168.245.71:3006
SEQUENCE:0
DTSTAMP:20260426T040516Z
DTSTART:20251023T070000Z
DTEND:20251023T084000Z
SUMMARY:Математическая физика
LOCATION:2 к. 431
END:VEVENT
BEGIN:VEVENT
UID:nrnw@192.168.245.71:3006
SEQUENCE:0
DTSTAMP:20260426T040516Z
DTSTART:20251023T090000Z
DTEND:20251023T104000Z
SUMMARY:Теория вероятностей и математическая статистика
LOCATION:2 к. 470
END:VEVENT
BEGIN:VEVENT
UID:o024@192.168.245.71:3006
SEQUENCE:0
DTSTAMP:20260426T040516Z
DTSTART:20251023T110000Z
DTEND:20251023T124000Z
SUMMARY:Лабораторный практикум в области полупроводниковой опто- и наноэле
 ктроники
LOCATION:2 к. 214
END:VEVENT
BEGIN:VEVENT
UID:u1qs@192.168.245.71:3006
SEQUENCE:0
DTSTAMP:20260426T040516Z
DTSTART:20251023T110000Z
DTEND:20251023T124000Z
SUMMARY:Лабораторный практикум в области полупроводниковой опто- и наноэле
 ктроники
LOCATION:2 к. 214
END:VEVENT
BEGIN:VEVENT
UID:4nr9@192.168.245.71:3006
SEQUENCE:0
DTSTAMP:20260426T040516Z
DTSTART:20251024T090000Z
DTEND:20251024T104000Z
SUMMARY:Материалы электронной техники
LOCATION:2 к. 359
END:VEVENT
BEGIN:VEVENT
UID:hu4n@192.168.245.71:3006
SEQUENCE:0
DTSTAMP:20260426T040516Z
DTSTART:20251024T110000Z
DTEND:20251024T124000Z
SUMMARY:Физика конденсированного состояния
LOCATION:2 к. 209
END:VEVENT
BEGIN:VEVENT
UID:q44o@192.168.245.71:3006
SEQUENCE:0
DTSTAMP:20260426T040516Z
DTSTART:20251024T130000Z
DTEND:20251024T144000Z
SUMMARY:Электродинамика
LOCATION:2 к. 470
END:VEVENT
BEGIN:VEVENT
UID:f9mn@192.168.245.71:3006
SEQUENCE:0
DTSTAMP:20260426T040516Z
DTSTART:20251025T053500Z
DTEND:20251025T142500Z
SUMMARY:Военная подготовка
LOCATION:Военная каф. кафедра
END:VEVENT
END:VCALENDAR