BEGIN:VCALENDAR
VERSION:2.0
PRODID:-//spbstu.ru//ical//RU
NAME:Расписание группы 4931101/20101
X-WR-CALNAME:Расписание группы 4931101/20101
TIMEZONE-ID:Europe/Moscow
X-WR-TIMEZONE:Europe/Moscow
BEGIN:VEVENT
UID:2uyq@192.168.245.71:3006
SEQUENCE:0
DTSTAMP:20260423T073503Z
DTSTART:20251103T070000Z
DTEND:20251103T084000Z
SUMMARY:Электронные приборы сверхвысоких частот
LOCATION:2 к. 359
END:VEVENT
BEGIN:VEVENT
UID:pgdl@192.168.245.71:3006
SEQUENCE:0
DTSTAMP:20260423T073503Z
DTSTART:20251103T090000Z
DTEND:20251103T104000Z
SUMMARY:Общая теория связи
LOCATION:2 к. 470
END:VEVENT
BEGIN:VEVENT
UID:fv2x@192.168.245.71:3006
SEQUENCE:0
DTSTAMP:20260423T073503Z
DTSTART:20251103T110000Z
DTEND:20251103T124000Z
SUMMARY:Основы построения устройств генерирования и формирования сигналов
LOCATION:2 к. 252
END:VEVENT
BEGIN:VEVENT
UID:2lsd@192.168.245.71:3006
SEQUENCE:0
DTSTAMP:20260423T073503Z
DTSTART:20251103T110000Z
DTEND:20251103T124000Z
SUMMARY:Общая теория связи
LOCATION:2 к. 344
END:VEVENT
BEGIN:VEVENT
UID:b018@192.168.245.71:3006
SEQUENCE:0
DTSTAMP:20260423T073503Z
DTSTART:20251103T130000Z
DTEND:20251103T144000Z
SUMMARY:Основы построения устройств генерирования и формирования сигналов
LOCATION:2 к. 452
END:VEVENT
BEGIN:VEVENT
UID:qvne@192.168.245.71:3006
SEQUENCE:0
DTSTAMP:20260423T073503Z
DTSTART:20251105T070000Z
DTEND:20251105T084000Z
SUMMARY:Основы конструирования и технологии производства радиоэлектронных 
 средств
LOCATION:2 к. 470
END:VEVENT
BEGIN:VEVENT
UID:hs5g@192.168.245.71:3006
SEQUENCE:0
DTSTAMP:20260423T073503Z
DTSTART:20251105T090000Z
DTEND:20251105T104000Z
SUMMARY:Общая теория связи
LOCATION:2 к. 452
END:VEVENT
BEGIN:VEVENT
UID:0jl6@192.168.245.71:3006
SEQUENCE:0
DTSTAMP:20260423T073503Z
DTSTART:20251105T110000Z
DTEND:20251105T124000Z
SUMMARY:Основы построения устройств генерирования и формирования сигналов
LOCATION:2 к. 470
END:VEVENT
BEGIN:VEVENT
UID:68nt@192.168.245.71:3006
SEQUENCE:0
DTSTAMP:20260423T073503Z
DTSTART:20251105T130000Z
DTEND:20251105T144000Z
SUMMARY:Основы построения устройств приема и обработки сигналов
LOCATION:2 к. 470
END:VEVENT
BEGIN:VEVENT
UID:fydb@192.168.245.71:3006
SEQUENCE:0
DTSTAMP:20260423T073503Z
DTSTART:20251106T053500Z
DTEND:20251106T142500Z
SUMMARY:Военная подготовка
LOCATION:Военная каф. кафедра
END:VEVENT
BEGIN:VEVENT
UID:7hyw@192.168.245.71:3006
SEQUENCE:0
DTSTAMP:20260423T073503Z
DTSTART:20251107T070000Z
DTEND:20251107T093000Z
SUMMARY:Лабораторный практикум по схемотехнике аналоговых и цифровых устро
 йств
LOCATION:2 к. каф.
END:VEVENT
BEGIN:VEVENT
UID:cizh@192.168.245.71:3006
SEQUENCE:0
DTSTAMP:20260423T073503Z
DTSTART:20251108T070000Z
DTEND:20251108T103000Z
SUMMARY:Основы построения устройств приема и обработки сигналов
LOCATION:2 к. 345
END:VEVENT
BEGIN:VEVENT
UID:mwb2@192.168.245.71:3006
SEQUENCE:0
DTSTAMP:20260423T073503Z
DTSTART:20251108T110000Z
DTEND:20251108T143000Z
SUMMARY:Основы построения устройств приема и обработки сигналов
LOCATION:2 к. 345
END:VEVENT
END:VCALENDAR