BEGIN:VCALENDAR
VERSION:2.0
PRODID:-//spbstu.ru//ical//RU
NAME:Расписание группы 4931101/20101
X-WR-CALNAME:Расписание группы 4931101/20101
TIMEZONE-ID:Europe/Moscow
X-WR-TIMEZONE:Europe/Moscow
BEGIN:VEVENT
UID:pimf@192.168.245.71:3006
SEQUENCE:0
DTSTAMP:20260420T184659Z
DTSTART:20260420T070000Z
DTEND:20260420T084000Z
SUMMARY:Статистическая теория радиотехнических систем
LOCATION:2 к. 249
END:VEVENT
BEGIN:VEVENT
UID:4vfz@192.168.245.71:3006
SEQUENCE:0
DTSTAMP:20260420T184659Z
DTSTART:20260420T090000Z
DTEND:20260420T104000Z
SUMMARY:Устройства СВЧ и антенны
LOCATION:2 к. 470
END:VEVENT
BEGIN:VEVENT
UID:n6ny@192.168.245.71:3006
SEQUENCE:0
DTSTAMP:20260420T184659Z
DTSTART:20260420T110000Z
DTEND:20260420T124000Z
SUMMARY:Устройства СВЧ и антенны
LOCATION:2 к. 458
END:VEVENT
BEGIN:VEVENT
UID:cthi@192.168.245.71:3006
SEQUENCE:0
DTSTAMP:20260420T184659Z
DTSTART:20260420T130000Z
DTEND:20260420T144000Z
SUMMARY:Статистическая теория радиотехнических систем
LOCATION:2 к. 249
END:VEVENT
BEGIN:VEVENT
UID:t9mv@192.168.245.71:3006
SEQUENCE:0
DTSTAMP:20260420T184659Z
DTSTART:20260421T070000Z
DTEND:20260421T093000Z
SUMMARY:Лабораторный практикум по схемотехнике аналоговых и цифровых устро
 йств
LOCATION:2 к. каф.
END:VEVENT
BEGIN:VEVENT
UID:u11j@192.168.245.71:3006
SEQUENCE:0
DTSTAMP:20260420T184659Z
DTSTART:20260422T050000Z
DTEND:20260422T064000Z
SUMMARY:Научно-исследовательская работа
LOCATION:2 к. 470
END:VEVENT
BEGIN:VEVENT
UID:et6k@192.168.245.71:3006
SEQUENCE:0
DTSTAMP:20260420T184659Z
DTSTART:20260422T070000Z
DTEND:20260422T084000Z
SUMMARY:Радиотехнические системы
LOCATION:2 к. 452
END:VEVENT
BEGIN:VEVENT
UID:loso@192.168.245.71:3006
SEQUENCE:0
DTSTAMP:20260420T184659Z
DTSTART:20260422T090000Z
DTEND:20260422T104000Z
SUMMARY:Представление научных результатов (на английском языке)
LOCATION:2 к. 452
END:VEVENT
BEGIN:VEVENT
UID:x0a5@192.168.245.71:3006
SEQUENCE:0
DTSTAMP:20260420T184659Z
DTSTART:20260423T053500Z
DTEND:20260423T142500Z
SUMMARY:Военная подготовка
LOCATION:Военная каф. кафедра
END:VEVENT
BEGIN:VEVENT
UID:4vrm@192.168.245.71:3006
SEQUENCE:0
DTSTAMP:20260420T184659Z
DTSTART:20260424T070000Z
DTEND:20260424T103000Z
SUMMARY:Радиотехнические системы
LOCATION:2 к. 345
END:VEVENT
BEGIN:VEVENT
UID:fwwb@192.168.245.71:3006
SEQUENCE:0
DTSTAMP:20260420T184659Z
DTSTART:20260424T110000Z
DTEND:20260424T143000Z
SUMMARY:Устройства СВЧ и антенны
LOCATION:2 к. 234
END:VEVENT
END:VCALENDAR