BEGIN:VCALENDAR
VERSION:2.0
PRODID:-//spbstu.ru//ical//RU
NAME:Расписание группы 4931101/20501
X-WR-CALNAME:Расписание группы 4931101/20501
TIMEZONE-ID:Europe/Moscow
X-WR-TIMEZONE:Europe/Moscow
BEGIN:VEVENT
UID:p02r@192.168.245.71:3006
SEQUENCE:0
DTSTAMP:20260424T063844Z
DTSTART:20251006T070000Z
DTEND:20251006T084000Z
SUMMARY:Электронные приборы сверхвысоких частот
LOCATION:2 к. 359
END:VEVENT
BEGIN:VEVENT
UID:vtzh@192.168.245.71:3006
SEQUENCE:0
DTSTAMP:20260424T063844Z
DTSTART:20251006T090000Z
DTEND:20251006T104000Z
SUMMARY:Специальные вопросы радиоэлектроники
LOCATION:2 к. 346
END:VEVENT
BEGIN:VEVENT
UID:1aig@192.168.245.71:3006
SEQUENCE:0
DTSTAMP:20260424T063844Z
DTSTART:20251007T090000Z
DTEND:20251007T104000Z
SUMMARY:Теория колебаний
LOCATION:2 к. 257
END:VEVENT
BEGIN:VEVENT
UID:1g61@192.168.245.71:3006
SEQUENCE:0
DTSTAMP:20260424T063844Z
DTSTART:20251007T110000Z
DTEND:20251007T143000Z
SUMMARY:Оптические и квантовые приборы
LOCATION:2 к. 231
END:VEVENT
BEGIN:VEVENT
UID:jpcs@192.168.245.71:3006
SEQUENCE:0
DTSTAMP:20260424T063844Z
DTSTART:20251007T110000Z
DTEND:20251007T143000Z
SUMMARY:Электронные приборы сверхвысоких частот
LOCATION:2 к. 251
END:VEVENT
BEGIN:VEVENT
UID:f7yi@192.168.245.71:3006
SEQUENCE:0
DTSTAMP:20260424T063844Z
DTSTART:20251008T070000Z
DTEND:20251008T084000Z
SUMMARY:Специальные вопросы радиоэлектроники
LOCATION:2 к. 257
END:VEVENT
BEGIN:VEVENT
UID:2z8n@192.168.245.71:3006
SEQUENCE:0
DTSTAMP:20260424T063844Z
DTSTART:20251008T090000Z
DTEND:20251008T104000Z
SUMMARY:Теория колебаний
LOCATION:2 к. 257
END:VEVENT
BEGIN:VEVENT
UID:wfgx@192.168.245.71:3006
SEQUENCE:0
DTSTAMP:20260424T063844Z
DTSTART:20251009T053500Z
DTEND:20251009T142500Z
SUMMARY:Военная подготовка
LOCATION:Военная каф. кафедра
END:VEVENT
BEGIN:VEVENT
UID:o1rg@192.168.245.71:3006
SEQUENCE:0
DTSTAMP:20260424T063844Z
DTSTART:20251010T070000Z
DTEND:20251010T093000Z
SUMMARY:Лабораторный практикум по радиоэлектронике
LOCATION:2 к. каф.
END:VEVENT
END:VCALENDAR