BEGIN:VCALENDAR
VERSION:2.0
PRODID:-//spbstu.ru//ical//RU
NAME:Расписание группы 4931101/20501
X-WR-CALNAME:Расписание группы 4931101/20501
TIMEZONE-ID:Europe/Moscow
X-WR-TIMEZONE:Europe/Moscow
BEGIN:VEVENT
UID:u2tw@192.168.245.71:3006
SEQUENCE:0
DTSTAMP:20260421T132719Z
DTSTART:20260209T090000Z
DTEND:20260209T104000Z
SUMMARY:Устройства СВЧ и антенны
LOCATION:2 к. 470
END:VEVENT
BEGIN:VEVENT
UID:ipcm@192.168.245.71:3006
SEQUENCE:0
DTSTAMP:20260421T132719Z
DTSTART:20260209T110000Z
DTEND:20260209T124000Z
SUMMARY:Волновые процессы
LOCATION:2 к. 257
END:VEVENT
BEGIN:VEVENT
UID:wmkx@192.168.245.71:3006
SEQUENCE:0
DTSTAMP:20260421T132719Z
DTSTART:20260209T130000Z
DTEND:20260209T144000Z
SUMMARY:Специальные вопросы радиофизики
LOCATION:2 к. 257
END:VEVENT
BEGIN:VEVENT
UID:5znh@192.168.245.71:3006
SEQUENCE:0
DTSTAMP:20260421T132719Z
DTSTART:20260210T090000Z
DTEND:20260210T104000Z
SUMMARY:Волновые процессы
LOCATION:2 к. 257
END:VEVENT
BEGIN:VEVENT
UID:trk6@192.168.245.71:3006
SEQUENCE:0
DTSTAMP:20260421T132719Z
DTSTART:20260210T110000Z
DTEND:20260210T124000Z
SUMMARY:Представление научных результатов (на английском языке)
LOCATION:2 к. 353
END:VEVENT
BEGIN:VEVENT
UID:e8sb@192.168.245.71:3006
SEQUENCE:0
DTSTAMP:20260421T132719Z
DTSTART:20260211T070000Z
DTEND:20260211T084000Z
SUMMARY:Устройства СВЧ и антенны
LOCATION:2 к. 247
END:VEVENT
BEGIN:VEVENT
UID:4seo@192.168.245.71:3006
SEQUENCE:0
DTSTAMP:20260421T132719Z
DTSTART:20260211T090000Z
DTEND:20260211T104000Z
SUMMARY:Специальные вопросы радиофизики
LOCATION:2 к. 257
END:VEVENT
BEGIN:VEVENT
UID:wa3c@192.168.245.71:3006
SEQUENCE:0
DTSTAMP:20260421T132719Z
DTSTART:20260212T053500Z
DTEND:20260212T142500Z
SUMMARY:Военная подготовка
LOCATION:Военная каф. кафедра
END:VEVENT
BEGIN:VEVENT
UID:ub6m@192.168.245.71:3006
SEQUENCE:0
DTSTAMP:20260421T132719Z
DTSTART:20260213T070000Z
DTEND:20260213T093000Z
SUMMARY:Лабораторный практикум по радиоэлектронике
LOCATION:2 к. каф.
END:VEVENT
END:VCALENDAR