BEGIN:VCALENDAR
VERSION:2.0
PRODID:-//spbstu.ru//ical//RU
NAME:Расписание группы 4931101/20501
X-WR-CALNAME:Расписание группы 4931101/20501
TIMEZONE-ID:Europe/Moscow
X-WR-TIMEZONE:Europe/Moscow
BEGIN:VEVENT
UID:cfa0@192.168.245.71:3006
SEQUENCE:0
DTSTAMP:20260421T052204Z
DTSTART:20260310T090000Z
DTEND:20260310T104000Z
SUMMARY:Волновые процессы
LOCATION:2 к. 257
END:VEVENT
BEGIN:VEVENT
UID:7i7q@192.168.245.71:3006
SEQUENCE:0
DTSTAMP:20260421T052204Z
DTSTART:20260310T110000Z
DTEND:20260310T124000Z
SUMMARY:Представление научных результатов (на английском языке)
LOCATION:2 к. 353
END:VEVENT
BEGIN:VEVENT
UID:y16f@192.168.245.71:3006
SEQUENCE:0
DTSTAMP:20260421T052204Z
DTSTART:20260311T070000Z
DTEND:20260311T084000Z
SUMMARY:Устройства СВЧ и антенны
LOCATION:2 к. 247
END:VEVENT
BEGIN:VEVENT
UID:b76f@192.168.245.71:3006
SEQUENCE:0
DTSTAMP:20260421T052204Z
DTSTART:20260311T090000Z
DTEND:20260311T104000Z
SUMMARY:Специальные вопросы радиофизики
LOCATION:2 к. 257
END:VEVENT
BEGIN:VEVENT
UID:n8iu@192.168.245.71:3006
SEQUENCE:0
DTSTAMP:20260421T052204Z
DTSTART:20260312T053500Z
DTEND:20260312T142500Z
SUMMARY:Военная подготовка
LOCATION:Военная каф. кафедра
END:VEVENT
BEGIN:VEVENT
UID:m4fd@192.168.245.71:3006
SEQUENCE:0
DTSTAMP:20260421T052204Z
DTSTART:20260313T070000Z
DTEND:20260313T093000Z
SUMMARY:Лабораторный практикум по радиоэлектронике
LOCATION:2 к. каф.
END:VEVENT
END:VCALENDAR