BEGIN:VCALENDAR
VERSION:2.0
PRODID:-//spbstu.ru//ical//RU
NAME:Расписание группы 4931101/20501
X-WR-CALNAME:Расписание группы 4931101/20501
TIMEZONE-ID:Europe/Moscow
X-WR-TIMEZONE:Europe/Moscow
BEGIN:VEVENT
UID:t1mu@192.168.245.71:3006
SEQUENCE:0
DTSTAMP:20260420T202442Z
DTSTART:20260413T090000Z
DTEND:20260413T104000Z
SUMMARY:Устройства СВЧ и антенны
LOCATION:2 к. 470
END:VEVENT
BEGIN:VEVENT
UID:xqlt@192.168.245.71:3006
SEQUENCE:0
DTSTAMP:20260420T202442Z
DTSTART:20260413T110000Z
DTEND:20260413T124000Z
SUMMARY:Волновые процессы
LOCATION:2 к. 257
END:VEVENT
BEGIN:VEVENT
UID:l3fk@192.168.245.71:3006
SEQUENCE:0
DTSTAMP:20260420T202442Z
DTSTART:20260413T130000Z
DTEND:20260413T144000Z
SUMMARY:Специальные вопросы радиофизики
LOCATION:2 к. 257
END:VEVENT
BEGIN:VEVENT
UID:nkqx@192.168.245.71:3006
SEQUENCE:0
DTSTAMP:20260420T202442Z
DTSTART:20260414T090000Z
DTEND:20260414T104000Z
SUMMARY:Волновые процессы
LOCATION:2 к. 257
END:VEVENT
BEGIN:VEVENT
UID:05l8@192.168.245.71:3006
SEQUENCE:0
DTSTAMP:20260420T202442Z
DTSTART:20260414T110000Z
DTEND:20260414T124000Z
SUMMARY:Представление научных результатов (на английском языке)
LOCATION:2 к. 353
END:VEVENT
BEGIN:VEVENT
UID:t6z1@192.168.245.71:3006
SEQUENCE:0
DTSTAMP:20260420T202442Z
DTSTART:20260414T130000Z
DTEND:20260414T144000Z
SUMMARY:Специальные вопросы радиофизики
LOCATION:2 к. 257
END:VEVENT
BEGIN:VEVENT
UID:3ewn@192.168.245.71:3006
SEQUENCE:0
DTSTAMP:20260420T202442Z
DTSTART:20260415T090000Z
DTEND:20260415T104000Z
SUMMARY:Специальные вопросы радиофизики
LOCATION:2 к. 257
END:VEVENT
BEGIN:VEVENT
UID:46sd@192.168.245.71:3006
SEQUENCE:0
DTSTAMP:20260420T202442Z
DTSTART:20260415T110000Z
DTEND:20260415T143000Z
SUMMARY:Устройства СВЧ и антенны
LOCATION:2 к. 234
END:VEVENT
BEGIN:VEVENT
UID:23la@192.168.245.71:3006
SEQUENCE:0
DTSTAMP:20260420T202442Z
DTSTART:20260416T053500Z
DTEND:20260416T142500Z
SUMMARY:Военная подготовка
LOCATION:Военная каф. кафедра
END:VEVENT
BEGIN:VEVENT
UID:p3l1@192.168.245.71:3006
SEQUENCE:0
DTSTAMP:20260420T202442Z
DTSTART:20260417T070000Z
DTEND:20260417T093000Z
SUMMARY:Лабораторный практикум по радиоэлектронике
LOCATION:2 к. каф.
END:VEVENT
END:VCALENDAR