BEGIN:VCALENDAR
VERSION:2.0
PRODID:-//spbstu.ru//ical//RU
NAME:Расписание группы 4931101/20501
X-WR-CALNAME:Расписание группы 4931101/20501
TIMEZONE-ID:Europe/Moscow
X-WR-TIMEZONE:Europe/Moscow
BEGIN:VEVENT
UID:zon9@192.168.245.71:3006
SEQUENCE:0
DTSTAMP:20260420T184700Z
DTSTART:20260420T090000Z
DTEND:20260420T104000Z
SUMMARY:Устройства СВЧ и антенны
LOCATION:2 к. 470
END:VEVENT
BEGIN:VEVENT
UID:s3s2@192.168.245.71:3006
SEQUENCE:0
DTSTAMP:20260420T184700Z
DTSTART:20260420T110000Z
DTEND:20260420T124000Z
SUMMARY:Волновые процессы
LOCATION:2 к. 257
END:VEVENT
BEGIN:VEVENT
UID:qoie@192.168.245.71:3006
SEQUENCE:0
DTSTAMP:20260420T184700Z
DTSTART:20260420T130000Z
DTEND:20260420T144000Z
SUMMARY:Специальные вопросы радиофизики
LOCATION:2 к. 257
END:VEVENT
BEGIN:VEVENT
UID:yyff@192.168.245.71:3006
SEQUENCE:0
DTSTAMP:20260420T184700Z
DTSTART:20260421T090000Z
DTEND:20260421T104000Z
SUMMARY:Волновые процессы
LOCATION:2 к. 257
END:VEVENT
BEGIN:VEVENT
UID:fvym@192.168.245.71:3006
SEQUENCE:0
DTSTAMP:20260420T184700Z
DTSTART:20260421T110000Z
DTEND:20260421T124000Z
SUMMARY:Представление научных результатов (на английском языке)
LOCATION:2 к. 353
END:VEVENT
BEGIN:VEVENT
UID:ewtf@192.168.245.71:3006
SEQUENCE:0
DTSTAMP:20260420T184700Z
DTSTART:20260422T070000Z
DTEND:20260422T084000Z
SUMMARY:Устройства СВЧ и антенны
LOCATION:2 к. 247
END:VEVENT
BEGIN:VEVENT
UID:sob3@192.168.245.71:3006
SEQUENCE:0
DTSTAMP:20260420T184700Z
DTSTART:20260422T090000Z
DTEND:20260422T104000Z
SUMMARY:Специальные вопросы радиофизики
LOCATION:2 к. 257
END:VEVENT
BEGIN:VEVENT
UID:zz8r@192.168.245.71:3006
SEQUENCE:0
DTSTAMP:20260420T184700Z
DTSTART:20260423T053500Z
DTEND:20260423T142500Z
SUMMARY:Военная подготовка
LOCATION:Военная каф. кафедра
END:VEVENT
BEGIN:VEVENT
UID:cixz@192.168.245.71:3006
SEQUENCE:0
DTSTAMP:20260420T184700Z
DTSTART:20260424T070000Z
DTEND:20260424T093000Z
SUMMARY:Лабораторный практикум по радиоэлектронике
LOCATION:2 к. каф.
END:VEVENT
END:VCALENDAR