BEGIN:VCALENDAR
VERSION:2.0
PRODID:-//spbstu.ru//ical//RU
NAME:Расписание группы 4931102/20101
X-WR-CALNAME:Расписание группы 4931102/20101
TIMEZONE-ID:Europe/Moscow
X-WR-TIMEZONE:Europe/Moscow
BEGIN:VEVENT
UID:qvbn@192.168.245.71:3006
SEQUENCE:0
DTSTAMP:20260423T191748Z
DTSTART:20251006T070000Z
DTEND:20251006T084000Z
SUMMARY:Задачи машинного обучения в инфокоммуникационных системах
LOCATION:2 к. 470
END:VEVENT
BEGIN:VEVENT
UID:xo6x@192.168.245.71:3006
SEQUENCE:0
DTSTAMP:20260423T191748Z
DTSTART:20251006T090000Z
DTEND:20251006T104000Z
SUMMARY:Общая теория связи
LOCATION:2 к. 470
END:VEVENT
BEGIN:VEVENT
UID:jw6q@192.168.245.71:3006
SEQUENCE:0
DTSTAMP:20260423T191748Z
DTSTART:20251006T110000Z
DTEND:20251006T124000Z
SUMMARY:Алгоритмы обработки сигналов в инфокоммуникационных системах
LOCATION:2 к. 249
END:VEVENT
BEGIN:VEVENT
UID:58hk@192.168.245.71:3006
SEQUENCE:0
DTSTAMP:20260423T191748Z
DTSTART:20251006T130000Z
DTEND:20251006T144000Z
SUMMARY:Основы построения устройств генерирования и формирования сигналов
LOCATION:2 к. 252
END:VEVENT
BEGIN:VEVENT
UID:mh0d@192.168.245.71:3006
SEQUENCE:0
DTSTAMP:20260423T191748Z
DTSTART:20251007T070000Z
DTEND:20251007T084000Z
SUMMARY:Общая теория связи
LOCATION:2 к. 249
END:VEVENT
BEGIN:VEVENT
UID:g1ej@192.168.245.71:3006
SEQUENCE:0
DTSTAMP:20260423T191748Z
DTSTART:20251007T090000Z
DTEND:20251007T104000Z
SUMMARY:Задачи машинного обучения в инфокоммуникационных системах
LOCATION:2 к. 247
END:VEVENT
BEGIN:VEVENT
UID:9tod@192.168.245.71:3006
SEQUENCE:0
DTSTAMP:20260423T191748Z
DTSTART:20251007T110000Z
DTEND:20251007T143000Z
SUMMARY:Основы построения устройств приема и обработки сигналов
LOCATION:2 к. 345
END:VEVENT
BEGIN:VEVENT
UID:lykc@192.168.245.71:3006
SEQUENCE:0
DTSTAMP:20260423T191748Z
DTSTART:20251008T090000Z
DTEND:20251008T104000Z
SUMMARY:Общая теория связи
LOCATION:2 к. 352
END:VEVENT
BEGIN:VEVENT
UID:m7xq@192.168.245.71:3006
SEQUENCE:0
DTSTAMP:20260423T191748Z
DTSTART:20251008T110000Z
DTEND:20251008T124000Z
SUMMARY:Основы построения устройств генерирования и формирования сигналов
LOCATION:2 к. 470
END:VEVENT
BEGIN:VEVENT
UID:vgde@192.168.245.71:3006
SEQUENCE:0
DTSTAMP:20260423T191748Z
DTSTART:20251008T130000Z
DTEND:20251008T144000Z
SUMMARY:Основы построения устройств приема и обработки сигналов
LOCATION:2 к. 470
END:VEVENT
BEGIN:VEVENT
UID:wkig@192.168.245.71:3006
SEQUENCE:0
DTSTAMP:20260423T191748Z
DTSTART:20251009T053500Z
DTEND:20251009T142500Z
SUMMARY:Военная подготовка
LOCATION:Военная каф. кафедра
END:VEVENT
BEGIN:VEVENT
UID:zlas@192.168.245.71:3006
SEQUENCE:0
DTSTAMP:20260423T191748Z
DTSTART:20251010T070000Z
DTEND:20251010T093000Z
SUMMARY:Лабораторный практикум по системам мобильной связи
LOCATION:2 к. каф.
END:VEVENT
END:VCALENDAR