BEGIN:VCALENDAR
VERSION:2.0
PRODID:-//spbstu.ru//ical//RU
NAME:Расписание группы 4931102/20101
X-WR-CALNAME:Расписание группы 4931102/20101
TIMEZONE-ID:Europe/Moscow
X-WR-TIMEZONE:Europe/Moscow
BEGIN:VEVENT
UID:jee5@192.168.245.71:3006
SEQUENCE:0
DTSTAMP:20260423T031823Z
DTSTART:20251124T070000Z
DTEND:20251124T084000Z
SUMMARY:Алгоритмы обработки сигналов в инфокоммуникационных системах
LOCATION:2 к. 470
END:VEVENT
BEGIN:VEVENT
UID:6lkh@192.168.245.71:3006
SEQUENCE:0
DTSTAMP:20260423T031823Z
DTSTART:20251124T090000Z
DTEND:20251124T104000Z
SUMMARY:Общая теория связи
LOCATION:2 к. 470
END:VEVENT
BEGIN:VEVENT
UID:nsx4@192.168.245.71:3006
SEQUENCE:0
DTSTAMP:20260423T031823Z
DTSTART:20251124T110000Z
DTEND:20251124T124000Z
SUMMARY:Алгоритмы обработки сигналов в инфокоммуникационных системах
LOCATION:2 к. 249
END:VEVENT
BEGIN:VEVENT
UID:1nzt@192.168.245.71:3006
SEQUENCE:0
DTSTAMP:20260423T031823Z
DTSTART:20251124T130000Z
DTEND:20251124T144000Z
SUMMARY:Основы построения устройств генерирования и формирования сигналов
LOCATION:2 к. 452
END:VEVENT
BEGIN:VEVENT
UID:uuti@192.168.245.71:3006
SEQUENCE:0
DTSTAMP:20260423T031823Z
DTSTART:20251125T090000Z
DTEND:20251125T104000Z
SUMMARY:Задачи машинного обучения в инфокоммуникационных системах
LOCATION:2 к. 247
END:VEVENT
BEGIN:VEVENT
UID:tsgt@192.168.245.71:3006
SEQUENCE:0
DTSTAMP:20260423T031823Z
DTSTART:20251125T110000Z
DTEND:20251125T143000Z
SUMMARY:Основы построения устройств приема и обработки сигналов
LOCATION:2 к. 345
END:VEVENT
BEGIN:VEVENT
UID:ewqq@192.168.245.71:3006
SEQUENCE:0
DTSTAMP:20260423T031823Z
DTSTART:20251126T070000Z
DTEND:20251126T084000Z
SUMMARY:Общая теория связи
LOCATION:2 к. 470
END:VEVENT
BEGIN:VEVENT
UID:seg2@192.168.245.71:3006
SEQUENCE:0
DTSTAMP:20260423T031823Z
DTSTART:20251126T090000Z
DTEND:20251126T104000Z
SUMMARY:Общая теория связи
LOCATION:2 к. 352
END:VEVENT
BEGIN:VEVENT
UID:v6q4@192.168.245.71:3006
SEQUENCE:0
DTSTAMP:20260423T031823Z
DTSTART:20251126T110000Z
DTEND:20251126T124000Z
SUMMARY:Основы построения устройств генерирования и формирования сигналов
LOCATION:2 к. 470
END:VEVENT
BEGIN:VEVENT
UID:vwyt@192.168.245.71:3006
SEQUENCE:0
DTSTAMP:20260423T031823Z
DTSTART:20251126T130000Z
DTEND:20251126T144000Z
SUMMARY:Основы построения устройств приема и обработки сигналов
LOCATION:2 к. 470
END:VEVENT
BEGIN:VEVENT
UID:wnye@192.168.245.71:3006
SEQUENCE:0
DTSTAMP:20260423T031823Z
DTSTART:20251127T053500Z
DTEND:20251127T142500Z
SUMMARY:Военная подготовка
LOCATION:Военная каф. кафедра
END:VEVENT
BEGIN:VEVENT
UID:i9ti@192.168.245.71:3006
SEQUENCE:0
DTSTAMP:20260423T031823Z
DTSTART:20251128T070000Z
DTEND:20251128T093000Z
SUMMARY:Лабораторный практикум по системам мобильной связи
LOCATION:2 к. каф.
END:VEVENT
END:VCALENDAR