BEGIN:VCALENDAR
VERSION:2.0
PRODID:-//spbstu.ru//ical//RU
NAME:Расписание группы 4931102/20102
X-WR-CALNAME:Расписание группы 4931102/20102
TIMEZONE-ID:Europe/Moscow
X-WR-TIMEZONE:Europe/Moscow
BEGIN:VEVENT
UID:gk5t@192.168.245.71:3006
SEQUENCE:0
DTSTAMP:20260424T194636Z
DTSTART:20251222T090000Z
DTEND:20251222T094500Z
SUMMARY:Общая теория связи
LOCATION:2 к. 470
END:VEVENT
BEGIN:VEVENT
UID:j52y@192.168.245.71:3006
SEQUENCE:0
DTSTAMP:20260424T194636Z
DTSTART:20251223T060000Z
DTEND:20251223T090000Z
SUMMARY:Задачи машинного обучения в инфокоммуникационных системах
LOCATION:2 к. 249
END:VEVENT
BEGIN:VEVENT
UID:qu1c@192.168.245.71:3006
SEQUENCE:0
DTSTAMP:20260424T194636Z
DTSTART:20251223T100000Z
DTEND:20251223T130000Z
SUMMARY:Основы построения устройств приема и обработки сигналов
LOCATION:2 к. 458
END:VEVENT
BEGIN:VEVENT
UID:oypj@192.168.245.71:3006
SEQUENCE:0
DTSTAMP:20260424T194636Z
DTSTART:20251224T100000Z
DTEND:20251224T130000Z
SUMMARY:Основы построения устройств генерирования и формирования сигналов
LOCATION:2 к. 352
END:VEVENT
BEGIN:VEVENT
UID:cvq3@192.168.245.71:3006
SEQUENCE:0
DTSTAMP:20260424T194636Z
DTSTART:20251226T070000Z
DTEND:20251226T083000Z
SUMMARY:Алгоритмы обработки сигналов в инфокоммуникационных системах
LOCATION:2 к. 470
END:VEVENT
BEGIN:VEVENT
UID:c0ow@192.168.245.71:3006
SEQUENCE:0
DTSTAMP:20260424T194636Z
DTSTART:20251227T070000Z
DTEND:20251227T090000Z
SUMMARY:Алгоритмы обработки сигналов в инфокоммуникационных системах
LOCATION:DL Дистанционно
END:VEVENT
END:VCALENDAR