BEGIN:VCALENDAR
VERSION:2.0
PRODID:-//spbstu.ru//ical//RU
NAME:Расписание группы 4931102/20102
X-WR-CALNAME:Расписание группы 4931102/20102
TIMEZONE-ID:Europe/Moscow
X-WR-TIMEZONE:Europe/Moscow
BEGIN:VEVENT
UID:0wxu@192.168.245.71:3006
SEQUENCE:0
DTSTAMP:20260421T001252Z
DTSTART:20260406T090000Z
DTEND:20260406T104000Z
SUMMARY:Устройства СВЧ и антенны
LOCATION:2 к. 470
END:VEVENT
BEGIN:VEVENT
UID:aycv@192.168.245.71:3006
SEQUENCE:0
DTSTAMP:20260421T001252Z
DTSTART:20260406T110000Z
DTEND:20260406T124000Z
SUMMARY:Электропитание устройств и систем телекоммуникаций
LOCATION:2 к. 252
END:VEVENT
BEGIN:VEVENT
UID:17go@192.168.245.71:3006
SEQUENCE:0
DTSTAMP:20260421T001252Z
DTSTART:20260406T150000Z
DTEND:20260406T170000Z
SUMMARY:Основы построения устройств приема и обработки сигналов
LOCATION:2 к. 458
END:VEVENT
BEGIN:VEVENT
UID:nsgi@192.168.245.71:3006
SEQUENCE:0
DTSTAMP:20260421T001252Z
DTSTART:20260407T090000Z
DTEND:20260407T104000Z
SUMMARY:Представление научных результатов (на английском языке)
LOCATION:2 к. 353
END:VEVENT
BEGIN:VEVENT
UID:laoj@192.168.245.71:3006
SEQUENCE:0
DTSTAMP:20260421T001252Z
DTSTART:20260407T110000Z
DTEND:20260407T143000Z
SUMMARY:Устройства СВЧ и антенны
LOCATION:2 к. 234
END:VEVENT
BEGIN:VEVENT
UID:wmfb@192.168.245.71:3006
SEQUENCE:0
DTSTAMP:20260421T001252Z
DTSTART:20260408T070000Z
DTEND:20260408T093000Z
SUMMARY:Лабораторный практикум по системам мобильной связи
LOCATION:2 к. каф.
END:VEVENT
BEGIN:VEVENT
UID:yeug@192.168.245.71:3006
SEQUENCE:0
DTSTAMP:20260421T001252Z
DTSTART:20260408T070000Z
DTEND:20260408T093000Z
SUMMARY:Лабораторный практикум по системам мобильной связи
LOCATION:2 к. каф.
END:VEVENT
BEGIN:VEVENT
UID:682p@192.168.245.71:3006
SEQUENCE:0
DTSTAMP:20260421T001252Z
DTSTART:20260408T130000Z
DTEND:20260408T144000Z
SUMMARY:Радиотехнические устройства и системы охраны музейных ценностей
LOCATION:2 к. 359
END:VEVENT
BEGIN:VEVENT
UID:mb01@192.168.245.71:3006
SEQUENCE:0
DTSTAMP:20260421T001252Z
DTSTART:20260409T053500Z
DTEND:20260409T142500Z
SUMMARY:Военная подготовка
LOCATION:Военная каф. кафедра
END:VEVENT
END:VCALENDAR