BEGIN:VCALENDAR
VERSION:2.0
PRODID:-//spbstu.ru//ical//RU
NAME:Расписание группы 4931102/20601
X-WR-CALNAME:Расписание группы 4931102/20601
TIMEZONE-ID:Europe/Moscow
X-WR-TIMEZONE:Europe/Moscow
BEGIN:VEVENT
UID:48gu@192.168.245.71:3006
SEQUENCE:0
DTSTAMP:20260423T193100Z
DTSTART:20251208T070000Z
DTEND:20251208T084000Z
SUMMARY:Алгоритмы обработки сигналов в инфокоммуникационных системах
LOCATION:2 к. 470
END:VEVENT
BEGIN:VEVENT
UID:pgvv@192.168.245.71:3006
SEQUENCE:0
DTSTAMP:20260423T193100Z
DTSTART:20251208T090000Z
DTEND:20251208T104000Z
SUMMARY:Общая теория связи
LOCATION:2 к. 470
END:VEVENT
BEGIN:VEVENT
UID:f6s6@192.168.245.71:3006
SEQUENCE:0
DTSTAMP:20260423T193100Z
DTSTART:20251208T110000Z
DTEND:20251208T124000Z
SUMMARY:Задачи машинного обучения в инфокоммуникационных системах
LOCATION:2 к. 253
END:VEVENT
BEGIN:VEVENT
UID:ebrd@192.168.245.71:3006
SEQUENCE:0
DTSTAMP:20260423T193100Z
DTSTART:20251208T130000Z
DTEND:20251208T144000Z
SUMMARY:Волоконно-оптические линии связи
LOCATION:2 к. 355
END:VEVENT
BEGIN:VEVENT
UID:udgj@192.168.245.71:3006
SEQUENCE:0
DTSTAMP:20260423T193100Z
DTSTART:20251209T070000Z
DTEND:20251209T093000Z
SUMMARY:Лабораторный практикум по оптическим инфокоммуникационным системам
LOCATION:2 к. каф.
END:VEVENT
BEGIN:VEVENT
UID:498b@192.168.245.71:3006
SEQUENCE:0
DTSTAMP:20260423T193100Z
DTSTART:20251210T070000Z
DTEND:20251210T084000Z
SUMMARY:Общая теория связи
LOCATION:2 к. 470
END:VEVENT
BEGIN:VEVENT
UID:k8xz@192.168.245.71:3006
SEQUENCE:0
DTSTAMP:20260423T193100Z
DTSTART:20251210T090000Z
DTEND:20251210T104000Z
SUMMARY:Приборы и устройства оптических систем
LOCATION:2 к. 353
END:VEVENT
BEGIN:VEVENT
UID:rbnc@192.168.245.71:3006
SEQUENCE:0
DTSTAMP:20260423T193100Z
DTSTART:20251210T110000Z
DTEND:20251210T124000Z
SUMMARY:Алгоритмы обработки сигналов в инфокоммуникационных системах
LOCATION:2 к. 249
END:VEVENT
BEGIN:VEVENT
UID:4tr3@192.168.245.71:3006
SEQUENCE:0
DTSTAMP:20260423T193100Z
DTSTART:20251210T130000Z
DTEND:20251210T144000Z
SUMMARY:Общая теория связи
LOCATION:2 к. 353
END:VEVENT
BEGIN:VEVENT
UID:yhkk@192.168.245.71:3006
SEQUENCE:0
DTSTAMP:20260423T193100Z
DTSTART:20251211T053500Z
DTEND:20251211T142500Z
SUMMARY:Военная подготовка
LOCATION:Военная каф. кафедра
END:VEVENT
BEGIN:VEVENT
UID:fo5n@192.168.245.71:3006
SEQUENCE:0
DTSTAMP:20260423T193100Z
DTSTART:20251212T070000Z
DTEND:20251212T084000Z
SUMMARY:Волоконно-оптические линии связи
LOCATION:2 к. 355
END:VEVENT
BEGIN:VEVENT
UID:jxy5@192.168.245.71:3006
SEQUENCE:0
DTSTAMP:20260423T193100Z
DTSTART:20251212T090000Z
DTEND:20251212T104000Z
SUMMARY:Волоконно-оптические линии связи
LOCATION:2 к. 257
END:VEVENT
BEGIN:VEVENT
UID:tkgp@192.168.245.71:3006
SEQUENCE:0
DTSTAMP:20260423T193100Z
DTSTART:20251212T110000Z
DTEND:20251212T143000Z
SUMMARY:Приборы и устройства оптических систем
LOCATION:2 к. 335
END:VEVENT
BEGIN:VEVENT
UID:em4r@192.168.245.71:3006
SEQUENCE:0
DTSTAMP:20260423T193100Z
DTSTART:20251213T070000Z
DTEND:20251213T084000Z
SUMMARY:Общая теория связи
LOCATION:2 к. 247
END:VEVENT
END:VCALENDAR