BEGIN:VCALENDAR
VERSION:2.0
PRODID:-//spbstu.ru//ical//RU
NAME:Расписание группы 4931102/20601
X-WR-CALNAME:Расписание группы 4931102/20601
TIMEZONE-ID:Europe/Moscow
X-WR-TIMEZONE:Europe/Moscow
BEGIN:VEVENT
UID:ecwq@192.168.245.71:3006
SEQUENCE:0
DTSTAMP:20260421T135204Z
DTSTART:20260330T070000Z
DTEND:20260330T084000Z
SUMMARY:Основы физической оптики
LOCATION:2 к. 346
END:VEVENT
BEGIN:VEVENT
UID:9pkh@192.168.245.71:3006
SEQUENCE:0
DTSTAMP:20260421T135204Z
DTSTART:20260330T090000Z
DTEND:20260330T104000Z
SUMMARY:Инженерная графика
LOCATION:2 к. 247
END:VEVENT
BEGIN:VEVENT
UID:lnpz@192.168.245.71:3006
SEQUENCE:0
DTSTAMP:20260421T135204Z
DTSTART:20260331T070000Z
DTEND:20260331T103000Z
SUMMARY:Лабораторный практикум по оптическим инфокоммуникационным системам
LOCATION:2 к. каф.
END:VEVENT
BEGIN:VEVENT
UID:jiia@192.168.245.71:3006
SEQUENCE:0
DTSTAMP:20260421T135204Z
DTSTART:20260401T070000Z
DTEND:20260401T084000Z
SUMMARY:Оптические телекоммуникационные устройства
LOCATION:2 к. 346
END:VEVENT
BEGIN:VEVENT
UID:3tqu@192.168.245.71:3006
SEQUENCE:0
DTSTAMP:20260421T135204Z
DTSTART:20260401T090000Z
DTEND:20260401T104000Z
SUMMARY:Представление научных результатов (на английском языке)
LOCATION:2 к. 346
END:VEVENT
BEGIN:VEVENT
UID:5qfi@192.168.245.71:3006
SEQUENCE:0
DTSTAMP:20260421T135204Z
DTSTART:20260401T110000Z
DTEND:20260401T143000Z
SUMMARY:Оптические телекоммуникационные устройства
LOCATION:2 к. 335
END:VEVENT
BEGIN:VEVENT
UID:e5ck@192.168.245.71:3006
SEQUENCE:0
DTSTAMP:20260421T135204Z
DTSTART:20260402T053500Z
DTEND:20260402T142500Z
SUMMARY:Военная подготовка
LOCATION:Военная каф. кафедра
END:VEVENT
END:VCALENDAR