BEGIN:VCALENDAR
VERSION:2.0
PRODID:-//spbstu.ru//ical//RU
NAME:Расписание группы 4931601/21001
X-WR-CALNAME:Расписание группы 4931601/21001
TIMEZONE-ID:Europe/Moscow
X-WR-TIMEZONE:Europe/Moscow
BEGIN:VEVENT
UID:8fru@192.168.245.71:3006
SEQUENCE:0
DTSTAMP:20260424T172824Z
DTSTART:20251013T070000Z
DTEND:20251013T084000Z
SUMMARY:Методы микроскопии для исследования живых систем
LOCATION:2 к. 214
END:VEVENT
BEGIN:VEVENT
UID:120m@192.168.245.71:3006
SEQUENCE:0
DTSTAMP:20260424T172824Z
DTSTART:20251013T090000Z
DTEND:20251013T104000Z
SUMMARY:Основы физической электроники
LOCATION:2 к. 411
END:VEVENT
BEGIN:VEVENT
UID:yqdt@192.168.245.71:3006
SEQUENCE:0
DTSTAMP:20260424T172824Z
DTSTART:20251013T110000Z
DTEND:20251013T124000Z
SUMMARY:Статистическая физика
LOCATION:2 к. 452
END:VEVENT
BEGIN:VEVENT
UID:reyu@192.168.245.71:3006
SEQUENCE:0
DTSTAMP:20260424T172824Z
DTSTART:20251013T130000Z
DTEND:20251013T144000Z
SUMMARY:Физические основы СВЧ-электроники
LOCATION:2 к. 431
END:VEVENT
BEGIN:VEVENT
UID:t5js@192.168.245.71:3006
SEQUENCE:0
DTSTAMP:20260424T172824Z
DTSTART:20251014T070000Z
DTEND:20251014T084000Z
SUMMARY:Физика полимеров
LOCATION:2 к. 458
END:VEVENT
BEGIN:VEVENT
UID:8axl@192.168.245.71:3006
SEQUENCE:0
DTSTAMP:20260424T172824Z
DTSTART:20251014T090000Z
DTEND:20251014T104000Z
SUMMARY:Семинар (на английском языке)
LOCATION:2 к. 213
END:VEVENT
BEGIN:VEVENT
UID:xdle@192.168.245.71:3006
SEQUENCE:0
DTSTAMP:20260424T172824Z
DTSTART:20251014T110000Z
DTEND:20251014T124000Z
SUMMARY:Основы физической электроники
LOCATION:2 к. 411
END:VEVENT
BEGIN:VEVENT
UID:yj67@192.168.245.71:3006
SEQUENCE:0
DTSTAMP:20260424T172824Z
DTSTART:20251014T130000Z
DTEND:20251014T144000Z
SUMMARY:Физическая оптика
LOCATION:2 к. 411
END:VEVENT
BEGIN:VEVENT
UID:8ok2@192.168.245.71:3006
SEQUENCE:0
DTSTAMP:20260424T172824Z
DTSTART:20251015T070000Z
DTEND:20251015T103000Z
SUMMARY:Научно-исследовательские проекты (лаб.)
LOCATION:2 к. 416
END:VEVENT
BEGIN:VEVENT
UID:2to0@192.168.245.71:3006
SEQUENCE:0
DTSTAMP:20260424T172824Z
DTSTART:20251016T053500Z
DTEND:20251016T142500Z
SUMMARY:Военная подготовка
LOCATION:Военная каф. кафедра
END:VEVENT
BEGIN:VEVENT
UID:i0vw@192.168.245.71:3006
SEQUENCE:0
DTSTAMP:20260424T172824Z
DTSTART:20251017T070000Z
DTEND:20251017T084000Z
SUMMARY:Физические основы СВЧ-электроники
LOCATION:2 к. 411
END:VEVENT
BEGIN:VEVENT
UID:sg04@192.168.245.71:3006
SEQUENCE:0
DTSTAMP:20260424T172824Z
DTSTART:20251017T090000Z
DTEND:20251017T104000Z
SUMMARY:Семинар по медицинской физике
LOCATION:2 к. 411
END:VEVENT
BEGIN:VEVENT
UID:x13d@192.168.245.71:3006
SEQUENCE:0
DTSTAMP:20260424T172824Z
DTSTART:20251017T110000Z
DTEND:20251017T124000Z
SUMMARY:Статистическая физика
LOCATION:2 к. 470
END:VEVENT
END:VCALENDAR