BEGIN:VCALENDAR
VERSION:2.0
PRODID:-//spbstu.ru//ical//RU
NAME:Расписание группы 4931601/21001
X-WR-CALNAME:Расписание группы 4931601/21001
TIMEZONE-ID:Europe/Moscow
X-WR-TIMEZONE:Europe/Moscow
BEGIN:VEVENT
UID:dg4f@192.168.245.71:3006
SEQUENCE:0
DTSTAMP:20260424T224247Z
DTSTART:20250922T070000Z
DTEND:20250922T084000Z
SUMMARY:Методы микроскопии для исследования живых систем
LOCATION:2 к. 214
END:VEVENT
BEGIN:VEVENT
UID:1b8x@192.168.245.71:3006
SEQUENCE:0
DTSTAMP:20260424T224247Z
DTSTART:20250922T090000Z
DTEND:20250922T104000Z
SUMMARY:Основы физической электроники
LOCATION:2 к. 411
END:VEVENT
BEGIN:VEVENT
UID:7ps9@192.168.245.71:3006
SEQUENCE:0
DTSTAMP:20260424T224247Z
DTSTART:20250922T110000Z
DTEND:20250922T124000Z
SUMMARY:Статистическая физика
LOCATION:2 к. 452
END:VEVENT
BEGIN:VEVENT
UID:ncvq@192.168.245.71:3006
SEQUENCE:0
DTSTAMP:20260424T224247Z
DTSTART:20250922T130000Z
DTEND:20250922T144000Z
SUMMARY:Статистическая физика
LOCATION:2 к. 470
END:VEVENT
BEGIN:VEVENT
UID:xfpy@192.168.245.71:3006
SEQUENCE:0
DTSTAMP:20260424T224247Z
DTSTART:20250923T070000Z
DTEND:20250923T084000Z
SUMMARY:Физика полимеров
LOCATION:2 к. 458
END:VEVENT
BEGIN:VEVENT
UID:wrc3@192.168.245.71:3006
SEQUENCE:0
DTSTAMP:20260424T224247Z
DTSTART:20250923T090000Z
DTEND:20250923T104000Z
SUMMARY:Семинар (на английском языке)
LOCATION:2 к. 213
END:VEVENT
BEGIN:VEVENT
UID:74x5@192.168.245.71:3006
SEQUENCE:0
DTSTAMP:20260424T224247Z
DTSTART:20250923T110000Z
DTEND:20250923T124000Z
SUMMARY:Основы физической электроники
LOCATION:2 к. 411
END:VEVENT
BEGIN:VEVENT
UID:gcw5@192.168.245.71:3006
SEQUENCE:0
DTSTAMP:20260424T224247Z
DTSTART:20250923T130000Z
DTEND:20250923T144000Z
SUMMARY:Физическая оптика
LOCATION:2 к. 411
END:VEVENT
BEGIN:VEVENT
UID:5feg@192.168.245.71:3006
SEQUENCE:0
DTSTAMP:20260424T224247Z
DTSTART:20250924T070000Z
DTEND:20250924T103000Z
SUMMARY:Научно-исследовательские проекты (лаб.)
LOCATION:2 к. 416
END:VEVENT
BEGIN:VEVENT
UID:6nzw@192.168.245.71:3006
SEQUENCE:0
DTSTAMP:20260424T224247Z
DTSTART:20250925T053500Z
DTEND:20250925T142500Z
SUMMARY:Военная подготовка
LOCATION:Военная каф. кафедра
END:VEVENT
BEGIN:VEVENT
UID:ujez@192.168.245.71:3006
SEQUENCE:0
DTSTAMP:20260424T224247Z
DTSTART:20250926T070000Z
DTEND:20250926T084000Z
SUMMARY:Физические основы СВЧ-электроники
LOCATION:2 к. 411
END:VEVENT
BEGIN:VEVENT
UID:9hrd@192.168.245.71:3006
SEQUENCE:0
DTSTAMP:20260424T224247Z
DTSTART:20250926T090000Z
DTEND:20250926T104000Z
SUMMARY:Семинар по медицинской физике
LOCATION:2 к. 411
END:VEVENT
BEGIN:VEVENT
UID:vbz2@192.168.245.71:3006
SEQUENCE:0
DTSTAMP:20260424T224247Z
DTSTART:20250926T110000Z
DTEND:20250926T124000Z
SUMMARY:Статистическая физика
LOCATION:2 к. 470
END:VEVENT
END:VCALENDAR