BEGIN:VCALENDAR
VERSION:2.0
PRODID:-//spbstu.ru//ical//RU
NAME:Расписание группы 4931601/21001
X-WR-CALNAME:Расписание группы 4931601/21001
TIMEZONE-ID:Europe/Moscow
X-WR-TIMEZONE:Europe/Moscow
BEGIN:VEVENT
UID:jppz@192.168.245.71:3006
SEQUENCE:0
DTSTAMP:20260421T152506Z
DTSTART:20260323T070000Z
DTEND:20260323T084000Z
SUMMARY:Квантовая электроника
LOCATION:2 к. 411
END:VEVENT
BEGIN:VEVENT
UID:tvvc@192.168.245.71:3006
SEQUENCE:0
DTSTAMP:20260421T152506Z
DTSTART:20260323T090000Z
DTEND:20260323T104000Z
SUMMARY:Физические основы медико-биологических исследований
LOCATION:2 к. 411
END:VEVENT
BEGIN:VEVENT
UID:aa2r@192.168.245.71:3006
SEQUENCE:0
DTSTAMP:20260421T152506Z
DTSTART:20260323T110000Z
DTEND:20260323T124000Z
SUMMARY:Взаимодействие физических полей с живыми организмами
LOCATION:2 к. 411
END:VEVENT
BEGIN:VEVENT
UID:52sx@192.168.245.71:3006
SEQUENCE:0
DTSTAMP:20260421T152506Z
DTSTART:20260323T130000Z
DTEND:20260323T144000Z
SUMMARY:Автоматизация физического эксперимента
LOCATION:2 к. 416
END:VEVENT
BEGIN:VEVENT
UID:8y1y@192.168.245.71:3006
SEQUENCE:0
DTSTAMP:20260421T152506Z
DTSTART:20260324T110000Z
DTEND:20260324T133000Z
SUMMARY:Научно-исследовательские проекты (лаб.)
LOCATION:2 к. каф. ВИФШ
END:VEVENT
BEGIN:VEVENT
UID:oori@192.168.245.71:3006
SEQUENCE:0
DTSTAMP:20260421T152506Z
DTSTART:20260325T070000Z
DTEND:20260325T084000Z
SUMMARY:Автоматизация физического эксперимента
LOCATION:2 к. 416
END:VEVENT
BEGIN:VEVENT
UID:yy8f@192.168.245.71:3006
SEQUENCE:0
DTSTAMP:20260421T152506Z
DTSTART:20260325T090000Z
DTEND:20260325T104000Z
SUMMARY:Основы медицинских технологий
LOCATION:2 к. 411
END:VEVENT
BEGIN:VEVENT
UID:mydv@192.168.245.71:3006
SEQUENCE:0
DTSTAMP:20260421T152506Z
DTSTART:20260325T110000Z
DTEND:20260325T124000Z
SUMMARY:Квантовая электроника
LOCATION:2 к. 411
END:VEVENT
BEGIN:VEVENT
UID:rfcv@192.168.245.71:3006
SEQUENCE:0
DTSTAMP:20260421T152506Z
DTSTART:20260325T130000Z
DTEND:20260325T144000Z
SUMMARY:Семинар по биомедицинской электронике
LOCATION:2 к. 411
END:VEVENT
BEGIN:VEVENT
UID:amg4@192.168.245.71:3006
SEQUENCE:0
DTSTAMP:20260421T152506Z
DTSTART:20260326T053500Z
DTEND:20260326T142500Z
SUMMARY:Военная подготовка
LOCATION:Военная каф. кафедра
END:VEVENT
BEGIN:VEVENT
UID:dxfr@192.168.245.71:3006
SEQUENCE:0
DTSTAMP:20260421T152506Z
DTSTART:20260326T150000Z
DTEND:20260326T160000Z
SUMMARY:Основы физической электроники
LOCATION:2 к. 431
END:VEVENT
END:VCALENDAR