BEGIN:VCALENDAR
VERSION:2.0
PRODID:-//spbstu.ru//ical//RU
NAME:Расписание группы 4931601/21101
X-WR-CALNAME:Расписание группы 4931601/21101
TIMEZONE-ID:Europe/Moscow
X-WR-TIMEZONE:Europe/Moscow
BEGIN:VEVENT
UID:jmdo@192.168.245.71:3006
SEQUENCE:0
DTSTAMP:20260424T131412Z
DTSTART:20251020T080000Z
DTEND:20251020T085000Z
SUMMARY:Кинетические явления в полупроводниках
LOCATION:2 к. 213
END:VEVENT
BEGIN:VEVENT
UID:qt2m@192.168.245.71:3006
SEQUENCE:0
DTSTAMP:20260424T131412Z
DTSTART:20251020T090000Z
DTEND:20251020T104000Z
SUMMARY:Кинетические явления в полупроводниках
LOCATION:2 к. 213
END:VEVENT
BEGIN:VEVENT
UID:193r@192.168.245.71:3006
SEQUENCE:0
DTSTAMP:20260424T131412Z
DTSTART:20251020T110000Z
DTEND:20251020T124000Z
SUMMARY:Основы технологии электронной компонентной базы
LOCATION:НИК В2.02
END:VEVENT
BEGIN:VEVENT
UID:xc4d@192.168.245.71:3006
SEQUENCE:0
DTSTAMP:20260424T131412Z
DTSTART:20251020T130000Z
DTEND:20251020T144000Z
SUMMARY:Статистическая физика
LOCATION:2 к. 470
END:VEVENT
BEGIN:VEVENT
UID:zqq2@192.168.245.71:3006
SEQUENCE:0
DTSTAMP:20260424T131412Z
DTSTART:20251021T070000Z
DTEND:20251021T084000Z
SUMMARY:Статистическая физика
LOCATION:2 к. 459
END:VEVENT
BEGIN:VEVENT
UID:7lex@192.168.245.71:3006
SEQUENCE:0
DTSTAMP:20260424T131412Z
DTSTART:20251021T090000Z
DTEND:20251021T104000Z
SUMMARY:Физика полупроводниковых приборов
LOCATION:2 к. 214
END:VEVENT
BEGIN:VEVENT
UID:amv4@192.168.245.71:3006
SEQUENCE:0
DTSTAMP:20260424T131412Z
DTSTART:20251021T110000Z
DTEND:20251021T124000Z
SUMMARY:Физические свойства кристаллов
LOCATION:2 к. 214
END:VEVENT
BEGIN:VEVENT
UID:36un@192.168.245.71:3006
SEQUENCE:0
DTSTAMP:20260424T131412Z
DTSTART:20251021T130000Z
DTEND:20251021T144000Z
SUMMARY:Семинар (на английском языке)
LOCATION:2 к. 213
END:VEVENT
BEGIN:VEVENT
UID:7ne2@192.168.245.71:3006
SEQUENCE:0
DTSTAMP:20260424T131412Z
DTSTART:20251022T070000Z
DTEND:20251022T093000Z
SUMMARY:Лабораторный практикум в области полупроводниковой опто- и наноэле
 ктроники
LOCATION:2 к. каф.
END:VEVENT
BEGIN:VEVENT
UID:nabs@192.168.245.71:3006
SEQUENCE:0
DTSTAMP:20260424T131412Z
DTSTART:20251023T053500Z
DTEND:20251023T142500Z
SUMMARY:Военная подготовка
LOCATION:Военная каф. кафедра
END:VEVENT
BEGIN:VEVENT
UID:yk5w@192.168.245.71:3006
SEQUENCE:0
DTSTAMP:20260424T131412Z
DTSTART:20251024T070000Z
DTEND:20251024T084000Z
SUMMARY:Основы технологии электронной компонентной базы
LOCATION:2 к. 213
END:VEVENT
BEGIN:VEVENT
UID:3r23@192.168.245.71:3006
SEQUENCE:0
DTSTAMP:20260424T131412Z
DTSTART:20251024T090000Z
DTEND:20251024T104000Z
SUMMARY:Физика полупроводниковых приборов
LOCATION:2 к. 213
END:VEVENT
BEGIN:VEVENT
UID:ct2a@192.168.245.71:3006
SEQUENCE:0
DTSTAMP:20260424T131412Z
DTSTART:20251024T110000Z
DTEND:20251024T124000Z
SUMMARY:Статистическая физика
LOCATION:2 к. 470
END:VEVENT
BEGIN:VEVENT
UID:t244@192.168.245.71:3006
SEQUENCE:0
DTSTAMP:20260424T131412Z
DTSTART:20251024T130000Z
DTEND:20251024T144000Z
SUMMARY:Физика сверхпроводников
LOCATION:2 к. 213
END:VEVENT
END:VCALENDAR