BEGIN:VCALENDAR
VERSION:2.0
PRODID:-//spbstu.ru//ical//RU
NAME:Расписание группы 4931601/21101
X-WR-CALNAME:Расписание группы 4931601/21101
TIMEZONE-ID:Europe/Moscow
X-WR-TIMEZONE:Europe/Moscow
BEGIN:VEVENT
UID:n46u@192.168.245.71:3006
SEQUENCE:0
DTSTAMP:20260421T221735Z
DTSTART:20260302T090000Z
DTEND:20260302T113000Z
SUMMARY:Лабораторный практикум в области полупроводниковой опто- и наноэле
 ктроники
LOCATION:2 к. 214
END:VEVENT
BEGIN:VEVENT
UID:p4jx@192.168.245.71:3006
SEQUENCE:0
DTSTAMP:20260421T221735Z
DTSTART:20260302T090000Z
DTEND:20260302T113000Z
SUMMARY:Лабораторный практикум в области полупроводниковой опто- и наноэле
 ктроники
LOCATION:2 к. 214
END:VEVENT
BEGIN:VEVENT
UID:uzpf@192.168.245.71:3006
SEQUENCE:0
DTSTAMP:20260421T221735Z
DTSTART:20260302T150000Z
DTEND:20260302T170000Z
SUMMARY:Статистическая физика
LOCATION:2 к. 431
END:VEVENT
BEGIN:VEVENT
UID:vmtb@192.168.245.71:3006
SEQUENCE:0
DTSTAMP:20260421T221735Z
DTSTART:20260303T090000Z
DTEND:20260303T104000Z
SUMMARY:Оптические явления в полупроводниках
LOCATION:2 к. 209
END:VEVENT
BEGIN:VEVENT
UID:vait@192.168.245.71:3006
SEQUENCE:0
DTSTAMP:20260421T221735Z
DTSTART:20260303T110000Z
DTEND:20260303T124000Z
SUMMARY:Наноэлектроника
LOCATION:2 к. 209
END:VEVENT
BEGIN:VEVENT
UID:g1pk@192.168.245.71:3006
SEQUENCE:0
DTSTAMP:20260421T221735Z
DTSTART:20260303T130000Z
DTEND:20260303T144000Z
SUMMARY:Семинар (на английском языке)
LOCATION:2 к. 209
END:VEVENT
BEGIN:VEVENT
UID:iujl@192.168.245.71:3006
SEQUENCE:0
DTSTAMP:20260421T221735Z
DTSTART:20260304T070000Z
DTEND:20260304T084000Z
SUMMARY:Семинар по проблемам оптической связи
LOCATION:2 к. 213
END:VEVENT
BEGIN:VEVENT
UID:4mau@192.168.245.71:3006
SEQUENCE:0
DTSTAMP:20260421T221735Z
DTSTART:20260304T090000Z
DTEND:20260304T104000Z
SUMMARY:Фотоэлектрические явления в полупроводниках
LOCATION:2 к. 213
END:VEVENT
BEGIN:VEVENT
UID:rxe4@192.168.245.71:3006
SEQUENCE:0
DTSTAMP:20260421T221735Z
DTSTART:20260304T110000Z
DTEND:20260304T124000Z
SUMMARY:Оптические явления в полупроводниках
LOCATION:2 к. 214
END:VEVENT
BEGIN:VEVENT
UID:fut0@192.168.245.71:3006
SEQUENCE:0
DTSTAMP:20260421T221735Z
DTSTART:20260304T130000Z
DTEND:20260304T144000Z
SUMMARY:Наноэлектроника
LOCATION:2 к. 209
END:VEVENT
BEGIN:VEVENT
UID:6rmn@192.168.245.71:3006
SEQUENCE:0
DTSTAMP:20260421T221735Z
DTSTART:20260304T150000Z
DTEND:20260304T170000Z
SUMMARY:Основы технологии электронной компонентной базы
LOCATION:2 к. 213
END:VEVENT
BEGIN:VEVENT
UID:yc6q@192.168.245.71:3006
SEQUENCE:0
DTSTAMP:20260421T221735Z
DTSTART:20260304T150000Z
DTEND:20260304T154500Z
SUMMARY:Физические свойства кристаллов
LOCATION:2 к. 208
END:VEVENT
BEGIN:VEVENT
UID:lyvx@192.168.245.71:3006
SEQUENCE:0
DTSTAMP:20260421T221735Z
DTSTART:20260305T053500Z
DTEND:20260305T142500Z
SUMMARY:Военная подготовка
LOCATION:Военная каф. кафедра
END:VEVENT
BEGIN:VEVENT
UID:9nox@192.168.245.71:3006
SEQUENCE:0
DTSTAMP:20260421T221735Z
DTSTART:20260305T150000Z
DTEND:20260305T170000Z
SUMMARY:Лабораторный практикум в области полупроводниковой опто- и наноэле
 ктроники
LOCATION:2 к. 214
END:VEVENT
END:VCALENDAR