BEGIN:VCALENDAR
VERSION:2.0
PRODID:-//spbstu.ru//ical//RU
NAME:Расписание группы 4931102/50701
X-WR-CALNAME:Расписание группы 4931102/50701
TIMEZONE-ID:Europe/Moscow
X-WR-TIMEZONE:Europe/Moscow
BEGIN:VEVENT
UID:zr80@192.168.245.71:3006
SEQUENCE:0
DTSTAMP:20260423T144332Z
DTSTART:20260216T070000Z
DTEND:20260216T084000Z
SUMMARY:Основы построения инфокоммуникационных систем
LOCATION:2 к. 470
END:VEVENT
BEGIN:VEVENT
UID:dea7@192.168.245.71:3006
SEQUENCE:0
DTSTAMP:20260423T144332Z
DTSTART:20260216T090000Z
DTEND:20260216T104000Z
SUMMARY:Физика
LOCATION:ГЗ 324
END:VEVENT
BEGIN:VEVENT
UID:8e1c@192.168.245.71:3006
SEQUENCE:0
DTSTAMP:20260423T144332Z
DTSTART:20260216T110000Z
DTEND:20260216T124000Z
SUMMARY:История России
LOCATION:1 к. 423
END:VEVENT
BEGIN:VEVENT
UID:kw9z@192.168.245.71:3006
SEQUENCE:0
DTSTAMP:20260423T144332Z
DTSTART:20260216T130000Z
DTEND:20260216T144000Z
SUMMARY:Информатика
LOCATION:2 к. 247
END:VEVENT
BEGIN:VEVENT
UID:sww0@192.168.245.71:3006
SEQUENCE:0
DTSTAMP:20260423T144332Z
DTSTART:20260216T150000Z
DTEND:20260216T170000Z
SUMMARY:Основы российской государственности
LOCATION:2 к. 224
END:VEVENT
BEGIN:VEVENT
UID:1zos@192.168.245.71:3006
SEQUENCE:0
DTSTAMP:20260423T144332Z
DTSTART:20260217T070000Z
DTEND:20260217T084000Z
SUMMARY:Математический анализ
LOCATION:2 к. 452
END:VEVENT
BEGIN:VEVENT
UID:ykp1@192.168.245.71:3006
SEQUENCE:0
DTSTAMP:20260423T144332Z
DTSTART:20260217T090000Z
DTEND:20260217T104000Z
SUMMARY:Математический анализ
LOCATION:ГЗ 257
END:VEVENT
BEGIN:VEVENT
UID:gtws@192.168.245.71:3006
SEQUENCE:0
DTSTAMP:20260423T144332Z
DTSTART:20260217T110000Z
DTEND:20260217T124000Z
SUMMARY:Физика
LOCATION:2 к. 452
END:VEVENT
BEGIN:VEVENT
UID:5gqc@192.168.245.71:3006
SEQUENCE:0
DTSTAMP:20260423T144332Z
DTSTART:20260217T150000Z
DTEND:20260217T164000Z
SUMMARY:Факультатив по математике
LOCATION:ГЗ 329
END:VEVENT
BEGIN:VEVENT
UID:vbkr@192.168.245.71:3006
SEQUENCE:0
DTSTAMP:20260423T144332Z
DTSTART:20260218T050000Z
DTEND:20260218T064000Z
SUMMARY:Иностранный язык: Русский язык как иностранный
LOCATION:НИК В2.18
END:VEVENT
BEGIN:VEVENT
UID:as8x@192.168.245.71:3006
SEQUENCE:0
DTSTAMP:20260423T144332Z
DTSTART:20260218T070000Z
DTEND:20260218T084000Z
SUMMARY:Элективная физическая культура и спорт
LOCATION:СК Спортивный зал
END:VEVENT
BEGIN:VEVENT
UID:41r3@192.168.245.71:3006
SEQUENCE:0
DTSTAMP:20260423T144332Z
DTSTART:20260218T090000Z
DTEND:20260218T104000Z
SUMMARY:Линейная алгебра и аналитическая геометрия
LOCATION:2 к. 224
END:VEVENT
BEGIN:VEVENT
UID:0juw@192.168.245.71:3006
SEQUENCE:0
DTSTAMP:20260423T144332Z
DTSTART:20260218T110000Z
DTEND:20260218T124000Z
SUMMARY:Командное решение комплексных задач программирования
LOCATION:2 к. 247
END:VEVENT
BEGIN:VEVENT
UID:yxs6@192.168.245.71:3006
SEQUENCE:0
DTSTAMP:20260423T144332Z
DTSTART:20260218T130000Z
DTEND:20260218T144000Z
SUMMARY:Математический аппарат физики
LOCATION:ГЗ 305
END:VEVENT
BEGIN:VEVENT
UID:1cxw@192.168.245.71:3006
SEQUENCE:0
DTSTAMP:20260423T144332Z
DTSTART:20260219T050000Z
DTEND:20260219T064000Z
SUMMARY:Иностранный язык: Русский язык как иностранный
LOCATION:НИК В2.18
END:VEVENT
BEGIN:VEVENT
UID:2wqm@192.168.245.71:3006
SEQUENCE:0
DTSTAMP:20260423T144332Z
DTSTART:20260219T070000Z
DTEND:20260219T084000Z
SUMMARY:Физика
LOCATION:ГЗ 186 А
END:VEVENT
BEGIN:VEVENT
UID:nti7@192.168.245.71:3006
SEQUENCE:0
DTSTAMP:20260423T144332Z
DTSTART:20260219T070000Z
DTEND:20260219T084000Z
SUMMARY:Физика
LOCATION:ГЗ 186 А
END:VEVENT
BEGIN:VEVENT
UID:drmk@192.168.245.71:3006
SEQUENCE:0
DTSTAMP:20260423T144332Z
DTSTART:20260219T090000Z
DTEND:20260219T104000Z
SUMMARY:Физика
LOCATION:ГЗ 257
END:VEVENT
BEGIN:VEVENT
UID:2fyu@192.168.245.71:3006
SEQUENCE:0
DTSTAMP:20260423T144332Z
DTSTART:20260219T110000Z
DTEND:20260219T124000Z
SUMMARY:Иностранный язык: Базовый курс
LOCATION:НИК В2.04
END:VEVENT
BEGIN:VEVENT
UID:bcer@192.168.245.71:3006
SEQUENCE:0
DTSTAMP:20260423T144332Z
DTSTART:20260220T070000Z
DTEND:20260220T084000Z
SUMMARY:Математический анализ
LOCATION:2 к. 224
END:VEVENT
BEGIN:VEVENT
UID:aepq@192.168.245.71:3006
SEQUENCE:0
DTSTAMP:20260423T144332Z
DTSTART:20260220T090000Z
DTEND:20260220T104000Z
SUMMARY:Линейная алгебра и аналитическая геометрия
LOCATION:ГЗ 305
END:VEVENT
BEGIN:VEVENT
UID:8px6@192.168.245.71:3006
SEQUENCE:0
DTSTAMP:20260423T144332Z
DTSTART:20260220T110000Z
DTEND:20260220T124000Z
SUMMARY:Физика
LOCATION:НИК В2.04
END:VEVENT
BEGIN:VEVENT
UID:4p2l@192.168.245.71:3006
SEQUENCE:0
DTSTAMP:20260423T144332Z
DTSTART:20260220T130000Z
DTEND:20260220T144000Z
SUMMARY:Философия
LOCATION:ГЗ 215
END:VEVENT
BEGIN:VEVENT
UID:qdio@192.168.245.71:3006
SEQUENCE:0
DTSTAMP:20260423T144332Z
DTSTART:20260220T150000Z
DTEND:20260220T170000Z
SUMMARY:Математический анализ
LOCATION:2 к. 470
END:VEVENT
BEGIN:VEVENT
UID:rhot@192.168.245.71:3006
SEQUENCE:0
DTSTAMP:20260423T144332Z
DTSTART:20260221T050000Z
DTEND:20260221T064000Z
SUMMARY:Элективная физическая культура и спорт
LOCATION:СК Спортивный зал
END:VEVENT
BEGIN:VEVENT
UID:80r4@192.168.245.71:3006
SEQUENCE:0
DTSTAMP:20260423T144332Z
DTSTART:20260221T070000Z
DTEND:20260221T084000Z
SUMMARY:Математический анализ
LOCATION:ГЗ 215
END:VEVENT
BEGIN:VEVENT
UID:bipk@192.168.245.71:3006
SEQUENCE:0
DTSTAMP:20260423T144332Z
DTSTART:20260221T090000Z
DTEND:20260221T104000Z
SUMMARY:Информатика
LOCATION:2 к. 247
END:VEVENT
BEGIN:VEVENT
UID:9z6f@192.168.245.71:3006
SEQUENCE:0
DTSTAMP:20260423T144332Z
DTSTART:20260221T130000Z
DTEND:20260221T150000Z
SUMMARY:Иностранный язык: Базовый курс
LOCATION:2 к. 224
END:VEVENT
END:VCALENDAR