BEGIN:VCALENDAR
VERSION:2.0
PRODID:-//spbstu.ru//ical//RU
NAME:Расписание группы 4931102/50701
X-WR-CALNAME:Расписание группы 4931102/50701
TIMEZONE-ID:Europe/Moscow
X-WR-TIMEZONE:Europe/Moscow
BEGIN:VEVENT
UID:rnwo@192.168.245.71:3006
SEQUENCE:0
DTSTAMP:20260424T181948Z
DTSTART:20260202T070000Z
DTEND:20260202T084000Z
SUMMARY:Основы построения инфокоммуникационных систем
LOCATION:2 к. 470
END:VEVENT
BEGIN:VEVENT
UID:nrle@192.168.245.71:3006
SEQUENCE:0
DTSTAMP:20260424T181948Z
DTSTART:20260202T090000Z
DTEND:20260202T104000Z
SUMMARY:Физика
LOCATION:ГЗ 324
END:VEVENT
BEGIN:VEVENT
UID:j0l2@192.168.245.71:3006
SEQUENCE:0
DTSTAMP:20260424T181948Z
DTSTART:20260202T110000Z
DTEND:20260202T124000Z
SUMMARY:История России
LOCATION:1 к. 423
END:VEVENT
BEGIN:VEVENT
UID:iamn@192.168.245.71:3006
SEQUENCE:0
DTSTAMP:20260424T181948Z
DTSTART:20260202T130000Z
DTEND:20260202T144000Z
SUMMARY:Информатика
LOCATION:2 к. 247
END:VEVENT
BEGIN:VEVENT
UID:diw6@192.168.245.71:3006
SEQUENCE:0
DTSTAMP:20260424T181948Z
DTSTART:20260203T070000Z
DTEND:20260203T084000Z
SUMMARY:Математический анализ
LOCATION:2 к. 452
END:VEVENT
BEGIN:VEVENT
UID:2an5@192.168.245.71:3006
SEQUENCE:0
DTSTAMP:20260424T181948Z
DTSTART:20260203T090000Z
DTEND:20260203T104000Z
SUMMARY:Математический анализ
LOCATION:ГЗ 257
END:VEVENT
BEGIN:VEVENT
UID:b5ap@192.168.245.71:3006
SEQUENCE:0
DTSTAMP:20260424T181948Z
DTSTART:20260203T110000Z
DTEND:20260203T124000Z
SUMMARY:Физика
LOCATION:2 к. 452
END:VEVENT
BEGIN:VEVENT
UID:wt6e@192.168.245.71:3006
SEQUENCE:0
DTSTAMP:20260424T181948Z
DTSTART:20260203T150000Z
DTEND:20260203T164000Z
SUMMARY:Факультатив по математике
LOCATION:ГЗ 305
END:VEVENT
BEGIN:VEVENT
UID:yf8v@192.168.245.71:3006
SEQUENCE:0
DTSTAMP:20260424T181948Z
DTSTART:20260204T050000Z
DTEND:20260204T064000Z
SUMMARY:Иностранный язык: Русский язык как иностранный
LOCATION:НИК В2.18
END:VEVENT
BEGIN:VEVENT
UID:12fe@192.168.245.71:3006
SEQUENCE:0
DTSTAMP:20260424T181948Z
DTSTART:20260204T090000Z
DTEND:20260204T104000Z
SUMMARY:Линейная алгебра и аналитическая геометрия
LOCATION:2 к. 224
END:VEVENT
BEGIN:VEVENT
UID:0row@192.168.245.71:3006
SEQUENCE:0
DTSTAMP:20260424T181948Z
DTSTART:20260204T110000Z
DTEND:20260204T124000Z
SUMMARY:Командное решение комплексных задач программирования
LOCATION:2 к. 247
END:VEVENT
BEGIN:VEVENT
UID:d0qc@192.168.245.71:3006
SEQUENCE:0
DTSTAMP:20260424T181948Z
DTSTART:20260204T130000Z
DTEND:20260204T144000Z
SUMMARY:Математический аппарат физики
LOCATION:ГЗ 305
END:VEVENT
BEGIN:VEVENT
UID:ostw@192.168.245.71:3006
SEQUENCE:0
DTSTAMP:20260424T181948Z
DTSTART:20260205T050000Z
DTEND:20260205T064000Z
SUMMARY:Иностранный язык: Русский язык как иностранный
LOCATION:НИК В2.18
END:VEVENT
BEGIN:VEVENT
UID:fueg@192.168.245.71:3006
SEQUENCE:0
DTSTAMP:20260424T181948Z
DTSTART:20260205T070000Z
DTEND:20260205T084000Z
SUMMARY:Физика
LOCATION:ГЗ 186 А
END:VEVENT
BEGIN:VEVENT
UID:l54o@192.168.245.71:3006
SEQUENCE:0
DTSTAMP:20260424T181948Z
DTSTART:20260205T070000Z
DTEND:20260205T084000Z
SUMMARY:Физика
LOCATION:ГЗ 186 А
END:VEVENT
BEGIN:VEVENT
UID:htq0@192.168.245.71:3006
SEQUENCE:0
DTSTAMP:20260424T181948Z
DTSTART:20260205T090000Z
DTEND:20260205T104000Z
SUMMARY:Физика
LOCATION:ГЗ 257
END:VEVENT
BEGIN:VEVENT
UID:zx3f@192.168.245.71:3006
SEQUENCE:0
DTSTAMP:20260424T181948Z
DTSTART:20260205T110000Z
DTEND:20260205T124000Z
SUMMARY:Иностранный язык: Базовый курс
LOCATION:НИК В2.04
END:VEVENT
BEGIN:VEVENT
UID:5fme@192.168.245.71:3006
SEQUENCE:0
DTSTAMP:20260424T181948Z
DTSTART:20260205T130000Z
DTEND:20260205T144000Z
SUMMARY:Философия
LOCATION:НИК В2.18
END:VEVENT
BEGIN:VEVENT
UID:ej9q@192.168.245.71:3006
SEQUENCE:0
DTSTAMP:20260424T181948Z
DTSTART:20260206T070000Z
DTEND:20260206T084000Z
SUMMARY:Математический анализ
LOCATION:2 к. 224
END:VEVENT
BEGIN:VEVENT
UID:pypj@192.168.245.71:3006
SEQUENCE:0
DTSTAMP:20260424T181948Z
DTSTART:20260206T090000Z
DTEND:20260206T104000Z
SUMMARY:Линейная алгебра и аналитическая геометрия
LOCATION:ГЗ 305
END:VEVENT
BEGIN:VEVENT
UID:010v@192.168.245.71:3006
SEQUENCE:0
DTSTAMP:20260424T181948Z
DTSTART:20260206T110000Z
DTEND:20260206T124000Z
SUMMARY:Физика
LOCATION:НИК В2.04
END:VEVENT
BEGIN:VEVENT
UID:f5ri@192.168.245.71:3006
SEQUENCE:0
DTSTAMP:20260424T181948Z
DTSTART:20260206T130000Z
DTEND:20260206T144000Z
SUMMARY:Философия
LOCATION:ГЗ 215
END:VEVENT
BEGIN:VEVENT
UID:zb9b@192.168.245.71:3006
SEQUENCE:0
DTSTAMP:20260424T181948Z
DTSTART:20260207T070000Z
DTEND:20260207T084000Z
SUMMARY:Математический анализ
LOCATION:ГЗ 257
END:VEVENT
BEGIN:VEVENT
UID:12su@192.168.245.71:3006
SEQUENCE:0
DTSTAMP:20260424T181948Z
DTSTART:20260207T090000Z
DTEND:20260207T104000Z
SUMMARY:Информатика
LOCATION:2 к. 247
END:VEVENT
END:VCALENDAR