BEGIN:VCALENDAR
VERSION:2.0
PRODID:-//spbstu.ru//ical//RU
NAME:Расписание группы 4931102/50701
X-WR-CALNAME:Расписание группы 4931102/50701
TIMEZONE-ID:Europe/Moscow
X-WR-TIMEZONE:Europe/Moscow
BEGIN:VEVENT
UID:ximq@192.168.245.71:3006
SEQUENCE:0
DTSTAMP:20260422T194449Z
DTSTART:20260224T070000Z
DTEND:20260224T084000Z
SUMMARY:Математический анализ
LOCATION:2 к. 452
END:VEVENT
BEGIN:VEVENT
UID:wqh4@192.168.245.71:3006
SEQUENCE:0
DTSTAMP:20260422T194449Z
DTSTART:20260224T090000Z
DTEND:20260224T104000Z
SUMMARY:Математический анализ
LOCATION:ГЗ 257
END:VEVENT
BEGIN:VEVENT
UID:7jfa@192.168.245.71:3006
SEQUENCE:0
DTSTAMP:20260422T194449Z
DTSTART:20260224T110000Z
DTEND:20260224T124000Z
SUMMARY:Введение в профессиональную деятельность
LOCATION:2 к. 359
END:VEVENT
BEGIN:VEVENT
UID:3zrc@192.168.245.71:3006
SEQUENCE:0
DTSTAMP:20260422T194449Z
DTSTART:20260224T130000Z
DTEND:20260224T144000Z
SUMMARY:Факультатив по математике
LOCATION:ГЗ 305
END:VEVENT
BEGIN:VEVENT
UID:tud6@192.168.245.71:3006
SEQUENCE:0
DTSTAMP:20260422T194449Z
DTSTART:20260225T050000Z
DTEND:20260225T064000Z
SUMMARY:Иностранный язык: Русский язык как иностранный
LOCATION:НИК В2.18
END:VEVENT
BEGIN:VEVENT
UID:z18q@192.168.245.71:3006
SEQUENCE:0
DTSTAMP:20260422T194449Z
DTSTART:20260225T070000Z
DTEND:20260225T084000Z
SUMMARY:Элективная физическая культура и спорт
LOCATION:СК Спортивный зал
END:VEVENT
BEGIN:VEVENT
UID:2477@192.168.245.71:3006
SEQUENCE:0
DTSTAMP:20260422T194449Z
DTSTART:20260225T090000Z
DTEND:20260225T104000Z
SUMMARY:Линейная алгебра и аналитическая геометрия
LOCATION:2 к. 224
END:VEVENT
BEGIN:VEVENT
UID:kv8n@192.168.245.71:3006
SEQUENCE:0
DTSTAMP:20260422T194449Z
DTSTART:20260225T110000Z
DTEND:20260225T124000Z
SUMMARY:Командное решение комплексных задач программирования
LOCATION:2 к. 247
END:VEVENT
BEGIN:VEVENT
UID:z62b@192.168.245.71:3006
SEQUENCE:0
DTSTAMP:20260422T194449Z
DTSTART:20260225T130000Z
DTEND:20260225T144000Z
SUMMARY:Математический аппарат физики
LOCATION:ГЗ 305
END:VEVENT
BEGIN:VEVENT
UID:0swd@192.168.245.71:3006
SEQUENCE:0
DTSTAMP:20260422T194449Z
DTSTART:20260226T050000Z
DTEND:20260226T064000Z
SUMMARY:Иностранный язык: Русский язык как иностранный
LOCATION:НИК В2.18
END:VEVENT
BEGIN:VEVENT
UID:mtpp@192.168.245.71:3006
SEQUENCE:0
DTSTAMP:20260422T194449Z
DTSTART:20260226T070000Z
DTEND:20260226T084000Z
SUMMARY:Физика
LOCATION:ГЗ 186 А
END:VEVENT
BEGIN:VEVENT
UID:p0n9@192.168.245.71:3006
SEQUENCE:0
DTSTAMP:20260422T194449Z
DTSTART:20260226T070000Z
DTEND:20260226T084000Z
SUMMARY:Физика
LOCATION:ГЗ 186 А
END:VEVENT
BEGIN:VEVENT
UID:ngca@192.168.245.71:3006
SEQUENCE:0
DTSTAMP:20260422T194449Z
DTSTART:20260226T090000Z
DTEND:20260226T104000Z
SUMMARY:Физика
LOCATION:ГЗ 257
END:VEVENT
BEGIN:VEVENT
UID:uun0@192.168.245.71:3006
SEQUENCE:0
DTSTAMP:20260422T194449Z
DTSTART:20260226T110000Z
DTEND:20260226T124000Z
SUMMARY:Иностранный язык: Базовый курс
LOCATION:НИК В2.04
END:VEVENT
BEGIN:VEVENT
UID:hiyh@192.168.245.71:3006
SEQUENCE:0
DTSTAMP:20260422T194449Z
DTSTART:20260226T130000Z
DTEND:20260226T170000Z
SUMMARY:Физика
LOCATION:ГЗ 329
END:VEVENT
BEGIN:VEVENT
UID:e51e@192.168.245.71:3006
SEQUENCE:0
DTSTAMP:20260422T194449Z
DTSTART:20260227T090000Z
DTEND:20260227T104000Z
SUMMARY:Линейная алгебра и аналитическая геометрия
LOCATION:ГЗ 305
END:VEVENT
BEGIN:VEVENT
UID:c9cc@192.168.245.71:3006
SEQUENCE:0
DTSTAMP:20260422T194449Z
DTSTART:20260227T110000Z
DTEND:20260227T124000Z
SUMMARY:Физика
LOCATION:НИК В2.04
END:VEVENT
BEGIN:VEVENT
UID:mde3@192.168.245.71:3006
SEQUENCE:0
DTSTAMP:20260422T194449Z
DTSTART:20260227T130000Z
DTEND:20260227T144000Z
SUMMARY:История России
LOCATION:ГЗ 257
END:VEVENT
BEGIN:VEVENT
UID:h3ta@192.168.245.71:3006
SEQUENCE:0
DTSTAMP:20260422T194449Z
DTSTART:20260227T150000Z
DTEND:20260227T164000Z
SUMMARY:Факультатив по физике
LOCATION:2 к. 224
END:VEVENT
BEGIN:VEVENT
UID:qxgn@192.168.245.71:3006
SEQUENCE:0
DTSTAMP:20260422T194449Z
DTSTART:20260228T050000Z
DTEND:20260228T064000Z
SUMMARY:Элективная физическая культура и спорт
LOCATION:СК Спортивный зал
END:VEVENT
BEGIN:VEVENT
UID:wwth@192.168.245.71:3006
SEQUENCE:0
DTSTAMP:20260422T194449Z
DTSTART:20260228T070000Z
DTEND:20260228T084000Z
SUMMARY:Математический анализ
LOCATION:ГЗ 329
END:VEVENT
BEGIN:VEVENT
UID:dr4u@192.168.245.71:3006
SEQUENCE:0
DTSTAMP:20260422T194449Z
DTSTART:20260228T090000Z
DTEND:20260228T104000Z
SUMMARY:Информатика
LOCATION:2 к. 247
END:VEVENT
END:VCALENDAR