BEGIN:VCALENDAR
VERSION:2.0
PRODID:-//spbstu.ru//ical//RU
NAME:Расписание группы 5030102/50003
X-WR-CALNAME:Расписание группы 5030102/50003
TIMEZONE-ID:Europe/Moscow
X-WR-TIMEZONE:Europe/Moscow
BEGIN:VEVENT
UID:ey6x@192.168.245.71:3006
SEQUENCE:0
DTSTAMP:20260426T004937Z
DTSTART:20251013T070000Z
DTEND:20251013T084000Z
SUMMARY:Физика
LOCATION:ГЗ 324
END:VEVENT
BEGIN:VEVENT
UID:7kps@192.168.245.71:3006
SEQUENCE:0
DTSTAMP:20260426T004937Z
DTSTART:20251013T090000Z
DTEND:20251013T104000Z
SUMMARY:Основы российской государственности
LOCATION:НИК В2.03
END:VEVENT
BEGIN:VEVENT
UID:3hcr@192.168.245.71:3006
SEQUENCE:0
DTSTAMP:20260426T004937Z
DTSTART:20251014T050000Z
DTEND:20251014T064000Z
SUMMARY:Математический анализ
LOCATION:ГЗ 242
END:VEVENT
BEGIN:VEVENT
UID:8sjr@192.168.245.71:3006
SEQUENCE:0
DTSTAMP:20260426T004937Z
DTSTART:20251014T070000Z
DTEND:20251014T084000Z
SUMMARY:Основы цифровых технологий
LOCATION:1 к. лаб.3  каф. Примат
END:VEVENT
BEGIN:VEVENT
UID:5rur@192.168.245.71:3006
SEQUENCE:0
DTSTAMP:20260426T004937Z
DTSTART:20251014T070000Z
DTEND:20251014T084000Z
SUMMARY:Основы цифровых технологий
LOCATION:1 к. лаб.4  каф. Примат
END:VEVENT
BEGIN:VEVENT
UID:i8t6@192.168.245.71:3006
SEQUENCE:0
DTSTAMP:20260426T004937Z
DTSTART:20251014T090000Z
DTEND:20251014T104000Z
SUMMARY:Математический анализ
LOCATION:ГЗ 305
END:VEVENT
BEGIN:VEVENT
UID:md8v@192.168.245.71:3006
SEQUENCE:0
DTSTAMP:20260426T004937Z
DTSTART:20251014T110000Z
DTEND:20251014T124000Z
SUMMARY:Информатика
LOCATION:1 к. лаб.4  каф. Примат
END:VEVENT
BEGIN:VEVENT
UID:kiec@192.168.245.71:3006
SEQUENCE:0
DTSTAMP:20260426T004937Z
DTSTART:20251014T110000Z
DTEND:20251014T124000Z
SUMMARY:Информатика
LOCATION:1 к. лаб.3  каф. Примат
END:VEVENT
BEGIN:VEVENT
UID:6dh9@192.168.245.71:3006
SEQUENCE:0
DTSTAMP:20260426T004937Z
DTSTART:20251014T150000Z
DTEND:20251014T164000Z
SUMMARY:Русский язык как иностранный
LOCATION:15 к. 330
END:VEVENT
BEGIN:VEVENT
UID:mpkw@192.168.245.71:3006
SEQUENCE:0
DTSTAMP:20260426T004937Z
DTSTART:20251015T070000Z
DTEND:20251015T084000Z
SUMMARY:Элективная физическая культура и спорт
LOCATION:СК Секции
END:VEVENT
BEGIN:VEVENT
UID:gp85@192.168.245.71:3006
SEQUENCE:0
DTSTAMP:20260426T004937Z
DTSTART:20251015T090000Z
DTEND:20251015T104000Z
SUMMARY:Линейная алгебра и аналитическая геометрия
LOCATION:ГЗ 305
END:VEVENT
BEGIN:VEVENT
UID:z8ch@192.168.245.71:3006
SEQUENCE:0
DTSTAMP:20260426T004937Z
DTSTART:20251015T110000Z
DTEND:20251015T124000Z
SUMMARY:Физика
LOCATION:ГЗ 252
END:VEVENT
BEGIN:VEVENT
UID:1yzc@192.168.245.71:3006
SEQUENCE:0
DTSTAMP:20260426T004937Z
DTSTART:20251015T130000Z
DTEND:20251015T144000Z
SUMMARY:Линейная алгебра и аналитическая геометрия
LOCATION:ГЗ 242
END:VEVENT
BEGIN:VEVENT
UID:yzbc@192.168.245.71:3006
SEQUENCE:0
DTSTAMP:20260426T004937Z
DTSTART:20251015T150000Z
DTEND:20251015T164000Z
SUMMARY:Факультатив по физике
LOCATION:ГЗ 161
END:VEVENT
BEGIN:VEVENT
UID:inl0@192.168.245.71:3006
SEQUENCE:0
DTSTAMP:20260426T004937Z
DTSTART:20251016T070000Z
DTEND:20251016T084000Z
SUMMARY:Математический анализ
LOCATION:Мех. к. БМ
END:VEVENT
BEGIN:VEVENT
UID:4n4h@192.168.245.71:3006
SEQUENCE:0
DTSTAMP:20260426T004937Z
DTSTART:20251016T090000Z
DTEND:20251016T104000Z
SUMMARY:Информатика
LOCATION:2 к. 265
END:VEVENT
BEGIN:VEVENT
UID:hge2@192.168.245.71:3006
SEQUENCE:0
DTSTAMP:20260426T004937Z
DTSTART:20251016T110000Z
DTEND:20251016T124000Z
SUMMARY:Физика
LOCATION:ГЗ 155
END:VEVENT
BEGIN:VEVENT
UID:xxqq@192.168.245.71:3006
SEQUENCE:0
DTSTAMP:20260426T004937Z
DTSTART:20251016T110000Z
DTEND:20251016T124000Z
SUMMARY:Физика
LOCATION:ГЗ 155
END:VEVENT
BEGIN:VEVENT
UID:vf54@192.168.245.71:3006
SEQUENCE:0
DTSTAMP:20260426T004937Z
DTSTART:20251017T050000Z
DTEND:20251017T064000Z
SUMMARY:Иностранный язык: Русский язык как иностранный
LOCATION:3 к. 501
END:VEVENT
BEGIN:VEVENT
UID:pi24@192.168.245.71:3006
SEQUENCE:0
DTSTAMP:20260426T004937Z
DTSTART:20251017T070000Z
DTEND:20251017T084000Z
SUMMARY:Физика
LOCATION:ГЗ 283
END:VEVENT
BEGIN:VEVENT
UID:d103@192.168.245.71:3006
SEQUENCE:0
DTSTAMP:20260426T004937Z
DTSTART:20251017T110000Z
DTEND:20251017T124000Z
SUMMARY:Физика
LOCATION:ГЗ 161
END:VEVENT
BEGIN:VEVENT
UID:s82q@192.168.245.71:3006
SEQUENCE:0
DTSTAMP:20260426T004937Z
DTSTART:20251017T130000Z
DTEND:20251017T144000Z
SUMMARY:Экономическая культура
LOCATION:ГЗ 181
END:VEVENT
BEGIN:VEVENT
UID:2jaa@192.168.245.71:3006
SEQUENCE:0
DTSTAMP:20260426T004937Z
DTSTART:20251017T150000Z
DTEND:20251017T164000Z
SUMMARY:Факультатив по математике
LOCATION:ГЗ 329
END:VEVENT
BEGIN:VEVENT
UID:9p9z@192.168.245.71:3006
SEQUENCE:0
DTSTAMP:20260426T004937Z
DTSTART:20251018T050000Z
DTEND:20251018T064000Z
SUMMARY:Элективная физическая культура и спорт
LOCATION:СК Секции
END:VEVENT
BEGIN:VEVENT
UID:lu2h@192.168.245.71:3006
SEQUENCE:0
DTSTAMP:20260426T004937Z
DTSTART:20251018T070000Z
DTEND:20251018T084000Z
SUMMARY:Основы российской государственности
LOCATION:ГЗ 305
END:VEVENT
BEGIN:VEVENT
UID:1lm2@192.168.245.71:3006
SEQUENCE:0
DTSTAMP:20260426T004937Z
DTSTART:20251018T090000Z
DTEND:20251018T104000Z
SUMMARY:Иностранный язык: Базовый курс
LOCATION:ГЗ 240
END:VEVENT
BEGIN:VEVENT
UID:dsd8@192.168.245.71:3006
SEQUENCE:0
DTSTAMP:20260426T004937Z
DTSTART:20251018T110000Z
DTEND:20251018T124000Z
SUMMARY:Математический анализ
LOCATION:ГЗ 242
END:VEVENT
BEGIN:VEVENT
UID:hogc@192.168.245.71:3006
SEQUENCE:0
DTSTAMP:20260426T004937Z
DTSTART:20251018T130000Z
DTEND:20251018T144000Z
SUMMARY:Иностранный язык: Русский язык как иностранный
LOCATION:3 к. 211
END:VEVENT
END:VCALENDAR